BEGIN:VCALENDAR
VERSION:2.0
PRODID:-//Stichting MeeDoen S&amp;B - ECPv6.15.20//NONSGML v1.0//EN
CALSCALE:GREGORIAN
METHOD:PUBLISH
X-WR-CALNAME:Stichting MeeDoen S&amp;B
X-ORIGINAL-URL:https://meedoensenb.nl
X-WR-CALDESC:Evenementen voor Stichting MeeDoen S&amp;B
REFRESH-INTERVAL;VALUE=DURATION:PT1H
X-Robots-Tag:noindex
X-PUBLISHED-TTL:PT1H
BEGIN:VTIMEZONE
TZID:Europe/Amsterdam
BEGIN:DAYLIGHT
TZOFFSETFROM:+0100
TZOFFSETTO:+0200
TZNAME:CEST
DTSTART:20200329T010000
END:DAYLIGHT
BEGIN:STANDARD
TZOFFSETFROM:+0200
TZOFFSETTO:+0100
TZNAME:CET
DTSTART:20201025T010000
END:STANDARD
BEGIN:DAYLIGHT
TZOFFSETFROM:+0100
TZOFFSETTO:+0200
TZNAME:CEST
DTSTART:20210328T010000
END:DAYLIGHT
BEGIN:STANDARD
TZOFFSETFROM:+0200
TZOFFSETTO:+0100
TZNAME:CET
DTSTART:20211031T010000
END:STANDARD
BEGIN:DAYLIGHT
TZOFFSETFROM:+0100
TZOFFSETTO:+0200
TZNAME:CEST
DTSTART:20220327T010000
END:DAYLIGHT
BEGIN:STANDARD
TZOFFSETFROM:+0200
TZOFFSETTO:+0100
TZNAME:CET
DTSTART:20221030T010000
END:STANDARD
END:VTIMEZONE
BEGIN:VEVENT
DTSTART;TZID=Europe/Amsterdam:20210616T200000
DTEND;TZID=Europe/Amsterdam:20210616T210000
DTSTAMP:20260426T061959
CREATED:20210531T160618Z
LAST-MODIFIED:20210607T072700Z
UID:5968-1623873600-1623877200@meedoensenb.nl
SUMMARY:Wandelfestijn Avond Wandel 4-Daagse  -  DAG 3
DESCRIPTION:Dit jaar wordt in Son en Breugel weer het jaarlijks wandelfestijn de Avond Wandel 4-Daagse gehouden. \nDit jaar geen 4 dagen\, maar een hele maand! Dit jaar willen wij graag samen met jullie en een aantal van onze vaste vrijwilligers meedoen met deze leuke wandeltocht. \nWe lopen in de maand juni\, 1 avond in de week een route van 2\,5 km. We starten om 19.00u en eindigen om 20.00u bij Carrousel\, Nieuwstraat 52 in Son. De loopdata zijn: woensdag 2\, 9\, 16 en 23 juni.  \nWe houden de actuele corona-maatregelen goed in de gaten en spelen hier op in. We hopen gezamenlijk sportief te kunnen genieten van de buitenlucht! Meer informatie over de vierdaagse volgt na onze aanmelding. \n\nAanmelden vóór dinsdag 25 mei via de mail info@meedoensenb.nl\nWe starten en eindigen bij Carrousel\, Nieuwstraat 52\nIedereen die heeft meegedaan\, ontvangt een medaille.\nDeze activiteit is voor alle leeftijden.\n\n  \n 
URL:https://meedoensenb.nl/evenement/wandelfestijn-avond-wandel-4-daagse-dag-2/
LOCATION:Noord Brabant
ATTACH;FMTTYPE=image/png:https://meedoensenb.nl/wp-content/uploads/2021/05/Wandel.png
END:VEVENT
END:VCALENDAR