BEGIN:VCALENDAR
VERSION:2.0
PRODID:-//Stichting MeeDoen S&amp;B - ECPv6.15.20//NONSGML v1.0//EN
CALSCALE:GREGORIAN
METHOD:PUBLISH
X-ORIGINAL-URL:https://meedoensenb.nl
X-WR-CALDESC:Evenementen voor Stichting MeeDoen S&amp;B
REFRESH-INTERVAL;VALUE=DURATION:PT1H
X-Robots-Tag:noindex
X-PUBLISHED-TTL:PT1H
BEGIN:VTIMEZONE
TZID:Europe/Amsterdam
BEGIN:DAYLIGHT
TZOFFSETFROM:+0100
TZOFFSETTO:+0200
TZNAME:CEST
DTSTART:20200329T010000
END:DAYLIGHT
BEGIN:STANDARD
TZOFFSETFROM:+0200
TZOFFSETTO:+0100
TZNAME:CET
DTSTART:20201025T010000
END:STANDARD
BEGIN:DAYLIGHT
TZOFFSETFROM:+0100
TZOFFSETTO:+0200
TZNAME:CEST
DTSTART:20210328T010000
END:DAYLIGHT
BEGIN:STANDARD
TZOFFSETFROM:+0200
TZOFFSETTO:+0100
TZNAME:CET
DTSTART:20211031T010000
END:STANDARD
BEGIN:DAYLIGHT
TZOFFSETFROM:+0100
TZOFFSETTO:+0200
TZNAME:CEST
DTSTART:20220327T010000
END:DAYLIGHT
BEGIN:STANDARD
TZOFFSETFROM:+0200
TZOFFSETTO:+0100
TZNAME:CET
DTSTART:20221030T010000
END:STANDARD
END:VTIMEZONE
BEGIN:VEVENT
DTSTART;TZID=Europe/Amsterdam:20210710T170000
DTEND;TZID=Europe/Amsterdam:20210710T180000
DTSTAMP:20260426T044412
CREATED:20210614T105505Z
LAST-MODIFIED:20210706T102150Z
UID:5994-1625936400-1625940000@meedoensenb.nl
SUMMARY:Zomerse Kookactiviteit-Thuis
DESCRIPTION:Het MeeDoen seizoen zit er al weer bijna op! Graag willen we jullie uitnodigen voor een leuke sluitings-activiteit ‘De Zomerse Kookworkshop-Thuis op zaterdagmiddag 10 juli. \nWat gaan we doen? \nWe gaan samen een hoofdgerecht en een dessert maken: Pannenkoeken-spaghetti’ en ‘Aardbeien Romanov ’. Jullie ontvangen thuis een tas met ingrediënten en een duidelijke uitleg met foto’s hoe je alles gaat maken. Zorg ervoor dat je alle materialen en ingrediënten hebt klaar staan. Via Teams gaan we samen aan de slag en na afloop eten we al het lekkers samen op. \n\nAanmelden vóór 25 juni via de mail info@meedoensenb.nl\nHeb je allergieën? Geef dat aan ons door.\nWe geven de tas met bakspulletjes op vrijdag 10 juli thuis af.
URL:https://meedoensenb.nl/evenement/zomerse-kookactiviteit-thuis/
LOCATION:Noord Brabant
ATTACH;FMTTYPE=image/png:https://meedoensenb.nl/wp-content/uploads/2021/06/foto.png
END:VEVENT
END:VCALENDAR