BEGIN:VCALENDAR
VERSION:2.0
PRODID:-//Stichting MeeDoen S&amp;B - ECPv6.15.20//NONSGML v1.0//EN
CALSCALE:GREGORIAN
METHOD:PUBLISH
X-ORIGINAL-URL:https://meedoensenb.nl
X-WR-CALDESC:Evenementen voor Stichting MeeDoen S&amp;B
REFRESH-INTERVAL;VALUE=DURATION:PT1H
X-Robots-Tag:noindex
X-PUBLISHED-TTL:PT1H
BEGIN:VTIMEZONE
TZID:Europe/Amsterdam
BEGIN:DAYLIGHT
TZOFFSETFROM:+0100
TZOFFSETTO:+0200
TZNAME:CEST
DTSTART:20200329T010000
END:DAYLIGHT
BEGIN:STANDARD
TZOFFSETFROM:+0200
TZOFFSETTO:+0100
TZNAME:CET
DTSTART:20201025T010000
END:STANDARD
BEGIN:DAYLIGHT
TZOFFSETFROM:+0100
TZOFFSETTO:+0200
TZNAME:CEST
DTSTART:20210328T010000
END:DAYLIGHT
BEGIN:STANDARD
TZOFFSETFROM:+0200
TZOFFSETTO:+0100
TZNAME:CET
DTSTART:20211031T010000
END:STANDARD
BEGIN:DAYLIGHT
TZOFFSETFROM:+0100
TZOFFSETTO:+0200
TZNAME:CEST
DTSTART:20220327T010000
END:DAYLIGHT
BEGIN:STANDARD
TZOFFSETFROM:+0200
TZOFFSETTO:+0100
TZNAME:CET
DTSTART:20221030T010000
END:STANDARD
END:VTIMEZONE
BEGIN:VEVENT
DTSTART;TZID=Europe/Amsterdam:20210918T141500
DTEND;TZID=Europe/Amsterdam:20210918T174500
DTSTAMP:20260426T012825
CREATED:20210614T111408Z
LAST-MODIFIED:20210814T174949Z
UID:5997-1631974500-1631987100@meedoensenb.nl
SUMMARY:Uitstapje Dierenpark Zie-ZOO
DESCRIPTION:Graag nodigen wij je uit om op zaterdag 18 september samen met ons naar Dierenpark Zie-ZOO in Volkel te gaan. In dit dierenpark vind je dieren uit 7 werelddelen. \nWat gaan we doen? \nWe gaan samen met auto’s naar het dierenpark. In het park lopen we in kleine groepjes op gepaste afstand met voldoende begeleiders. Degene die het leuk vindt\, kan meedoen aan een speurtocht door het dierenpark. Tussendoor eten en drinken we nog wat lekkers. \nMeld je snel aan voor dit leuke uitstapje en ga gezellig met ons mee! \n\nAanmelden via de mail info@meedoensenb.nl\nIedereen die kan meedoen\, ontvangt eind augustus een bevestigingsmail. We kunnen maximaal 15 jongeren meenemen.\nWe verzamelen om 13.15u bij Carrousel en vertrekken gezamenlijk met auto’s naar het dierenpark in Volkel. Om 16.45u kunnen je ouders je weer komen ophalen bij Carrousel\n\nLocatie:\nDierenpark Zie-ZOO Volkel \nTijd: 13.15u Vertrek\n13.45 -16.15u Park\n16.45u Terug \nKosten: € 5\,00 (via automatische incasso) \nDierenpark Zie-ZOO is de eerste ZORGDIERENTUIN van Nederland en biedt dagbesteding aan mensen met autisme (www.dierenparkziezoo.nl) \nDEZE ACTIVITEIT IS VOLGEBOEKT!  \n 
URL:https://meedoensenb.nl/evenement/uitstapje-naar-dierenpark-zie-zoo-openingsactiviteit/
LOCATION:Dierenpark Zie-ZOO\, Zeelandsedijk 14b\, Volkel\, Noord Brabant\, 5408 SM\, Nederland
ATTACH;FMTTYPE=image/jpeg:https://meedoensenb.nl/wp-content/uploads/2021/06/foto.jpg
END:VEVENT
END:VCALENDAR