BEGIN:VCALENDAR
VERSION:2.0
PRODID:-//Stichting MeeDoen S&amp;B - ECPv6.15.20//NONSGML v1.0//EN
CALSCALE:GREGORIAN
METHOD:PUBLISH
X-WR-CALNAME:Stichting MeeDoen S&amp;B
X-ORIGINAL-URL:https://meedoensenb.nl
X-WR-CALDESC:Evenementen voor Stichting MeeDoen S&amp;B
REFRESH-INTERVAL;VALUE=DURATION:PT1H
X-Robots-Tag:noindex
X-PUBLISHED-TTL:PT1H
BEGIN:VTIMEZONE
TZID:Europe/Amsterdam
BEGIN:DAYLIGHT
TZOFFSETFROM:+0100
TZOFFSETTO:+0200
TZNAME:CEST
DTSTART:20200329T010000
END:DAYLIGHT
BEGIN:STANDARD
TZOFFSETFROM:+0200
TZOFFSETTO:+0100
TZNAME:CET
DTSTART:20201025T010000
END:STANDARD
BEGIN:DAYLIGHT
TZOFFSETFROM:+0100
TZOFFSETTO:+0200
TZNAME:CEST
DTSTART:20210328T010000
END:DAYLIGHT
BEGIN:STANDARD
TZOFFSETFROM:+0200
TZOFFSETTO:+0100
TZNAME:CET
DTSTART:20211031T010000
END:STANDARD
BEGIN:DAYLIGHT
TZOFFSETFROM:+0100
TZOFFSETTO:+0200
TZNAME:CEST
DTSTART:20220327T010000
END:DAYLIGHT
BEGIN:STANDARD
TZOFFSETFROM:+0200
TZOFFSETTO:+0100
TZNAME:CET
DTSTART:20221030T010000
END:STANDARD
END:VTIMEZONE
BEGIN:VEVENT
DTSTART;TZID=Europe/Amsterdam:20210929T200000
DTEND;TZID=Europe/Amsterdam:20210929T210000
DTSTAMP:20260425T234536
CREATED:20210913T113111Z
LAST-MODIFIED:20210913T113111Z
UID:6225-1632945600-1632949200@meedoensenb.nl
SUMMARY:Muziekworkshop
DESCRIPTION:Het is weer tijd voor een leuke muziekworkshop op woensdag 29 september van 19.00- 20.00 uur in basisschool de Stokland\, Jupiterstraat 3 in Breugel. \nWat gaan we doen? \nLizet en Annette gaan met jullie in spelvorm leuke liedjes spelen en samen zingen. Deze keer weer met de gitaar en de accordeon. Jullie mogen ook weer meezingen en mee spelen met de instrumenten. \nDe muziekjuffen hebben er weer zin in. Jullie ook? Meld je dan snel aan via de mail. \n\ndeze muziekworkshop is voor alle leeftijden; wel gericht op basisschool niveau\naanmelden via de mail info@meedoensenb.nl \nwe zorgen voor een ruimte waar we voldoende afstand van elkaar kunnen houden\ndeelname is gratis\n\n 
URL:https://meedoensenb.nl/evenement/muziekworkshop-5/
LOCATION:Basisschool de Stokland\, Son en Breugel\, Nederland
ATTACH;FMTTYPE=image/jpeg:https://meedoensenb.nl/wp-content/uploads/2021/03/Muziek.jpeg
END:VEVENT
END:VCALENDAR