BEGIN:VCALENDAR
VERSION:2.0
PRODID:-//Stichting MeeDoen S&amp;B - ECPv6.15.20//NONSGML v1.0//EN
CALSCALE:GREGORIAN
METHOD:PUBLISH
X-WR-CALNAME:Stichting MeeDoen S&amp;B
X-ORIGINAL-URL:https://meedoensenb.nl
X-WR-CALDESC:Evenementen voor Stichting MeeDoen S&amp;B
REFRESH-INTERVAL;VALUE=DURATION:PT1H
X-Robots-Tag:noindex
X-PUBLISHED-TTL:PT1H
BEGIN:VTIMEZONE
TZID:Europe/Amsterdam
BEGIN:DAYLIGHT
TZOFFSETFROM:+0100
TZOFFSETTO:+0200
TZNAME:CEST
DTSTART:20210328T010000
END:DAYLIGHT
BEGIN:STANDARD
TZOFFSETFROM:+0200
TZOFFSETTO:+0100
TZNAME:CET
DTSTART:20211031T010000
END:STANDARD
BEGIN:DAYLIGHT
TZOFFSETFROM:+0100
TZOFFSETTO:+0200
TZNAME:CEST
DTSTART:20220327T010000
END:DAYLIGHT
BEGIN:STANDARD
TZOFFSETFROM:+0200
TZOFFSETTO:+0100
TZNAME:CET
DTSTART:20221030T010000
END:STANDARD
BEGIN:DAYLIGHT
TZOFFSETFROM:+0100
TZOFFSETTO:+0200
TZNAME:CEST
DTSTART:20230326T010000
END:DAYLIGHT
BEGIN:STANDARD
TZOFFSETFROM:+0200
TZOFFSETTO:+0100
TZNAME:CET
DTSTART:20231029T010000
END:STANDARD
END:VTIMEZONE
BEGIN:VEVENT
DTSTART;TZID=Europe/Amsterdam:20220403T151300
DTEND;TZID=Europe/Amsterdam:20220403T183000
DTSTAMP:20260425T143344
CREATED:20220301T152722Z
LAST-MODIFIED:20220301T152722Z
UID:6574-1648998780-1649010600@meedoensenb.nl
SUMMARY:Chocolade workshop Paasei maken
DESCRIPTION:Bij Creatief & lekker werkt Trudie. Zij weet alles van chocolade maken en banketbakken. Zij gaat vertellen en uitleggen hoe wij het beste kunnen werken met chocolade. Tijdens de workshop maken we allemaal een eigen chocolade paasei. Als het paasei klaar is\, mag je het versieren met fondant. Als je klaar bent\, verpakken we het ei en kun je het prachtige chocolade ei mee naar huis nemen. \nIedereen kan meedoen aan deze activiteit. Er zijn voldoende begeleiders om mee te helpen tijdens de workshop. Er wordt voor wat drinken tijdens de workshop gezorgd. \nExtra informatie: \n\nAlle leeftijden\nAanmelden via info@meedoensenb.nl\nGeef bij je aanmelding door of je melkchocolade mag eten!\nAantal deelnemers: maximaal 12. We werken met een wachtlijst.\nIedereen die kan meedoen\, ontvangt een bevestigingsmail.\nWe rijden gezamenlijk naar Nistelrode.
URL:https://meedoensenb.nl/evenement/chocolade-workshop-paasei-maken-2/
LOCATION:Creatief en Lekker\, Den Hof 17\, Nistelrode\, Noord Brabant\, 5388 GN\, Nederland
ATTACH;FMTTYPE=image/png:https://meedoensenb.nl/wp-content/uploads/2022/02/foto-paasei.png
END:VEVENT
END:VCALENDAR