BEGIN:VCALENDAR
VERSION:2.0
PRODID:-//Stichting MeeDoen S&amp;B - ECPv6.15.20//NONSGML v1.0//EN
CALSCALE:GREGORIAN
METHOD:PUBLISH
X-WR-CALNAME:Stichting MeeDoen S&amp;B
X-ORIGINAL-URL:https://meedoensenb.nl
X-WR-CALDESC:Evenementen voor Stichting MeeDoen S&amp;B
REFRESH-INTERVAL;VALUE=DURATION:PT1H
X-Robots-Tag:noindex
X-PUBLISHED-TTL:PT1H
BEGIN:VTIMEZONE
TZID:Europe/Amsterdam
BEGIN:DAYLIGHT
TZOFFSETFROM:+0100
TZOFFSETTO:+0200
TZNAME:CEST
DTSTART:20210328T010000
END:DAYLIGHT
BEGIN:STANDARD
TZOFFSETFROM:+0200
TZOFFSETTO:+0100
TZNAME:CET
DTSTART:20211031T010000
END:STANDARD
BEGIN:DAYLIGHT
TZOFFSETFROM:+0100
TZOFFSETTO:+0200
TZNAME:CEST
DTSTART:20220327T010000
END:DAYLIGHT
BEGIN:STANDARD
TZOFFSETFROM:+0200
TZOFFSETTO:+0100
TZNAME:CET
DTSTART:20221030T010000
END:STANDARD
BEGIN:DAYLIGHT
TZOFFSETFROM:+0100
TZOFFSETTO:+0200
TZNAME:CEST
DTSTART:20230326T010000
END:DAYLIGHT
BEGIN:STANDARD
TZOFFSETFROM:+0200
TZOFFSETTO:+0100
TZNAME:CET
DTSTART:20231029T010000
END:STANDARD
END:VTIMEZONE
BEGIN:VEVENT
DTSTART;TZID=Europe/Amsterdam:20220517T200000
DTEND;TZID=Europe/Amsterdam:20220517T213000
DTSTAMP:20260425T130325
CREATED:20220504T083604Z
LAST-MODIFIED:20220504T083604Z
UID:6738-1652817600-1652823000@meedoensenb.nl
SUMMARY:Crea-activiteit Zomerkrans maken
DESCRIPTION:In mei organiseren we weer een leuke crea-activiteit. Deze keer gaan we een Zomerkrans maken. \nJullie krijgen allemaal een kartonnen ring en wasknijpers. Deze wasknijpers schilder je eerst voordat je ze op de krans plakt. Daarna mag je de krans versieren met allerlei leuke materialen zoals schelpen\, visnet\, houten figuurtjes etc. Leuk om daarna buiten op te hangen of misschien een mooi plekje op je kamer te geven! \nEr is een voorbeeld aanwezig\, maar je mag natuurlijk ook naar eigen smaak je krans maken. Wij zorgen voor voldoende materialen voor iedereen. \n\nAanmelden vóór dinsdag 10 mei via de mail info@meedoensenb.nl\nEr kunnen 15 kinderen meedoen. We werken met een wachtlijst\, mochten er meer dan 15 aanmeldingen binnenkomen.\nIedereen die mee kan doen\, ontvangt een bevestiging.\nLet op: We zitten deze keer in een ruimte op de 1e verdieping van het Vestzak. Je loopt via de trap naar boven. Er is ook een lift aanwezig.\nEr is tussendoor een korte pauze.\nTrek oude kleding aan want we werken met verf.\nEr zijn voldoende vrijwilligers aanwezig om te helpen
URL:https://meedoensenb.nl/evenement/crea-activiteit-zomerkrans-maken/
LOCATION:Noord Brabant
ATTACH;FMTTYPE=image/jpeg:https://meedoensenb.nl/wp-content/uploads/2022/05/Afbeelding1.jpg
END:VEVENT
END:VCALENDAR