BEGIN:VCALENDAR
VERSION:2.0
PRODID:-//Stichting MeeDoen S&amp;B - ECPv6.15.20//NONSGML v1.0//EN
CALSCALE:GREGORIAN
METHOD:PUBLISH
X-WR-CALNAME:Stichting MeeDoen S&amp;B
X-ORIGINAL-URL:https://meedoensenb.nl
X-WR-CALDESC:Evenementen voor Stichting MeeDoen S&amp;B
REFRESH-INTERVAL;VALUE=DURATION:PT1H
X-Robots-Tag:noindex
X-PUBLISHED-TTL:PT1H
BEGIN:VTIMEZONE
TZID:Europe/Amsterdam
BEGIN:DAYLIGHT
TZOFFSETFROM:+0100
TZOFFSETTO:+0200
TZNAME:CEST
DTSTART:20210328T010000
END:DAYLIGHT
BEGIN:STANDARD
TZOFFSETFROM:+0200
TZOFFSETTO:+0100
TZNAME:CET
DTSTART:20211031T010000
END:STANDARD
BEGIN:DAYLIGHT
TZOFFSETFROM:+0100
TZOFFSETTO:+0200
TZNAME:CEST
DTSTART:20220327T010000
END:DAYLIGHT
BEGIN:STANDARD
TZOFFSETFROM:+0200
TZOFFSETTO:+0100
TZNAME:CET
DTSTART:20221030T010000
END:STANDARD
BEGIN:DAYLIGHT
TZOFFSETFROM:+0100
TZOFFSETTO:+0200
TZNAME:CEST
DTSTART:20230326T010000
END:DAYLIGHT
BEGIN:STANDARD
TZOFFSETFROM:+0200
TZOFFSETTO:+0100
TZNAME:CET
DTSTART:20231029T010000
END:STANDARD
END:VTIMEZONE
BEGIN:VEVENT
DTSTART;TZID=Europe/Amsterdam:20221214T190000
DTEND;TZID=Europe/Amsterdam:20221214T203000
DTSTAMP:20260425T020700
CREATED:20221025T104417Z
LAST-MODIFIED:20221025T104417Z
UID:8275-1671044400-1671049800@meedoensenb.nl
SUMMARY:Crea-activiteit Kerst Ring
DESCRIPTION:Op woensdag 14 december organiseren we een leuke Kerst crea-activiteit. \nWe gaan leuke Kerst Ringen maken. Deze kun je thuis neerzetten. Wij zorgen voor de materialen en de voorbeelden\, zodat je kunt zien hoe je deze kerstknutsel maakt. Het is niet moeilijk; er zijn voldoende vrijwilligers om jullie te helpen. Tussendoor eten en drinken we wat lekkers. \nKeuze ringen \nJe kunt kiezen uit 2 verschillende ringen\nRing 1 Kerst Gnoom of ring 2 Merry Christmas \nAanmelden vóór vrijdag 4 november (ivm de inkoop van de materialen) via de mail: info@meedoensenb.nl \nMax. 15 deelnemers: iedereen die kan meedoen\, ontvangt een bevestigingsmail \n 
URL:https://meedoensenb.nl/evenement/crea-activiteit-kerst-ring/
LOCATION:Noord Brabant
ATTACH;FMTTYPE=image/png:https://meedoensenb.nl/wp-content/uploads/2022/10/Kerst-Ring.png
END:VEVENT
END:VCALENDAR