BEGIN:VCALENDAR
VERSION:2.0
PRODID:-//Stichting MeeDoen S&amp;B - ECPv6.15.20//NONSGML v1.0//EN
CALSCALE:GREGORIAN
METHOD:PUBLISH
X-ORIGINAL-URL:https://meedoensenb.nl
X-WR-CALDESC:Evenementen voor Stichting MeeDoen S&amp;B
REFRESH-INTERVAL;VALUE=DURATION:PT1H
X-Robots-Tag:noindex
X-PUBLISHED-TTL:PT1H
BEGIN:VTIMEZONE
TZID:Europe/Amsterdam
BEGIN:DAYLIGHT
TZOFFSETFROM:+0100
TZOFFSETTO:+0200
TZNAME:CEST
DTSTART:20210328T010000
END:DAYLIGHT
BEGIN:STANDARD
TZOFFSETFROM:+0200
TZOFFSETTO:+0100
TZNAME:CET
DTSTART:20211031T010000
END:STANDARD
BEGIN:DAYLIGHT
TZOFFSETFROM:+0100
TZOFFSETTO:+0200
TZNAME:CEST
DTSTART:20220327T010000
END:DAYLIGHT
BEGIN:STANDARD
TZOFFSETFROM:+0200
TZOFFSETTO:+0100
TZNAME:CET
DTSTART:20221030T010000
END:STANDARD
BEGIN:DAYLIGHT
TZOFFSETFROM:+0100
TZOFFSETTO:+0200
TZNAME:CEST
DTSTART:20230326T010000
END:DAYLIGHT
BEGIN:STANDARD
TZOFFSETFROM:+0200
TZOFFSETTO:+0100
TZNAME:CET
DTSTART:20231029T010000
END:STANDARD
END:VTIMEZONE
BEGIN:VEVENT
DTSTART;TZID=Europe/Amsterdam:20221218T140000
DTEND;TZID=Europe/Amsterdam:20221218T163000
DTSTAMP:20260425T020812
CREATED:20221206T102120Z
LAST-MODIFIED:20221206T102151Z
UID:8511-1671372000-1671381000@meedoensenb.nl
SUMMARY:Winterwandeling
DESCRIPTION:Op zondag 18 december organiseert de Avond Wandel 4-Daagse een winterwandeling langs een versierde route in Son en Breugel. Deze wandeling start om 14.00u bij Oase Son en is ongeveer 4 km. De route loopt door het hertenkamp waar de kerststal te bewonderen is\, langs de kerk in Breugel en als deze open is\, mag je daar ook de kerststal bezoeken. \nDe mensen die langs de route wonen\, zorgen ervoor dat alles mooi versierd is met lampjes en kerst- en winterversiering achter het raam of in de tuin. Zo wordt er een mooie feestelijke route gecreëerd. Dat is hartstikke mooi! \nOok wij van stg. MeeDoen lopen samen met onze jongeren en hun ouders mee tijdens deze wandeling. Vind jij het ook leuk om met ons mee te lopen? Meld je dan aan via de mail info@meedoensenb.nl \nWe verzamelen om 13.45u bij het Dommelhuis en lopen dan samen naar de Oase. \n 
URL:https://meedoensenb.nl/evenement/winterwandeling/
LOCATION:Noord Brabant
ATTACH;FMTTYPE=image/jpeg:https://meedoensenb.nl/wp-content/uploads/2022/12/foto.jpg
END:VEVENT
END:VCALENDAR