BEGIN:VCALENDAR
VERSION:2.0
PRODID:-//Stichting MeeDoen S&amp;B - ECPv6.15.20//NONSGML v1.0//EN
CALSCALE:GREGORIAN
METHOD:PUBLISH
X-ORIGINAL-URL:https://meedoensenb.nl
X-WR-CALDESC:Evenementen voor Stichting MeeDoen S&amp;B
REFRESH-INTERVAL;VALUE=DURATION:PT1H
X-Robots-Tag:noindex
X-PUBLISHED-TTL:PT1H
BEGIN:VTIMEZONE
TZID:Europe/Amsterdam
BEGIN:DAYLIGHT
TZOFFSETFROM:+0100
TZOFFSETTO:+0200
TZNAME:CEST
DTSTART:20220327T010000
END:DAYLIGHT
BEGIN:STANDARD
TZOFFSETFROM:+0200
TZOFFSETTO:+0100
TZNAME:CET
DTSTART:20221030T010000
END:STANDARD
BEGIN:DAYLIGHT
TZOFFSETFROM:+0100
TZOFFSETTO:+0200
TZNAME:CEST
DTSTART:20230326T010000
END:DAYLIGHT
BEGIN:STANDARD
TZOFFSETFROM:+0200
TZOFFSETTO:+0100
TZNAME:CET
DTSTART:20231029T010000
END:STANDARD
BEGIN:DAYLIGHT
TZOFFSETFROM:+0100
TZOFFSETTO:+0200
TZNAME:CEST
DTSTART:20240331T010000
END:DAYLIGHT
BEGIN:STANDARD
TZOFFSETFROM:+0200
TZOFFSETTO:+0100
TZNAME:CET
DTSTART:20241027T010000
END:STANDARD
END:VTIMEZONE
BEGIN:VEVENT
DTSTART;TZID=Europe/Amsterdam:20230211T184500
DTEND;TZID=Europe/Amsterdam:20230211T203000
DTSTAMP:20260424T231915
CREATED:20221121T124304Z
LAST-MODIFIED:20230102T114935Z
UID:8422-1676141100-1676147400@meedoensenb.nl
SUMMARY:Kegelavond
DESCRIPTION:Het is weer tijd voor een gezellige kegelavond op: \nDatum:               zaterdag 11 februari 2023 \nActiviteit:           Kegelen \nLocatie:              De Vresselse Hut\, Vresselseweg 33  Sint Oedenrode \nTijd:                    van  18.45 tot ± 20.30u \nKosten:              € 3\,50 pp (via automatische incasso) \nAanmelden:      via onze mail:  info@meedoensenb.nl \n  \nWat gaan we doen? \nWe hebben alle kegelbanen gereserveerd om een uurtje gezellig te kegelen. Per baan speelt een groepje jongeren bij elkaar. Het maakt niet uit als je het nog nooit gedaan hebt: kegelen is niet moeilijk en leuk om te doen. Tussendoor zijn er lekkere hapjes en drankjes. \n 
URL:https://meedoensenb.nl/evenement/kegelavond/
LOCATION:De Vresselse Hut\, Vresselseweg 33\, Sint Oedenrode\, Noord Brabant\, 5491 PA
ATTACH;FMTTYPE=image/jpeg:https://meedoensenb.nl/wp-content/uploads/2021/01/Foto-kegelen.jpg
END:VEVENT
END:VCALENDAR