BEGIN:VCALENDAR
VERSION:2.0
PRODID:-//Stichting MeeDoen S&amp;B - ECPv6.15.20//NONSGML v1.0//EN
CALSCALE:GREGORIAN
METHOD:PUBLISH
X-ORIGINAL-URL:https://meedoensenb.nl
X-WR-CALDESC:Evenementen voor Stichting MeeDoen S&amp;B
REFRESH-INTERVAL;VALUE=DURATION:PT1H
X-Robots-Tag:noindex
X-PUBLISHED-TTL:PT1H
BEGIN:VTIMEZONE
TZID:Europe/Amsterdam
BEGIN:DAYLIGHT
TZOFFSETFROM:+0100
TZOFFSETTO:+0200
TZNAME:CEST
DTSTART:20220327T010000
END:DAYLIGHT
BEGIN:STANDARD
TZOFFSETFROM:+0200
TZOFFSETTO:+0100
TZNAME:CET
DTSTART:20221030T010000
END:STANDARD
BEGIN:DAYLIGHT
TZOFFSETFROM:+0100
TZOFFSETTO:+0200
TZNAME:CEST
DTSTART:20230326T010000
END:DAYLIGHT
BEGIN:STANDARD
TZOFFSETFROM:+0200
TZOFFSETTO:+0100
TZNAME:CET
DTSTART:20231029T010000
END:STANDARD
BEGIN:DAYLIGHT
TZOFFSETFROM:+0100
TZOFFSETTO:+0200
TZNAME:CEST
DTSTART:20240331T010000
END:DAYLIGHT
BEGIN:STANDARD
TZOFFSETFROM:+0200
TZOFFSETTO:+0100
TZNAME:CET
DTSTART:20241027T010000
END:STANDARD
END:VTIMEZONE
BEGIN:VEVENT
DTSTART;TZID=Europe/Amsterdam:20230225T120000
DTEND;TZID=Europe/Amsterdam:20230225T150000
DTSTAMP:20260424T231915
CREATED:20221121T130533Z
LAST-MODIFIED:20230131T125512Z
UID:8425-1677326400-1677337200@meedoensenb.nl
SUMMARY:Pannekoekenmiddag
DESCRIPTION:In het najaar van 2022 heeft de Goederen- en dienstenveiling in Son en Breugel plaatsgevonden. Tijdens deze veiling werden er verschillende ‘kavels’ verkocht. Eén van die kavels was ‘een gezellige\, geheel verzorgde Pannekoekenmiddag in restaurant ’t Kleijn Geluck in Son’. \nStichting Beach Event heeft deze kavel gekocht en wil deze kavel graag aanbieden aan de jongeren van stichting MeeDoen. Daar zijn we hartstikke blij mee!! \nIn ‘t kort \nDatum:              zaterdag 25 februari \nLocatie:             restaurant ’t Kleijn Geluck\, Raadhuisplein 20\, Son \nTijd:                    groep 1 van 12.00-13.15u  –  groep 2 van 13.30-14.45u \nKosten:              deze activiteit is gratis \nHeb je een allergie? Geef het aan ons door\, dan houdt de kok daar rekening mee (je krijgt dan pannenkoeken gemaakt op basis van water). \nWat gaan we doen? \nJe wordt op zaterdag 25 februari als echte gast ontvangen in restaurant ’t Kleijn Geluck. We zitten allemaal aan mooi gedekte tafels en Kok Rick gaat samen met zijn collega’s heerlijke pannenkoeken bakken. Je krijgt er natuurlijk ook wat lekkers te drinken bij.  Omdat we iedereen graag willen laten meedoen\, verdelen we jullie in 2 groepen: groep 1 wordt verwacht om 12.00u en groep 2 om 13.30u. Geef bij je aanmelding aan in welke groep je kunt meedoen of dat je beide beschikbaar bent. \nDEZE ACTIVITEIT IS VOLGEBOEKT ( JE WORDT OP DE WACHTLIJST GEPLAATST).
URL:https://meedoensenb.nl/evenement/pannekoekenmiddag/
LOCATION:Restaurant ’t Kleijn Geluck\, Raadhuisplein 20\, Son en Breugel\, Noord Brabant\, 5691 AM
ATTACH;FMTTYPE=image/png:https://meedoensenb.nl/wp-content/uploads/2022/11/foto-2.png
END:VEVENT
END:VCALENDAR