BEGIN:VCALENDAR
VERSION:2.0
PRODID:-//Stichting MeeDoen S&amp;B - ECPv6.15.20//NONSGML v1.0//EN
CALSCALE:GREGORIAN
METHOD:PUBLISH
X-WR-CALNAME:Stichting MeeDoen S&amp;B
X-ORIGINAL-URL:https://meedoensenb.nl
X-WR-CALDESC:Evenementen voor Stichting MeeDoen S&amp;B
REFRESH-INTERVAL;VALUE=DURATION:PT1H
X-Robots-Tag:noindex
X-PUBLISHED-TTL:PT1H
BEGIN:VTIMEZONE
TZID:Europe/Amsterdam
BEGIN:DAYLIGHT
TZOFFSETFROM:+0100
TZOFFSETTO:+0200
TZNAME:CEST
DTSTART:20220327T010000
END:DAYLIGHT
BEGIN:STANDARD
TZOFFSETFROM:+0200
TZOFFSETTO:+0100
TZNAME:CET
DTSTART:20221030T010000
END:STANDARD
BEGIN:DAYLIGHT
TZOFFSETFROM:+0100
TZOFFSETTO:+0200
TZNAME:CEST
DTSTART:20230326T010000
END:DAYLIGHT
BEGIN:STANDARD
TZOFFSETFROM:+0200
TZOFFSETTO:+0100
TZNAME:CET
DTSTART:20231029T010000
END:STANDARD
BEGIN:DAYLIGHT
TZOFFSETFROM:+0100
TZOFFSETTO:+0200
TZNAME:CEST
DTSTART:20240331T010000
END:DAYLIGHT
BEGIN:STANDARD
TZOFFSETFROM:+0200
TZOFFSETTO:+0100
TZNAME:CET
DTSTART:20241027T010000
END:STANDARD
END:VTIMEZONE
BEGIN:VEVENT
DTSTART;TZID=Europe/Amsterdam:20230324T190000
DTEND;TZID=Europe/Amsterdam:20230324T200000
DTSTAMP:20260424T214221
CREATED:20221114T192920Z
LAST-MODIFIED:20230124T085100Z
UID:8375-1679684400-1679688000@meedoensenb.nl
SUMMARY:Workshop TikTok dance workshop
DESCRIPTION:Vanwege het winterse weer is de dansworkshop van vrijdag 20 januari niet door gegaan. Daarom hebben we een nieuwe datum geprikt; vrijdag 24 maart. \nBen jij ook groot fan van TikTok en zou je de dansjes die je daar voorbij ziet komen dolgraag willen leren? Meld je dan aan voor onze leuke TikTok dance workshop die we samen met dansdocente Tatjana van Tati’s dance agency gaan organiseren op vrijdag 24 maart van 19.00-20.30u in Oase\, Dommelstraat 10a in Son. \n\n\n\nWat is TikTok dance?\n\nTikTok is een populaire app onder jongeren\, waar je danst op de bekende hits van nu. Na een warming-up en een paar oefeningen gaan we aan de slag met verschillende dansen. Op TikTok kun je jezelf filmen terwijl je danst\, zingt of playbackt. Het is hartstikke leuk om te doen en niet moeilijk om te leren.\nDeze activiteit is voor alle leeftijden.\n\n\nMeld je aan via de mail info@meedoensenb.nl en doe gezellig met ons mee!
URL:https://meedoensenb.nl/evenement/workshop-tiktok-dance/
LOCATION:Oase Son\, Dommelstraat 10a\, Son en Breugel\, Nederland
ATTACH;FMTTYPE=image/png:https://meedoensenb.nl/wp-content/uploads/2022/11/foto.png
END:VEVENT
END:VCALENDAR