BEGIN:VCALENDAR
VERSION:2.0
PRODID:-//Stichting MeeDoen S&amp;B - ECPv6.15.20//NONSGML v1.0//EN
CALSCALE:GREGORIAN
METHOD:PUBLISH
X-ORIGINAL-URL:https://meedoensenb.nl
X-WR-CALDESC:Evenementen voor Stichting MeeDoen S&amp;B
REFRESH-INTERVAL;VALUE=DURATION:PT1H
X-Robots-Tag:noindex
X-PUBLISHED-TTL:PT1H
BEGIN:VTIMEZONE
TZID:Europe/Amsterdam
BEGIN:DAYLIGHT
TZOFFSETFROM:+0100
TZOFFSETTO:+0200
TZNAME:CEST
DTSTART:20220327T010000
END:DAYLIGHT
BEGIN:STANDARD
TZOFFSETFROM:+0200
TZOFFSETTO:+0100
TZNAME:CET
DTSTART:20221030T010000
END:STANDARD
BEGIN:DAYLIGHT
TZOFFSETFROM:+0100
TZOFFSETTO:+0200
TZNAME:CEST
DTSTART:20230326T010000
END:DAYLIGHT
BEGIN:STANDARD
TZOFFSETFROM:+0200
TZOFFSETTO:+0100
TZNAME:CET
DTSTART:20231029T010000
END:STANDARD
BEGIN:DAYLIGHT
TZOFFSETFROM:+0100
TZOFFSETTO:+0200
TZNAME:CEST
DTSTART:20240331T010000
END:DAYLIGHT
BEGIN:STANDARD
TZOFFSETFROM:+0200
TZOFFSETTO:+0100
TZNAME:CET
DTSTART:20241027T010000
END:STANDARD
END:VTIMEZONE
BEGIN:VEVENT
DTSTART;TZID=Europe/Amsterdam:20231006T190000
DTEND;TZID=Europe/Amsterdam:20231006T203000
DTSTAMP:20260424T105730
CREATED:20230503T093338Z
LAST-MODIFIED:20231005T091130Z
UID:9022-1696618800-1696624200@meedoensenb.nl
SUMMARY:Muziekbingo
DESCRIPTION:In oktober gaan we weer een leuke activiteit organiseren: Muziek bingo \nMisschien heb je er wel eens van gehoord: muziekbingo! Maar wat is het? Muziekbingo werkt bijna hetzelfde als een normale bingo. Bij ieder nummer op je bingokaart hoort muziek. Hoor jij de knotsgekke hits van jouw kaart\, dan streep je het nummer af. \nOnze Bingo-master Chantal zal de muziekbingo leiden. Iedereen kan meedoen\, ook als je niet zo’n hele goede muziekkenner bent! \nMet deze muziekbingo maken we er samen een super gezellige en swingende avond van. \n\nJe kunt deze avond  leuke prijsjes winnen.\nTussendoor eten en drinken we wat lekker\nAanmelden via de mail info@meedoensenb.nl
URL:https://meedoensenb.nl/evenement/zomerse-muziekbingo/
LOCATION:Oase Son\, Dommelstraat 10a\, Son en Breugel\, Nederland
ATTACH;FMTTYPE=image/jpeg:https://meedoensenb.nl/wp-content/uploads/2023/05/foto-1.jpg
END:VEVENT
END:VCALENDAR