BEGIN:VCALENDAR
VERSION:2.0
PRODID:-//Stichting MeeDoen S&amp;B - ECPv6.15.20//NONSGML v1.0//EN
CALSCALE:GREGORIAN
METHOD:PUBLISH
X-ORIGINAL-URL:https://meedoensenb.nl
X-WR-CALDESC:Evenementen voor Stichting MeeDoen S&amp;B
REFRESH-INTERVAL;VALUE=DURATION:PT1H
X-Robots-Tag:noindex
X-PUBLISHED-TTL:PT1H
BEGIN:VTIMEZONE
TZID:Europe/Amsterdam
BEGIN:DAYLIGHT
TZOFFSETFROM:+0100
TZOFFSETTO:+0200
TZNAME:CEST
DTSTART:20220327T010000
END:DAYLIGHT
BEGIN:STANDARD
TZOFFSETFROM:+0200
TZOFFSETTO:+0100
TZNAME:CET
DTSTART:20221030T010000
END:STANDARD
BEGIN:DAYLIGHT
TZOFFSETFROM:+0100
TZOFFSETTO:+0200
TZNAME:CEST
DTSTART:20230326T010000
END:DAYLIGHT
BEGIN:STANDARD
TZOFFSETFROM:+0200
TZOFFSETTO:+0100
TZNAME:CET
DTSTART:20231029T010000
END:STANDARD
BEGIN:DAYLIGHT
TZOFFSETFROM:+0100
TZOFFSETTO:+0200
TZNAME:CEST
DTSTART:20240331T010000
END:DAYLIGHT
BEGIN:STANDARD
TZOFFSETFROM:+0200
TZOFFSETTO:+0100
TZNAME:CET
DTSTART:20241027T010000
END:STANDARD
END:VTIMEZONE
BEGIN:VEVENT
DTSTART;TZID=Europe/Amsterdam:20231010T193000
DTEND;TZID=Europe/Amsterdam:20231010T213000
DTSTAMP:20260424T105745
CREATED:20230522T113343Z
LAST-MODIFIED:20231005T091216Z
UID:9049-1696966200-1696973400@meedoensenb.nl
SUMMARY:Informatieavond “Juridisch Goed Geregeld”
DESCRIPTION:Op dinsdag 10 oktober organiseren we een informatieavond voor ouders. Notaris Heleen Vaarten gaat op deze avond in op 2 onderwerpen\, waar alle ouders van een kind met een beperking op enig moment mee te maken krijgen: \na. Bewind en curatele \nb. Overlijden van de ouders: het kind krijgt vermogen. \nDe materie is best ingewikkeld en daarom is deze avond juist bedoeld om aan de hand van eenvoudige voorbeelden alles duidelijk over te brengen. Kom naar deze avond en laat u goed informeren! Ook als uw kind nog (lang) geen 18 is\, want het is van belang om deze zaken geregeld te hebben vóórdat uw kind 18 wordt. Aansluitend aan het informatiegedeelte sluiten we de avond af met een drankje. Er is dan ook tijd om bij te praten met elkaar en ervaringen\, ideeën en vragen te delen. \nDetails van de thema-avond op een rijtje \n*Wanneer: dinsdag 10 oktober 2023 \n*Tijd: 19.30 – ±21.30u \n*Waar: foyer van het (oude) Vestzak in Son \nEntree is gratis. U krijgt koffie\, thee en een hapje en een drankje aangeboden door Stg. MeeDoen S&B \n 
URL:https://meedoensenb.nl/evenement/informatieavond-juridisch-goed-geregeld/
LOCATION:Noord Brabant
ATTACH;FMTTYPE=image/jpeg:https://meedoensenb.nl/wp-content/uploads/2023/05/afbeelding.jpeg
END:VEVENT
END:VCALENDAR