BEGIN:VCALENDAR
VERSION:2.0
PRODID:-//Stichting MeeDoen S&amp;B - ECPv6.15.20//NONSGML v1.0//EN
CALSCALE:GREGORIAN
METHOD:PUBLISH
X-WR-CALNAME:Stichting MeeDoen S&amp;B
X-ORIGINAL-URL:https://meedoensenb.nl
X-WR-CALDESC:Evenementen voor Stichting MeeDoen S&amp;B
REFRESH-INTERVAL;VALUE=DURATION:PT1H
X-Robots-Tag:noindex
X-PUBLISHED-TTL:PT1H
BEGIN:VTIMEZONE
TZID:Europe/Amsterdam
BEGIN:DAYLIGHT
TZOFFSETFROM:+0100
TZOFFSETTO:+0200
TZNAME:CEST
DTSTART:20220327T010000
END:DAYLIGHT
BEGIN:STANDARD
TZOFFSETFROM:+0200
TZOFFSETTO:+0100
TZNAME:CET
DTSTART:20221030T010000
END:STANDARD
BEGIN:DAYLIGHT
TZOFFSETFROM:+0100
TZOFFSETTO:+0200
TZNAME:CEST
DTSTART:20230326T010000
END:DAYLIGHT
BEGIN:STANDARD
TZOFFSETFROM:+0200
TZOFFSETTO:+0100
TZNAME:CET
DTSTART:20231029T010000
END:STANDARD
BEGIN:DAYLIGHT
TZOFFSETFROM:+0100
TZOFFSETTO:+0200
TZNAME:CEST
DTSTART:20240331T010000
END:DAYLIGHT
BEGIN:STANDARD
TZOFFSETFROM:+0200
TZOFFSETTO:+0100
TZNAME:CET
DTSTART:20241027T010000
END:STANDARD
END:VTIMEZONE
BEGIN:VEVENT
DTSTART;TZID=Europe/Amsterdam:20231011T190000
DTEND;TZID=Europe/Amsterdam:20231011T200000
DTSTAMP:20260424T105646
CREATED:20230703T113029Z
LAST-MODIFIED:20230911T201604Z
UID:9113-1697050800-1697054400@meedoensenb.nl
SUMMARY:Muziekworkshop
DESCRIPTION:Het is weer tijd voor een leuke muziekworkshop op woensdag 11 oktober van 19.00- 20.00 uur in basisschool de Stokland\, Jupiterstraat 3 in Breugel. \nWat gaan we doen? \nDeze keer spelen we het spel memory met muziekopdrachten. Bij muziek memory moet je de plaatjes op de kaarten onthouden\, maar ook waar de kaarten liggen. We gebruiken weer de leuke muziekinstrumenten\, de Ipad en Lizet en Annette spelen op de accordeon en de gitaar. \nHet is een leuk spel en niet moeilijk om te doen. \nDeelname is gratis. Aanmelden via de mail info@meedoensenb.nl \n 
URL:https://meedoensenb.nl/evenement/muziekworkshop-7/
LOCATION:Basisschool de Stokland\, Son en Breugel\, Nederland
ATTACH;FMTTYPE=image/jpeg:https://meedoensenb.nl/wp-content/uploads/2021/07/muziek.jpg
END:VEVENT
END:VCALENDAR