BEGIN:VCALENDAR
VERSION:2.0
PRODID:-//Stichting MeeDoen S&amp;B - ECPv6.15.20//NONSGML v1.0//EN
CALSCALE:GREGORIAN
METHOD:PUBLISH
X-ORIGINAL-URL:https://meedoensenb.nl
X-WR-CALDESC:Evenementen voor Stichting MeeDoen S&amp;B
REFRESH-INTERVAL;VALUE=DURATION:PT1H
X-Robots-Tag:noindex
X-PUBLISHED-TTL:PT1H
BEGIN:VTIMEZONE
TZID:Europe/Amsterdam
BEGIN:DAYLIGHT
TZOFFSETFROM:+0100
TZOFFSETTO:+0200
TZNAME:CEST
DTSTART:20220327T010000
END:DAYLIGHT
BEGIN:STANDARD
TZOFFSETFROM:+0200
TZOFFSETTO:+0100
TZNAME:CET
DTSTART:20221030T010000
END:STANDARD
BEGIN:DAYLIGHT
TZOFFSETFROM:+0100
TZOFFSETTO:+0200
TZNAME:CEST
DTSTART:20230326T010000
END:DAYLIGHT
BEGIN:STANDARD
TZOFFSETFROM:+0200
TZOFFSETTO:+0100
TZNAME:CET
DTSTART:20231029T010000
END:STANDARD
BEGIN:DAYLIGHT
TZOFFSETFROM:+0100
TZOFFSETTO:+0200
TZNAME:CEST
DTSTART:20240331T010000
END:DAYLIGHT
BEGIN:STANDARD
TZOFFSETFROM:+0200
TZOFFSETTO:+0100
TZNAME:CET
DTSTART:20241027T010000
END:STANDARD
END:VTIMEZONE
BEGIN:VEVENT
DTSTART;TZID=Europe/Amsterdam:20231019T193000
DTEND;TZID=Europe/Amsterdam:20231019T220000
DTSTAMP:20260424T105745
CREATED:20231010T095253Z
LAST-MODIFIED:20231019T125356Z
UID:9282-1697743800-1697752800@meedoensenb.nl
SUMMARY:Just Dance dansfeest
DESCRIPTION:Hou je ook zo van dansen en meezingen op bekende muzieknummers? Doe dan mee met ons gezellige Just Dance feest op donderdagavond 19 oktober van 19.30-22.00u \nWat gaan we doen? \nMet een aantal Nintendo switch spelcomputers spelen we het spel Just Dance op een groot scherm. We gaan samen dansen en zingen en maken er een gezellig feest van. \nHeb je geen Nintendo? Geen probleem; je kunt dan toch meedoen. \nDans je gezellig met ons mee?\n\nAanmelden via de mail: info@meedoensenb.nl\nEr kunnen max. 10 jongeren meedoen\nIedereen die kan meedoen\, ontvangt een bevestigingsmail\nEen paar dagen voor deze activiteit ontvang je nog een informatiebrief.\nKosten: € 3\,50 (via automatische incasso)\n\nDEZE ACTIVITEIT IS VOLGEBOEKT. JE KUNT NIET MEER AANMELDEN \n 
URL:https://meedoensenb.nl/evenement/just-dance-dansfeest/
LOCATION:Noord Brabant
ATTACH;FMTTYPE=image/png:https://meedoensenb.nl/wp-content/uploads/2023/10/Foto.png
END:VEVENT
END:VCALENDAR