BEGIN:VCALENDAR
VERSION:2.0
PRODID:-//Stichting MeeDoen S&amp;B - ECPv6.15.20//NONSGML v1.0//EN
CALSCALE:GREGORIAN
METHOD:PUBLISH
X-WR-CALNAME:Stichting MeeDoen S&amp;B
X-ORIGINAL-URL:https://meedoensenb.nl
X-WR-CALDESC:Evenementen voor Stichting MeeDoen S&amp;B
REFRESH-INTERVAL;VALUE=DURATION:PT1H
X-Robots-Tag:noindex
X-PUBLISHED-TTL:PT1H
BEGIN:VTIMEZONE
TZID:Europe/Amsterdam
BEGIN:DAYLIGHT
TZOFFSETFROM:+0100
TZOFFSETTO:+0200
TZNAME:CEST
DTSTART:20220327T010000
END:DAYLIGHT
BEGIN:STANDARD
TZOFFSETFROM:+0200
TZOFFSETTO:+0100
TZNAME:CET
DTSTART:20221030T010000
END:STANDARD
BEGIN:DAYLIGHT
TZOFFSETFROM:+0100
TZOFFSETTO:+0200
TZNAME:CEST
DTSTART:20230326T010000
END:DAYLIGHT
BEGIN:STANDARD
TZOFFSETFROM:+0200
TZOFFSETTO:+0100
TZNAME:CET
DTSTART:20231029T010000
END:STANDARD
BEGIN:DAYLIGHT
TZOFFSETFROM:+0100
TZOFFSETTO:+0200
TZNAME:CEST
DTSTART:20240331T010000
END:DAYLIGHT
BEGIN:STANDARD
TZOFFSETFROM:+0200
TZOFFSETTO:+0100
TZNAME:CET
DTSTART:20241027T010000
END:STANDARD
END:VTIMEZONE
BEGIN:VEVENT
DTSTART;TZID=Europe/Amsterdam:20231201T130000
DTEND;TZID=Europe/Amsterdam:20231201T140000
DTSTAMP:20260424T074831
CREATED:20231023T125901Z
LAST-MODIFIED:20231023T125929Z
UID:9317-1701435600-1701439200@meedoensenb.nl
SUMMARY:Theatervoorstelling 'Sinterklaas en de slapeloze nachten'
DESCRIPTION:In november komen Sinterklaas en de Pieten weer naar Nederland.Hartstikke leuk! Op zaterdag 2 december is er een leuke theatervoorstelling ‘Sinterklaas en de slapeloze nachten’ in de theaterzaal van het Dommelhuis in Son. \nWaar gaat de voorstelling over? \nSinterklaas heeft het in de tijd voor zijn verjaardag altijd druk. Als hij ’s nachts nog niet het dak op hoeft\, dan wil hij graag rustig slapen in zijn veilige bedje. Maar in het kasteel waar hij logeert is het ijskoud. En erger nog: elke nacht klinkt er een heleboel herrie. Hoe komt dat toch? De Pieten gaan op onderzoek uit\, maar het is toch moeilijker dan ze dachten. De hulp van Mien Poets wordt ingeroepen en natuurlijk zit de Commissaris er met zijn neus bovenop\, dit keer samen met zijn zus\, Madame Memori. Maar gaat dit wel helpen of zorgt het alleen maar voor meer verwarring?? \n Ga jij met ons mee naar het theater? \n\nVind je het leuk om met ons mee te gaan? Meld je dan aan via de mail info@meedoensenb.nl (vóór maandag 30 oktober).\nBij voldoende aanmeldingen gaan we samen naar de voorstelling van 13.00u.\nEigen bijdrage: € 3\,50 (via automatische incasso)
URL:https://meedoensenb.nl/evenement/9317/
LOCATION:Dommelhuis\, Kerkplein 5\, Son en Breugel\, Noord Brabant\, Nederland
ATTACH;FMTTYPE=image/jpeg:https://meedoensenb.nl/wp-content/uploads/2023/10/foto.jpg
END:VEVENT
END:VCALENDAR