BEGIN:VCALENDAR
VERSION:2.0
PRODID:-//Stichting MeeDoen S&amp;B - ECPv6.15.20//NONSGML v1.0//EN
CALSCALE:GREGORIAN
METHOD:PUBLISH
X-WR-CALNAME:Stichting MeeDoen S&amp;B
X-ORIGINAL-URL:https://meedoensenb.nl
X-WR-CALDESC:Evenementen voor Stichting MeeDoen S&amp;B
REFRESH-INTERVAL;VALUE=DURATION:PT1H
X-Robots-Tag:noindex
X-PUBLISHED-TTL:PT1H
BEGIN:VTIMEZONE
TZID:Europe/Amsterdam
BEGIN:DAYLIGHT
TZOFFSETFROM:+0100
TZOFFSETTO:+0200
TZNAME:CEST
DTSTART:20220327T010000
END:DAYLIGHT
BEGIN:STANDARD
TZOFFSETFROM:+0200
TZOFFSETTO:+0100
TZNAME:CET
DTSTART:20221030T010000
END:STANDARD
BEGIN:DAYLIGHT
TZOFFSETFROM:+0100
TZOFFSETTO:+0200
TZNAME:CEST
DTSTART:20230326T010000
END:DAYLIGHT
BEGIN:STANDARD
TZOFFSETFROM:+0200
TZOFFSETTO:+0100
TZNAME:CET
DTSTART:20231029T010000
END:STANDARD
BEGIN:DAYLIGHT
TZOFFSETFROM:+0100
TZOFFSETTO:+0200
TZNAME:CEST
DTSTART:20240331T010000
END:DAYLIGHT
BEGIN:STANDARD
TZOFFSETFROM:+0200
TZOFFSETTO:+0100
TZNAME:CET
DTSTART:20241027T010000
END:STANDARD
END:VTIMEZONE
BEGIN:VEVENT
DTSTART;TZID=Europe/Amsterdam:20231214T193000
DTEND;TZID=Europe/Amsterdam:20231214T210000
DTSTAMP:20260424T074913
CREATED:20231108T104627Z
LAST-MODIFIED:20231108T104627Z
UID:9352-1702582200-1702587600@meedoensenb.nl
SUMMARY:Crea-activiteit houten Kerststal maken
DESCRIPTION:Het is weer tijd voor een leuke crea-activiteit; deze keer is het thema Kerst! Op donderdagavond 14 december gaan we allemaal een houten Kerststal maken. \nWat gaan we doen? \nIedereen krijgt een houten krat en allerlei kerstmaterialen en lampjes. Van deze krat ga je een mooie kerststal maken. Er is een voorbeeld aanwezig\, zodat je kunt zien hoe je deze mooie kerststal maakt. \nWe gaan er weer een leuke crea-activiteit van maken. Wij hebben er al veel zin in! \nLet op: \n\nAanmelden vóór maandag 27 november via de mail: info@meedoensenb.nl\nEr zijn voldoende vrijwilligers om jullie te helpen.\nTussendoor eten en drinken we wat lekkers.\nMax. 20 deelnemers: iedereen die kan meedoen\, ontvangt een bevestigingsmail (we werken met een wachtlijst)\nKosten: € 3\,50 (via automatische incasso )\n De activiteit begint om 19.30u. (Vanaf 18.00u is er een Kerstmarkt op het Zonhove-terrein. Jongeren die werken bij Zonhove en/of  andere geïnteresseerden kunnen daardoor van te voren  naar de Kerstmarkt gaan)\n.\n\n 
URL:https://meedoensenb.nl/evenement/crea-activiteit-houten-kerststal-maken/
LOCATION:Oase Son\, Dommelstraat 10a\, Son en Breugel\, Nederland
ATTACH;FMTTYPE=image/png:https://meedoensenb.nl/wp-content/uploads/2023/11/foto.png
END:VEVENT
END:VCALENDAR