BEGIN:VCALENDAR
VERSION:2.0
PRODID:-//Stichting MeeDoen S&amp;B - ECPv6.15.20//NONSGML v1.0//EN
CALSCALE:GREGORIAN
METHOD:PUBLISH
X-ORIGINAL-URL:https://meedoensenb.nl
X-WR-CALDESC:Evenementen voor Stichting MeeDoen S&amp;B
REFRESH-INTERVAL;VALUE=DURATION:PT1H
X-Robots-Tag:noindex
X-PUBLISHED-TTL:PT1H
BEGIN:VTIMEZONE
TZID:Europe/Amsterdam
BEGIN:DAYLIGHT
TZOFFSETFROM:+0100
TZOFFSETTO:+0200
TZNAME:CEST
DTSTART:20230326T010000
END:DAYLIGHT
BEGIN:STANDARD
TZOFFSETFROM:+0200
TZOFFSETTO:+0100
TZNAME:CET
DTSTART:20231029T010000
END:STANDARD
BEGIN:DAYLIGHT
TZOFFSETFROM:+0100
TZOFFSETTO:+0200
TZNAME:CEST
DTSTART:20240331T010000
END:DAYLIGHT
BEGIN:STANDARD
TZOFFSETFROM:+0200
TZOFFSETTO:+0100
TZNAME:CET
DTSTART:20241027T010000
END:STANDARD
BEGIN:DAYLIGHT
TZOFFSETFROM:+0100
TZOFFSETTO:+0200
TZNAME:CEST
DTSTART:20250330T010000
END:DAYLIGHT
BEGIN:STANDARD
TZOFFSETFROM:+0200
TZOFFSETTO:+0100
TZNAME:CET
DTSTART:20251026T010000
END:STANDARD
END:VTIMEZONE
BEGIN:VEVENT
DTSTART;TZID=Europe/Amsterdam:20240103T160000
DTEND;TZID=Europe/Amsterdam:20240103T190000
DTSTAMP:20260424T060840
CREATED:20230829T081549Z
LAST-MODIFIED:20231130T091540Z
UID:9188-1704297600-1704308400@meedoensenb.nl
SUMMARY:Kookworkshop Viva Italia
DESCRIPTION:Graag nodigen wij jullie uit voor een leuke kookworkshop op:    \nDatum:               woensdag 3 januari 2024 \nLocatie:              restaurant de Komeet (locatie Zonhove) \nTijd:                    16.00-19.00u \nThema:              Viva Italia \nEigen bijdrage: € 3\,50 (via automatische incasso) \n  \nWat gaan we doen? \nJullie worden op woensdag 3 januari om 16.00u verwacht bij restaurant de Komeet. Daar gaan we beginnen met de bereiding van de gerechten voor een heerlijk Italiaans diner.\nWat we gaan maken\, houden we nog even geheim. We kunnen jullie al wel zeggen dat het heerlijke gerechten zijn.\nJullie zijn de gasten van het diner en alle gerechten worden door onze vrijwilligers uitgeserveerd. We zorgen samen voor mooie\, feestelijk gedekte tafels. \n  \n\nAanmelden vóór maandag 11 december via de mail: info@meedoensenb.nl\nHeb je een allergie? Geef dat dan aan ons door bij je aanmelding.\nIedereen die kan meedoen\, ontvangt een bevestigingsmail.\nDe workshop is om 19.00u afgelopen (een uurtje later dan anders).\nEen paar dagen voor aanvang van deze activiteit ontvang je bevestigingsmail in welk groepje je bent ingedeeld en wat jouw groepje gaat maken.\nAlle recepten worden duidelijk uitgewerkt\, zodat jullie samen met de begeleiders stap voor stop de gerechten zelf kunnen voorbereiden.\n\n  \n 
URL:https://meedoensenb.nl/evenement/kookworkshop-new-years-dinner/
LOCATION:Lunchroom de Komeet\, Nieuwstraat 70\, Son en Breugel\, Noord Brabant\, 5691 BD
ATTACH;FMTTYPE=image/png:https://meedoensenb.nl/wp-content/uploads/2023/08/afbeelding.png
END:VEVENT
END:VCALENDAR