BEGIN:VCALENDAR
VERSION:2.0
PRODID:-//Stichting MeeDoen S&amp;B - ECPv6.15.20//NONSGML v1.0//EN
CALSCALE:GREGORIAN
METHOD:PUBLISH
X-WR-CALNAME:Stichting MeeDoen S&amp;B
X-ORIGINAL-URL:https://meedoensenb.nl
X-WR-CALDESC:Evenementen voor Stichting MeeDoen S&amp;B
REFRESH-INTERVAL;VALUE=DURATION:PT1H
X-Robots-Tag:noindex
X-PUBLISHED-TTL:PT1H
BEGIN:VTIMEZONE
TZID:Europe/Amsterdam
BEGIN:DAYLIGHT
TZOFFSETFROM:+0100
TZOFFSETTO:+0200
TZNAME:CEST
DTSTART:20230326T010000
END:DAYLIGHT
BEGIN:STANDARD
TZOFFSETFROM:+0200
TZOFFSETTO:+0100
TZNAME:CET
DTSTART:20231029T010000
END:STANDARD
BEGIN:DAYLIGHT
TZOFFSETFROM:+0100
TZOFFSETTO:+0200
TZNAME:CEST
DTSTART:20240331T010000
END:DAYLIGHT
BEGIN:STANDARD
TZOFFSETFROM:+0200
TZOFFSETTO:+0100
TZNAME:CET
DTSTART:20241027T010000
END:STANDARD
BEGIN:DAYLIGHT
TZOFFSETFROM:+0100
TZOFFSETTO:+0200
TZNAME:CEST
DTSTART:20250330T010000
END:DAYLIGHT
BEGIN:STANDARD
TZOFFSETFROM:+0200
TZOFFSETTO:+0100
TZNAME:CET
DTSTART:20251026T010000
END:STANDARD
END:VTIMEZONE
BEGIN:VEVENT
DTSTART;TZID=Europe/Amsterdam:20240128T123000
DTEND;TZID=Europe/Amsterdam:20240128T160000
DTSTAMP:20260424T060721
CREATED:20231027T191555Z
LAST-MODIFIED:20240108T142125Z
UID:9327-1706445000-1706457600@meedoensenb.nl
SUMMARY:Speciaal uitstapje: musical Pietje Bell
DESCRIPTION:Op zondagmiddag 28 januari gaan we een leuk uitstapje maken naar Theater de Blauwe Kei. We gaan samen kijken naar de leuke familiemusical Pietje Bell en de bende van de Zwarte Hand. Hartstikke leuk! \nWaar gaat de musical over? \nPietje Bell heeft een hart van goud en zet met haar vrolijke avonturen de hele stad op stelten. Voor meester Geelman en tante Cato is haar gedrag een doorn in het oog. Als op een dag een rijke zakenman besluit om een arme wijk te slopen\, zodat hij er een groot hotel kan bouwen\, komt Pietje in opstand. Waar moet haar vriendje Sproet dan gaan wonen? Samen met Peentje\, Engel en Blikkie richt ze De Bende Van De Zwarte Hand op. Ze organiseren een grote circusvoorstelling om geld in te zamelen\, maar doen dan een bijzondere ontdekking. Als de rijke zakenman lucht krijgt van hun plannen zet hij alles op alles om hen de mond te snoeren. Maar De Bende Van De Zwarte Hand laat zich niet zomaar wegjagen! Lukt het Pietje en De Bende Van De Zwarte Hand om hun vriend Sproet te redden? \nLet op: \n\nDeze activiteit is voor alle leeftijden\nWij zorgen voor vervoer en voldoende begeleiders\nIn het theater krijgen jullie van ons wat lekkers te eten en te drinken\nAanmelden via de mail info@meedoensenb.nl\nLet op: we hebben een beperkt aantal kaarten voor deze voorstelling. We werken met een wachtlijst. Iedereen die kan meedoen ontvangt een bevestiging via de mail\n\nDEZE ACTIVITEIT IS VOLGEBOEKT. MELD JE NU NOG AAN\, DAN KOM JE OP DE WACHTLIJST TE STAAN.
URL:https://meedoensenb.nl/evenement/uitstapje-naar-het-theater/
LOCATION:Theater de Blauwe Kei\, Verlengde Noordkade 10-12\, Veghel\, Noord Brabant\, 5462 EH
ATTACH;FMTTYPE=image/jpeg:https://meedoensenb.nl/wp-content/uploads/2023/10/foto.jpeg
END:VEVENT
END:VCALENDAR