BEGIN:VCALENDAR
VERSION:2.0
PRODID:-//Stichting MeeDoen S&amp;B - ECPv6.15.20//NONSGML v1.0//EN
CALSCALE:GREGORIAN
METHOD:PUBLISH
X-ORIGINAL-URL:https://meedoensenb.nl
X-WR-CALDESC:Evenementen voor Stichting MeeDoen S&amp;B
REFRESH-INTERVAL;VALUE=DURATION:PT1H
X-Robots-Tag:noindex
X-PUBLISHED-TTL:PT1H
BEGIN:VTIMEZONE
TZID:Europe/Amsterdam
BEGIN:DAYLIGHT
TZOFFSETFROM:+0100
TZOFFSETTO:+0200
TZNAME:CEST
DTSTART:20230326T010000
END:DAYLIGHT
BEGIN:STANDARD
TZOFFSETFROM:+0200
TZOFFSETTO:+0100
TZNAME:CET
DTSTART:20231029T010000
END:STANDARD
BEGIN:DAYLIGHT
TZOFFSETFROM:+0100
TZOFFSETTO:+0200
TZNAME:CEST
DTSTART:20240331T010000
END:DAYLIGHT
BEGIN:STANDARD
TZOFFSETFROM:+0200
TZOFFSETTO:+0100
TZNAME:CET
DTSTART:20241027T010000
END:STANDARD
BEGIN:DAYLIGHT
TZOFFSETFROM:+0100
TZOFFSETTO:+0200
TZNAME:CEST
DTSTART:20250330T010000
END:DAYLIGHT
BEGIN:STANDARD
TZOFFSETFROM:+0200
TZOFFSETTO:+0100
TZNAME:CET
DTSTART:20251026T010000
END:STANDARD
END:VTIMEZONE
BEGIN:VEVENT
DTSTART;TZID=Europe/Amsterdam:20240320T190000
DTEND;TZID=Europe/Amsterdam:20240320T203000
DTSTAMP:20260424T024321
CREATED:20240111T102913Z
LAST-MODIFIED:20240318T122320Z
UID:9518-1710961200-1710966600@meedoensenb.nl
SUMMARY:Crea-activiteit Paas Ringen maken
DESCRIPTION:Op woensdag 20 maart organiseren we een leuke crea-activiteit in het thema Pasen. \nWat gaan we doen? \nWe gaan leuke Paas Ringen maken\, die je thuis kunt wegzetten. We gebruiken allerlei mooie versiering wat past bij de lente en Pasen. Ook gebruiken we verse bloembolletjes. \nWij zorgen voor de materialen en de voorbeelden\, zodat je kunt zien hoe je de ring kunt maken. \n\nEr zijn voldoende vrijwilligers om jullie te helpen.\nTussendoor eten en drinken we wat lekkers.\nIedereen die kan meedoen\, ontvangt een bevestigingsmail. We werken met een wachtlijst.\nLeeftijd: deze activiteit is voor alle leeftijden\nKosten: € 3\,50 pp (via automatische incasso)\n\nDeze activiteit is volgeboekt. Als je nu nog aanmeldt\, word je op de wachtlijst geplaatst.
URL:https://meedoensenb.nl/evenement/crea-activiteit-paas-ringen-maken/
LOCATION:Oase Son\, Dommelstraat 10a\, Son en Breugel\, Nederland
ATTACH;FMTTYPE=image/jpeg:https://meedoensenb.nl/wp-content/uploads/2024/01/foto1-3.jpg
END:VEVENT
END:VCALENDAR