BEGIN:VCALENDAR
VERSION:2.0
PRODID:-//Stichting MeeDoen S&amp;B - ECPv6.15.20//NONSGML v1.0//EN
CALSCALE:GREGORIAN
METHOD:PUBLISH
X-WR-CALNAME:Stichting MeeDoen S&amp;B
X-ORIGINAL-URL:https://meedoensenb.nl
X-WR-CALDESC:Evenementen voor Stichting MeeDoen S&amp;B
REFRESH-INTERVAL;VALUE=DURATION:PT1H
X-Robots-Tag:noindex
X-PUBLISHED-TTL:PT1H
BEGIN:VTIMEZONE
TZID:Europe/Amsterdam
BEGIN:DAYLIGHT
TZOFFSETFROM:+0100
TZOFFSETTO:+0200
TZNAME:CEST
DTSTART:20230326T010000
END:DAYLIGHT
BEGIN:STANDARD
TZOFFSETFROM:+0200
TZOFFSETTO:+0100
TZNAME:CET
DTSTART:20231029T010000
END:STANDARD
BEGIN:DAYLIGHT
TZOFFSETFROM:+0100
TZOFFSETTO:+0200
TZNAME:CEST
DTSTART:20240331T010000
END:DAYLIGHT
BEGIN:STANDARD
TZOFFSETFROM:+0200
TZOFFSETTO:+0100
TZNAME:CET
DTSTART:20241027T010000
END:STANDARD
BEGIN:DAYLIGHT
TZOFFSETFROM:+0100
TZOFFSETTO:+0200
TZNAME:CEST
DTSTART:20250330T010000
END:DAYLIGHT
BEGIN:STANDARD
TZOFFSETFROM:+0200
TZOFFSETTO:+0100
TZNAME:CET
DTSTART:20251026T010000
END:STANDARD
END:VTIMEZONE
BEGIN:VEVENT
DTSTART;TZID=Europe/Amsterdam:20240406T140000
DTEND;TZID=Europe/Amsterdam:20240406T153000
DTSTAMP:20260424T005213
CREATED:20240116T105725Z
LAST-MODIFIED:20240827T134820Z
UID:9564-1712412000-1712417400@meedoensenb.nl
SUMMARY:LEGO-LAB - 6 april
DESCRIPTION:Bouw jij graag met LEGO? En vind je dat ook leuk om in groepsverband te doen? Dan ben je op zaterdag 6 april van 14.00-15.30u van harte welkom bij de het LEGO-LAB (van de LEVgroep) in het Dommelhuis in Son. \nWat gaan we doen? \nOm 14.00u wordt er gestart met een korte uitleg wat we gaan bouwen. Er is een ‘Brick-shop’ met bakken lego; iedereen krijgt een klein bakje waarin je legoblokjes kunt verzamelen. Daarna ga je naar je eigen plek om te bouwen. Deze keer ga je een auto bouwen van Lego. Er zijn 2 hellingbanen waar de auto’s vanaf kunnen. Je kunt een autootje bouwen die door een ‘sling-shot’ vooruit gaat. Ook zijn er 2 ‘Zip-lijnen’ waar poppetjes en vliegtuigen vanaf kunnen. \nWij zitten met onze MeeDoen groep in een aparte ruimte waar het rustig is. Lego bouwen is leuk: je leert creatief denken\, problemen oplossen en samenwerken. En het is ook nog eens hartstikke gezellig! \nBelangrijke info: \n\nDit is een activiteit van de LEVgroep. Elke maand wordt er gebouwd in een ander thema. Deze keer is het thema auto’s.\nBij voldoende aanmeldingen sluiten wij aan met een groepje MeeDoen jongeren met 2 vaste vrijwilligers en een vrijwilliger van de LEGO-club.\nWij verzamelen beneden in de foyer en gaan daarna aan de slag in een rustige ruimte.\nOm 15.30u is de activiteit afgelopen en kunnen je ouders je weer ophalen.\nAanmelden via de mail info@meedoensenb.nl\n\n 
URL:https://meedoensenb.nl/evenement/lego-lab-3/
LOCATION:Dommelhuis\, Kerkplein 5\, Son en Breugel\, Noord Brabant\, Nederland
ATTACH;FMTTYPE=image/jpeg:https://meedoensenb.nl/wp-content/uploads/2024/01/Logo-lego.jpg
END:VEVENT
END:VCALENDAR