BEGIN:VCALENDAR
VERSION:2.0
PRODID:-//Stichting MeeDoen S&amp;B - ECPv6.15.20//NONSGML v1.0//EN
CALSCALE:GREGORIAN
METHOD:PUBLISH
X-ORIGINAL-URL:https://meedoensenb.nl
X-WR-CALDESC:Evenementen voor Stichting MeeDoen S&amp;B
REFRESH-INTERVAL;VALUE=DURATION:PT1H
X-Robots-Tag:noindex
X-PUBLISHED-TTL:PT1H
BEGIN:VTIMEZONE
TZID:Europe/Amsterdam
BEGIN:DAYLIGHT
TZOFFSETFROM:+0100
TZOFFSETTO:+0200
TZNAME:CEST
DTSTART:20230326T010000
END:DAYLIGHT
BEGIN:STANDARD
TZOFFSETFROM:+0200
TZOFFSETTO:+0100
TZNAME:CET
DTSTART:20231029T010000
END:STANDARD
BEGIN:DAYLIGHT
TZOFFSETFROM:+0100
TZOFFSETTO:+0200
TZNAME:CEST
DTSTART:20240331T010000
END:DAYLIGHT
BEGIN:STANDARD
TZOFFSETFROM:+0200
TZOFFSETTO:+0100
TZNAME:CET
DTSTART:20241027T010000
END:STANDARD
BEGIN:DAYLIGHT
TZOFFSETFROM:+0100
TZOFFSETTO:+0200
TZNAME:CEST
DTSTART:20250330T010000
END:DAYLIGHT
BEGIN:STANDARD
TZOFFSETFROM:+0200
TZOFFSETTO:+0100
TZNAME:CET
DTSTART:20251026T010000
END:STANDARD
END:VTIMEZONE
BEGIN:VEVENT
DTSTART;TZID=Europe/Amsterdam:20240424T193000
DTEND;TZID=Europe/Amsterdam:20240424T210000
DTSTAMP:20260424T010519
CREATED:20240122T141612Z
LAST-MODIFIED:20240409T111152Z
UID:9585-1713987000-1713992400@meedoensenb.nl
SUMMARY:Heel MeeDoen Bakt
DESCRIPTION:Op woensdag 24 april organiseren we Heel MeeDoen Bakt! \nDeze activiteit wordt kleinschalig uitgevoerd en zal later in het jaar nog eens herhaald worden. \nWat gaan we doen? \nJe gaat een fondant-taartje maken. Uiteraard mag je die na de activiteit meenemen naar huis. We vullen de binnenkant met heerlijke aardbeienvulling en room en bekleden de buitenkant met fondant. Daarna mag je het taartje aan de buitenkant versieren naar wens. Wij zorgen voor alle materialen. Kies een thema en geef dit bij de aanmelding aan ons door. \nDe thema’s waaruit je kunt kiezen zijn: onderwaterwereld zeedieren\, onderwaterwereld zeemeermin\, de ruimte\, vlinders\, unicorn of lama’s. \nBakkers klaar? Bakken maar!\nLet op: \n\nMax. 6 deelnemers; we werken met een wachtlijst.\nEigen bijdrage:  € 3\,50 (via automatische incasso).\nAanmelden vóór 22 maart via de mail info@meedoensenb.nl\nIedereen die kan meedoen ontvangt een bevestigingsmail.\nDe locatie is niet-rolstoeltoegankelijk.\n\nDeze activiteit is volgeboekt. In het najaar organiseren we deze activiteit nog een keer. 
URL:https://meedoensenb.nl/evenement/heel-meedoen-bakt/
LOCATION:Noord Brabant
ATTACH;FMTTYPE=image/png:https://meedoensenb.nl/wp-content/uploads/2024/01/Afbeelding-1.png
END:VEVENT
END:VCALENDAR