BEGIN:VCALENDAR
VERSION:2.0
PRODID:-//Stichting MeeDoen S&amp;B - ECPv6.15.20//NONSGML v1.0//EN
CALSCALE:GREGORIAN
METHOD:PUBLISH
X-ORIGINAL-URL:https://meedoensenb.nl
X-WR-CALDESC:Evenementen voor Stichting MeeDoen S&amp;B
REFRESH-INTERVAL;VALUE=DURATION:PT1H
X-Robots-Tag:noindex
X-PUBLISHED-TTL:PT1H
BEGIN:VTIMEZONE
TZID:Europe/Amsterdam
BEGIN:DAYLIGHT
TZOFFSETFROM:+0100
TZOFFSETTO:+0200
TZNAME:CEST
DTSTART:20230326T010000
END:DAYLIGHT
BEGIN:STANDARD
TZOFFSETFROM:+0200
TZOFFSETTO:+0100
TZNAME:CET
DTSTART:20231029T010000
END:STANDARD
BEGIN:DAYLIGHT
TZOFFSETFROM:+0100
TZOFFSETTO:+0200
TZNAME:CEST
DTSTART:20240331T010000
END:DAYLIGHT
BEGIN:STANDARD
TZOFFSETFROM:+0200
TZOFFSETTO:+0100
TZNAME:CET
DTSTART:20241027T010000
END:STANDARD
BEGIN:DAYLIGHT
TZOFFSETFROM:+0100
TZOFFSETTO:+0200
TZNAME:CEST
DTSTART:20250330T010000
END:DAYLIGHT
BEGIN:STANDARD
TZOFFSETFROM:+0200
TZOFFSETTO:+0100
TZNAME:CET
DTSTART:20251026T010000
END:STANDARD
END:VTIMEZONE
BEGIN:VEVENT
DTSTART;TZID=Europe/Amsterdam:20240526T103000
DTEND;TZID=Europe/Amsterdam:20240526T143000
DTSTAMP:20260423T233822
CREATED:20240404T130103Z
LAST-MODIFIED:20240404T131242Z
UID:9921-1716719400-1716733800@meedoensenb.nl
SUMMARY:Dancing Stars - eindvoorstelling
DESCRIPTION:Dancing Stars is een dansles speciaal voor kinderen en (jong)volwassenen met een beperking of die niet zo makkelijk kunnen aansluiten binnen het reguliere dansaanbod. De danslessen worden gegeven door dansdocente Tatjana van Tati’s dance agency. \nPlezier in deze dansles staat voorop. Genieten van de muziek en de leuke\, goed te volgen danspassen. De les is erg afwisselend en de leerlingen maken kennis met allerlei dansstijlen en muzieksoorten. Het is elke les weer een feest! \nDe Dancing Stars dansen elke dinsdagmiddag van 17.45-18.45u in het Dommelhuis. \nOp zondag 26 mei is de eindvoorstelling van de dansschool in de theaterzaal van het Dommelhuis in Son. Ook de Dancing Stars gaan hier optreden. Super leuk! \nEr zijn 2 voorstellingen; deze zijn alleen toegankelijk voor ouders en familieleden. Aanmelden: https://www.tatisdance.nl/inschrijving-eindvoorstelling
URL:https://meedoensenb.nl/evenement/dancing-stars-eindvoorstelling/
LOCATION:Dommelhuis\, Kerkplein 5\, Son en Breugel\, Noord Brabant\, Nederland
ATTACH;FMTTYPE=image/jpeg:https://meedoensenb.nl/wp-content/uploads/2024/04/Eindvoorstelling.jpg
END:VEVENT
END:VCALENDAR