BEGIN:VCALENDAR
VERSION:2.0
PRODID:-//Stichting MeeDoen S&amp;B - ECPv6.15.20//NONSGML v1.0//EN
CALSCALE:GREGORIAN
METHOD:PUBLISH
X-ORIGINAL-URL:https://meedoensenb.nl
X-WR-CALDESC:Evenementen voor Stichting MeeDoen S&amp;B
REFRESH-INTERVAL;VALUE=DURATION:PT1H
X-Robots-Tag:noindex
X-PUBLISHED-TTL:PT1H
BEGIN:VTIMEZONE
TZID:Europe/Amsterdam
BEGIN:DAYLIGHT
TZOFFSETFROM:+0100
TZOFFSETTO:+0200
TZNAME:CEST
DTSTART:20230326T010000
END:DAYLIGHT
BEGIN:STANDARD
TZOFFSETFROM:+0200
TZOFFSETTO:+0100
TZNAME:CET
DTSTART:20231029T010000
END:STANDARD
BEGIN:DAYLIGHT
TZOFFSETFROM:+0100
TZOFFSETTO:+0200
TZNAME:CEST
DTSTART:20240331T010000
END:DAYLIGHT
BEGIN:STANDARD
TZOFFSETFROM:+0200
TZOFFSETTO:+0100
TZNAME:CET
DTSTART:20241027T010000
END:STANDARD
BEGIN:DAYLIGHT
TZOFFSETFROM:+0100
TZOFFSETTO:+0200
TZNAME:CEST
DTSTART:20250330T010000
END:DAYLIGHT
BEGIN:STANDARD
TZOFFSETFROM:+0200
TZOFFSETTO:+0100
TZNAME:CET
DTSTART:20251026T010000
END:STANDARD
END:VTIMEZONE
BEGIN:VEVENT
DTSTART;TZID=Europe/Amsterdam:20240622T140000
DTEND;TZID=Europe/Amsterdam:20240622T153000
DTSTAMP:20260423T214918
CREATED:20240116T122003Z
LAST-MODIFIED:20240827T134848Z
UID:9569-1719064800-1719070200@meedoensenb.nl
SUMMARY:LEGO-LAB - 22 juni
DESCRIPTION:Zaterdag 22 juni van 14.00-15.30u is alweer de voorlopig laatste LEGO-Lab activiteit in het Dommelhuis. Het thema is: Zomervakantie. \nWat gaan we doen? \nDeze keer gaan we aan de slag om ieders zomervakantieplannen na te bouwen Dit kan zijn het strand\, de bergen\, een pretpark of achtertuin\, een lange autorit; alles is mogelijk met legosteentjes. Na een korte uitleg gaan we bouwen. Er is een ‘Brick-shop’ met bakken lego; iedereen krijgt een klein bakje waarin je legoblokjes kunt verzamelen. Daarna ga je naar je eigen plek om te bouwen. \nWij zitten met onze MeeDoen groep in een aparte ruimte (deze keer 1.5) waar het rustig is. Lego bouwen is leuk: je leert creatief denken\, problemen oplossen en samenwerken. En het is ook nog eens hartstikke gezellig! \nWe gaan er weer een leuke activiteit van maken! \nBelangrijke info: \n\nDit is een activiteit van de LEVgroep. Elke maand wordt er gebouwd in een ander thema.\nBij voldoende aanmeldingen sluiten wij aan met een groepje MeeDoen jongeren met 2 vaste vrijwilligers.\nWij verzamelen beneden in de foyer en gaan daarna aan de slag in een rustige ruimte (deze keer 1.5).\nOm 15.30u is de activiteit afgelopen en kunnen je ouders je weer ophalen.\nAanmelden via de mail info@meedoensenb.nl\n\n 
URL:https://meedoensenb.nl/evenement/lego-lab-5/
LOCATION:Dommelhuis\, Kerkplein 5\, Son en Breugel\, Noord Brabant\, Nederland
ATTACH;FMTTYPE=image/jpeg:https://meedoensenb.nl/wp-content/uploads/2024/01/Logo-lego.jpg
END:VEVENT
END:VCALENDAR