BEGIN:VCALENDAR
VERSION:2.0
PRODID:-//Stichting MeeDoen S&amp;B - ECPv6.15.20//NONSGML v1.0//EN
CALSCALE:GREGORIAN
METHOD:PUBLISH
X-WR-CALNAME:Stichting MeeDoen S&amp;B
X-ORIGINAL-URL:https://meedoensenb.nl
X-WR-CALDESC:Evenementen voor Stichting MeeDoen S&amp;B
REFRESH-INTERVAL;VALUE=DURATION:PT1H
X-Robots-Tag:noindex
X-PUBLISHED-TTL:PT1H
BEGIN:VTIMEZONE
TZID:Europe/Amsterdam
BEGIN:DAYLIGHT
TZOFFSETFROM:+0100
TZOFFSETTO:+0200
TZNAME:CEST
DTSTART:20230326T010000
END:DAYLIGHT
BEGIN:STANDARD
TZOFFSETFROM:+0200
TZOFFSETTO:+0100
TZNAME:CET
DTSTART:20231029T010000
END:STANDARD
BEGIN:DAYLIGHT
TZOFFSETFROM:+0100
TZOFFSETTO:+0200
TZNAME:CEST
DTSTART:20240331T010000
END:DAYLIGHT
BEGIN:STANDARD
TZOFFSETFROM:+0200
TZOFFSETTO:+0100
TZNAME:CET
DTSTART:20241027T010000
END:STANDARD
BEGIN:DAYLIGHT
TZOFFSETFROM:+0100
TZOFFSETTO:+0200
TZNAME:CEST
DTSTART:20250330T010000
END:DAYLIGHT
BEGIN:STANDARD
TZOFFSETFROM:+0200
TZOFFSETTO:+0100
TZNAME:CET
DTSTART:20251026T010000
END:STANDARD
END:VTIMEZONE
BEGIN:VEVENT
DTSTART;TZID=Europe/Amsterdam:20241005T140000
DTEND;TZID=Europe/Amsterdam:20241005T153000
DTSTAMP:20260423T143032
CREATED:20240123T090323Z
LAST-MODIFIED:20240916T113443Z
UID:9606-1728136800-1728142200@meedoensenb.nl
SUMMARY:LEGO-LAB 'spelletjes'
DESCRIPTION:Bouw jij graag met LEGO? En vind je dat ook leuk om in groepsverband te doen? Dan ben je op zaterdag 5 oktober van 14.00-15.30u van harte welkom bij de het LEGO-LAB (van de LEVgroep) in het Dommelhuis in Son. \nWat gaan we doen? \nOm 14.00u wordt er gestart met een korte uitleg wat we gaan bouwen. Er is een ‘Brick-shop’ met bakken lego; iedereen krijgt een klein bakje waarin je legoblokjes kunt verzamelen. Daarna ga je naar je eigen plek om te bouwen. Deze keer is het thema ‘spelletjes’; we gaan van LEGO zelf spelletjes maken en spelen. Je mag iets bouwen dat bij dit thema past en onze vrijwilligers helpen als dat nodig is. \nWij zitten met onze MeeDoen groep in een aparte ruimte waar het rustig is. Lego bouwen is leuk: je leert creatief denken\, problemen oplossen en samenwerken. \nWe gaan er weer een leuke activiteit van maken! \nBelangrijke info: \n\nDit is een activiteit van de LEVgroep. Elke maand wordt er gebouwd in een ander thema.\nBij voldoende aanmeldingen sluiten wij aan met een groepje MeeDoen jongeren met vaste vrijwilligers en een vrijwilliger van de LEGO-club.\nWij verzamelen beneden in de foyer en gaan daarna aan de slag in een rustige ruimte.\nOm 15.30u is de activiteit afgelopen en kunnen je ouders je weer ophalen.\nDeze activiteit is gratis.\nAanmelden via de mail info@meedoensenb.nl\n\n  \n 
URL:https://meedoensenb.nl/evenement/lego-lab-8/
LOCATION:Noord Brabant
ATTACH;FMTTYPE=image/jpeg:https://meedoensenb.nl/wp-content/uploads/2024/01/Logo-lego.jpg
END:VEVENT
END:VCALENDAR