BEGIN:VCALENDAR
VERSION:2.0
PRODID:-//Stichting MeeDoen S&amp;B - ECPv6.15.20//NONSGML v1.0//EN
CALSCALE:GREGORIAN
METHOD:PUBLISH
X-WR-CALNAME:Stichting MeeDoen S&amp;B
X-ORIGINAL-URL:https://meedoensenb.nl
X-WR-CALDESC:Evenementen voor Stichting MeeDoen S&amp;B
REFRESH-INTERVAL;VALUE=DURATION:PT1H
X-Robots-Tag:noindex
X-PUBLISHED-TTL:PT1H
BEGIN:VTIMEZONE
TZID:Europe/Amsterdam
BEGIN:DAYLIGHT
TZOFFSETFROM:+0100
TZOFFSETTO:+0200
TZNAME:CEST
DTSTART:20230326T010000
END:DAYLIGHT
BEGIN:STANDARD
TZOFFSETFROM:+0200
TZOFFSETTO:+0100
TZNAME:CET
DTSTART:20231029T010000
END:STANDARD
BEGIN:DAYLIGHT
TZOFFSETFROM:+0100
TZOFFSETTO:+0200
TZNAME:CEST
DTSTART:20240331T010000
END:DAYLIGHT
BEGIN:STANDARD
TZOFFSETFROM:+0200
TZOFFSETTO:+0100
TZNAME:CET
DTSTART:20241027T010000
END:STANDARD
BEGIN:DAYLIGHT
TZOFFSETFROM:+0100
TZOFFSETTO:+0200
TZNAME:CEST
DTSTART:20250330T010000
END:DAYLIGHT
BEGIN:STANDARD
TZOFFSETFROM:+0200
TZOFFSETTO:+0100
TZNAME:CET
DTSTART:20251026T010000
END:STANDARD
END:VTIMEZONE
BEGIN:VEVENT
DTSTART;TZID=Europe/Amsterdam:20241129T200000
DTEND;TZID=Europe/Amsterdam:20241129T223000
DTSTAMP:20260423T112251
CREATED:20240827T085916Z
LAST-MODIFIED:20241104T104205Z
UID:10453-1732910400-1732919400@meedoensenb.nl
SUMMARY:Amigo café
DESCRIPTION:Op vrijdag 29 november is er weer een  Amigo café! \nDeze keer is het thema Introducé Café; dus neem gezellig een vriend of vriendin mee! Ook organiseren we vanavond een darttoernooi voor iedereen die dat leuk vindt! \nHet Amigo-café is een gezellig avondje uit voor jongeren vanaf 16 jaar (±1x per maand op vrijdagavond) als alternatief voor uitgaan in een regulier café of club. Het is een besloten activiteit (dus alleen voor jongeren die zijn aangemeld) van 20.00-22.30u in JC Oase Son. \nEr zijn gezellige zitjes waar je kunt chillen samen met je vrienden/vriendinnen. Er wordt muziek gedraaid\, soms komt er een dj of organiseren we een thema-avond. Er is een grote tv waarop je kunt gamen\, er is een tafelvoetbal en je kunt darten. Ook kun je een spelletje spelen aan tafel. Het allerbelangrijkste: je kiest zelf waar je zin in hebt! \n\nDeze activiteit is voor jongeren vanaf 16 jaar.\nIedereen krijgt 3 consumptiebonnen.\n18+ Jongeren mogen (met toestemming van ouders) alcohol drinken. Er is keuze uit bier\, wijn\, Radler en Apple Bandit.\nWe zorgen voor een hapje tussendoor en zetten zoutjes op tafel.\nEigen bijdrage € 3\,50 pp (via automatische incasso).\nAanmelden via de mail info@meedoensenb.nl.\n\n 
URL:https://meedoensenb.nl/evenement/amigo-cafe-4/
LOCATION:Oase Son\, Dommelstraat 10a\, Son en Breugel\, Nederland
ATTACH;FMTTYPE=image/png:https://meedoensenb.nl/wp-content/uploads/2024/09/Poster-Amigo-Cafe.png
END:VEVENT
END:VCALENDAR