BEGIN:VCALENDAR
VERSION:2.0
PRODID:-//Stichting MeeDoen S&amp;B - ECPv6.15.20//NONSGML v1.0//EN
CALSCALE:GREGORIAN
METHOD:PUBLISH
X-ORIGINAL-URL:https://meedoensenb.nl
X-WR-CALDESC:Evenementen voor Stichting MeeDoen S&amp;B
REFRESH-INTERVAL;VALUE=DURATION:PT1H
X-Robots-Tag:noindex
X-PUBLISHED-TTL:PT1H
BEGIN:VTIMEZONE
TZID:Europe/Amsterdam
BEGIN:DAYLIGHT
TZOFFSETFROM:+0100
TZOFFSETTO:+0200
TZNAME:CEST
DTSTART:20240331T010000
END:DAYLIGHT
BEGIN:STANDARD
TZOFFSETFROM:+0200
TZOFFSETTO:+0100
TZNAME:CET
DTSTART:20241027T010000
END:STANDARD
BEGIN:DAYLIGHT
TZOFFSETFROM:+0100
TZOFFSETTO:+0200
TZNAME:CEST
DTSTART:20250330T010000
END:DAYLIGHT
BEGIN:STANDARD
TZOFFSETFROM:+0200
TZOFFSETTO:+0100
TZNAME:CET
DTSTART:20251026T010000
END:STANDARD
BEGIN:DAYLIGHT
TZOFFSETFROM:+0100
TZOFFSETTO:+0200
TZNAME:CEST
DTSTART:20260329T010000
END:DAYLIGHT
BEGIN:STANDARD
TZOFFSETFROM:+0200
TZOFFSETTO:+0100
TZNAME:CET
DTSTART:20261025T010000
END:STANDARD
END:VTIMEZONE
BEGIN:VEVENT
DTSTART;TZID=Europe/Amsterdam:20250117T200000
DTEND;TZID=Europe/Amsterdam:20250117T223000
DTSTAMP:20260422T051657
CREATED:20240827T090007Z
LAST-MODIFIED:20241212T095726Z
UID:10455-1737144000-1737153000@meedoensenb.nl
SUMMARY:Amigo café - Casino Night
DESCRIPTION:Op vrijdagavond 17 januari is er weer een Amigo café! Deze keer is het thema ‘Casino Night’; een gezellig feest met casinospellen. Bij binnenkomst krijg je van ons fiches waar je de hele avond mee kunt spelen. Heb je even geen zin in de casinospellen\, dan kun je dansen op de dansvloer of lekker rustig chillen met je vrienden/vriendinnen. Wij zorgen voor goede muziek en lekkere hapjes. \nHet Amigo-café is een gezellig avondje uit voor jongeren vanaf 16 jaar (1x per maand op vrijdagavond) als alternatief voor uitgaan in een regulier café of club. Het is een besloten activiteit (dus alleen voor jongeren die zijn aangemeld) van 20.00-22.30u in JC Oase Son. \nMeld je aan en doe gezellig mee!\n\nAanmelden via de mail  info@meedoensenb.nl\nDeze activiteit is voor jongeren vanaf 16 jaar.\nIedereen krijgt 3 consumptiebonnen.\n18+ Jongeren mogen (met toestemming van ouders) alcohol drinken. Er is keuze uit bier\, wijn\, Radler en Apple Bandit.\nWe zorgen voor een hapje tussendoor en zetten zoutjes op tafel.\nEigen bijdrage € 5\,- pp (via automatische incasso)
URL:https://meedoensenb.nl/evenement/amigo-cafe-5/
LOCATION:Oase Son\, Dommelstraat 10a\, Son en Breugel\, Nederland
ATTACH;FMTTYPE=image/jpeg:https://meedoensenb.nl/wp-content/uploads/2024/08/Casino-night-afbeelding.jpg
END:VEVENT
END:VCALENDAR