BEGIN:VCALENDAR
VERSION:2.0
PRODID:-//Stichting MeeDoen S&amp;B - ECPv6.15.20//NONSGML v1.0//EN
CALSCALE:GREGORIAN
METHOD:PUBLISH
X-ORIGINAL-URL:https://meedoensenb.nl
X-WR-CALDESC:Evenementen voor Stichting MeeDoen S&amp;B
REFRESH-INTERVAL;VALUE=DURATION:PT1H
X-Robots-Tag:noindex
X-PUBLISHED-TTL:PT1H
BEGIN:VTIMEZONE
TZID:Europe/Amsterdam
BEGIN:DAYLIGHT
TZOFFSETFROM:+0100
TZOFFSETTO:+0200
TZNAME:CEST
DTSTART:20200329T010000
END:DAYLIGHT
BEGIN:STANDARD
TZOFFSETFROM:+0200
TZOFFSETTO:+0100
TZNAME:CET
DTSTART:20201025T010000
END:STANDARD
BEGIN:DAYLIGHT
TZOFFSETFROM:+0100
TZOFFSETTO:+0200
TZNAME:CEST
DTSTART:20210328T010000
END:DAYLIGHT
BEGIN:STANDARD
TZOFFSETFROM:+0200
TZOFFSETTO:+0100
TZNAME:CET
DTSTART:20211031T010000
END:STANDARD
BEGIN:DAYLIGHT
TZOFFSETFROM:+0100
TZOFFSETTO:+0200
TZNAME:CEST
DTSTART:20220327T010000
END:DAYLIGHT
BEGIN:STANDARD
TZOFFSETFROM:+0200
TZOFFSETTO:+0100
TZNAME:CET
DTSTART:20221030T010000
END:STANDARD
END:VTIMEZONE
BEGIN:VEVENT
DTSTART;TZID=Europe/Amsterdam:20210514T150000
DTEND;TZID=Europe/Amsterdam:20210514T180000
DTSTAMP:20260426T061638
CREATED:20210209T141859Z
LAST-MODIFIED:20210430T085050Z
UID:5505-1621004400-1621015200@meedoensenb.nl
SUMMARY:Letter mozaïken - crea-activiteit
DESCRIPTION:In mei gaan we weer een gezellige thuis crea-activiteit voor jullie organiseren. \nDeze keer gaan we Letter Mozaïeken (de eerste letter van je voornaam).  Je krijgt van ons een compleet knutselpakket thuis gebracht op vrijdag 14 en zaterdag 15 mei. Hierin zitten alle materialen en een stappenplan voor het mozaïeken van de letter. \nJe hebt ruim een week de tijd om de letter thuis te mozaïeken. Op woensdag 26 mei komen we samen in Skype om alle gemaakte letters te showen en even gezellig bij te kletsen \n\nEr kunnen 15 kinderen meedoen. We werken met een wachtlijst\, mochten er meer dan 15 aanmeldingen binnenkomen.\nJe krijgt de 1e letter van je voornaam in je knutselpakket.\n\nDEZE ACTIVITEIT IS VOLGEBOEKT. JE KUNT NIET MEER AANMELDEN!
URL:https://meedoensenb.nl/evenement/houten-schelpen-letters-crea-activiteit/
LOCATION:Noord Brabant
ATTACH;FMTTYPE=image/png:https://meedoensenb.nl/wp-content/uploads/2021/02/foto3.png
END:VEVENT
BEGIN:VEVENT
DTSTART;TZID=Europe/Amsterdam:20210526T203000
DTEND;TZID=Europe/Amsterdam:20210526T213000
DTSTAMP:20260426T061638
CREATED:20210209T142413Z
LAST-MODIFIED:20210712T113858Z
UID:5508-1622061000-1622064600@meedoensenb.nl
SUMMARY:Skype bijeenkomst - Letter mozaïken
DESCRIPTION:Wat gaan we doen? \nJullie hebben op 14-15 mei allemaal een thuis crea-pakket ontvangen om leuke letter te mozaïken. Vanavond gaan we samen skypen en elkaars kunstwerken bewonderen. \nZet iets lekkers te eten en te drinken klaar; we maken er een gezellige avond van!
URL:https://meedoensenb.nl/evenement/skype-bijeenkomst-houten-schelpenletters/
LOCATION:Noord Brabant
END:VEVENT
END:VCALENDAR