BEGIN:VCALENDAR
VERSION:2.0
PRODID:-//Stichting MeeDoen S&amp;B - ECPv6.15.20//NONSGML v1.0//EN
CALSCALE:GREGORIAN
METHOD:PUBLISH
X-WR-CALNAME:Stichting MeeDoen S&amp;B
X-ORIGINAL-URL:https://meedoensenb.nl
X-WR-CALDESC:Evenementen voor Stichting MeeDoen S&amp;B
REFRESH-INTERVAL;VALUE=DURATION:PT1H
X-Robots-Tag:noindex
X-PUBLISHED-TTL:PT1H
BEGIN:VTIMEZONE
TZID:Europe/Amsterdam
BEGIN:DAYLIGHT
TZOFFSETFROM:+0100
TZOFFSETTO:+0200
TZNAME:CEST
DTSTART:20200329T010000
END:DAYLIGHT
BEGIN:STANDARD
TZOFFSETFROM:+0200
TZOFFSETTO:+0100
TZNAME:CET
DTSTART:20201025T010000
END:STANDARD
BEGIN:DAYLIGHT
TZOFFSETFROM:+0100
TZOFFSETTO:+0200
TZNAME:CEST
DTSTART:20210328T010000
END:DAYLIGHT
BEGIN:STANDARD
TZOFFSETFROM:+0200
TZOFFSETTO:+0100
TZNAME:CET
DTSTART:20211031T010000
END:STANDARD
BEGIN:DAYLIGHT
TZOFFSETFROM:+0100
TZOFFSETTO:+0200
TZNAME:CEST
DTSTART:20220327T010000
END:DAYLIGHT
BEGIN:STANDARD
TZOFFSETFROM:+0200
TZOFFSETTO:+0100
TZNAME:CET
DTSTART:20221030T010000
END:STANDARD
END:VTIMEZONE
BEGIN:VEVENT
DTSTART;TZID=Europe/Amsterdam:20211023T143000
DTEND;TZID=Europe/Amsterdam:20211023T163000
DTSTAMP:20260425T221753
CREATED:20210913T113723Z
LAST-MODIFIED:20210923T075037Z
UID:6228-1634999400-1635006600@meedoensenb.nl
SUMMARY:Expeditie Herfst
DESCRIPTION:Het is tijd voor een leuke expeditie! Net als bij het tv-programma Expeditie Robinson trekken we in kleine groepen het bos in. Trek je laarzen aan\, zet je kraag omhoog en ga gezellig met ons mee op Herfst Expeditie! \nWat gaan we doen? \nTijdens deze leuke Expeditietocht gaan jullie in kleine groepjes speuren door het bos\, vragen en puzzels oplossen\, voorwerpen zoeken en opdrachten als team uitvoeren. Met alle opdrachten kun je punten verdienen. Het is dus belangrijk om goed samen te werken! \nDe antwoorden van de opdrachten tijdens de speurtocht lever je in via de mobiele telefoon van je begeleider. Zoals altijd eten en drinken we tussendoor ook nog wat lekkers. \n15 kinderen kunnen meedoen. We lopen in kleine groepjes\, op gepaste afstand met voldoende begeleiders. We starten en eindigen bij de speeltuin in de Nachtegaallaan (tegenover huis nr. 36). \n\nAlle leeftijden\nAanmelden via info@meedoensenb.nl\nAantal deelnemers: maximaal 15\nIedereen die kan meedoen\, ontvangt een mail hierover\nDraag warme kleding. Neem bij slecht weer een regenjas mee.\nZit je in een rolstoel? Dan kun je helaas niet meedoen.\nKosten: €3\,50 (via automatische incasso) \n\n  \n  \n  \n  \n  \n  \n  \n  \n  \n 
URL:https://meedoensenb.nl/evenement/expeditie-herfst-2/
LOCATION:Speeltuin Nachtegaallaan Son\, Nachtegaallaan\, Son en Breugel
ATTACH;FMTTYPE=image/png:https://meedoensenb.nl/wp-content/uploads/2021/09/foto.png
END:VEVENT
BEGIN:VEVENT
DTSTART;TZID=Europe/Amsterdam:20211027T200000
DTEND;TZID=Europe/Amsterdam:20211027T213000
DTSTAMP:20260425T221753
CREATED:20210913T115737Z
LAST-MODIFIED:20211026T065646Z
UID:6232-1635364800-1635370200@meedoensenb.nl
SUMMARY:Bingo-avond
DESCRIPTION:Het is weer tijd voor een gezellige Bingo-avond! Deze keer in de Oase\, Dommelstraat 10a in Son. \nIedereen die meedoet\, krijgt een kaart met daarop verschillende cijfers. Er is een spelleider en zij benoemt het cijfer\, dat door de spelers weggestreept mag worden op de Bingo-kaart. Aan elke tafel is een vrijwilliger die je helpt als dat nodig is. De bingo is niet moeilijk: iedereen kan meedoen. Je kunt deze avond leuke prijsjes winnen. \nAanmelding: \n\nAanmelding via onze mail: info@meedoensenb.nl\nIedereen die kan meedoen\, ontvangt een bevestiging via de mail.\nEen paar dagen voordat de activiteit plaatsvindt\, ontvang je van ons nog een informatiebrief.\nDeze activiteit vindt plaats op woensdagavond in de herfstvakantie.\nEigen bijdrage: € 3\,50 (via automatische incasso)\n\nWij hopen op een gezellige activiteit. Wij hebben er veel zin in! \n  \n 
URL:https://meedoensenb.nl/evenement/bingo-avond-3/
LOCATION:Oase Son\, Dommelstraat 10a\, Son en Breugel\, Nederland
ATTACH;FMTTYPE=image/jpeg:https://meedoensenb.nl/wp-content/uploads/2020/06/Bingo-.jpg
END:VEVENT
END:VCALENDAR