BEGIN:VCALENDAR
VERSION:2.0
PRODID:-//Stichting MeeDoen S&amp;B - ECPv6.15.20//NONSGML v1.0//EN
CALSCALE:GREGORIAN
METHOD:PUBLISH
X-ORIGINAL-URL:https://meedoensenb.nl
X-WR-CALDESC:Evenementen voor Stichting MeeDoen S&amp;B
REFRESH-INTERVAL;VALUE=DURATION:PT1H
X-Robots-Tag:noindex
X-PUBLISHED-TTL:PT1H
BEGIN:VTIMEZONE
TZID:Europe/Amsterdam
BEGIN:DAYLIGHT
TZOFFSETFROM:+0100
TZOFFSETTO:+0200
TZNAME:CEST
DTSTART:20200329T010000
END:DAYLIGHT
BEGIN:STANDARD
TZOFFSETFROM:+0200
TZOFFSETTO:+0100
TZNAME:CET
DTSTART:20201025T010000
END:STANDARD
BEGIN:DAYLIGHT
TZOFFSETFROM:+0100
TZOFFSETTO:+0200
TZNAME:CEST
DTSTART:20210328T010000
END:DAYLIGHT
BEGIN:STANDARD
TZOFFSETFROM:+0200
TZOFFSETTO:+0100
TZNAME:CET
DTSTART:20211031T010000
END:STANDARD
BEGIN:DAYLIGHT
TZOFFSETFROM:+0100
TZOFFSETTO:+0200
TZNAME:CEST
DTSTART:20220327T010000
END:DAYLIGHT
BEGIN:STANDARD
TZOFFSETFROM:+0200
TZOFFSETTO:+0100
TZNAME:CET
DTSTART:20221030T010000
END:STANDARD
END:VTIMEZONE
BEGIN:VEVENT
DTSTART;TZID=Europe/Amsterdam:20211123T193000
DTEND;TZID=Europe/Amsterdam:20211123T211500
DTSTAMP:20260425T204100
CREATED:20211116T110318Z
LAST-MODIFIED:20211116T110318Z
UID:6382-1637695800-1637702100@meedoensenb.nl
SUMMARY:De grote (online) Chocolade Kwis
DESCRIPTION:Helaas kan door de nieuwe Corona maatregelen de workshop ‘Chocoladeletter maken’ niet doorgaan. In plaats daarvan dagen wij je uit om mee te doen aan onze grote Chocolade Kwis op di 23 november en woe 24 november. \nBen jij een echte liefhebber van chocolade? Weet je waar chocolade vandaan komt en hoe het wordt gemaakt? Ken je alle smaken uit je hoofd en krijg je er nooit genoeg van? Dan is deze kwis echt iets voor jou. (Ook als je niet van chocolade houdt\, kun je natuurlijk gezellig mee kwissen!) \nWe starten allemaal tegelijk!\nTijdens de kwis kun je de vragen meelezen en meteen online de antwoorden invullen. We doen alle vragen één voor één. De antwoorden stuur je aan het einde op. \nWe spelen het spel in kleine groepjes. Via Skype kunnen we elkaar goed zien en horen en kunnen we gezellig samen aan de slag. \nVoor de winnaars is er een leuke prijs! Deze wordt bij je thuisgebracht. \nAanmelden via de mail info@meedoensenb.nl \n 
URL:https://meedoensenb.nl/evenement/de-grote-online-chocolade-kwis/
LOCATION:Noord Brabant
ATTACH;FMTTYPE=image/png:https://meedoensenb.nl/wp-content/uploads/2021/11/Kwis-fotot.png
END:VEVENT
BEGIN:VEVENT
DTSTART;TZID=Europe/Amsterdam:20211124T193000
DTEND;TZID=Europe/Amsterdam:20211124T211500
DTSTAMP:20260425T204100
CREATED:20211116T110424Z
LAST-MODIFIED:20211116T110424Z
UID:6385-1637782200-1637788500@meedoensenb.nl
SUMMARY:De grote (online) Chocolade Kwis
DESCRIPTION:Helaas kan door de nieuwe Corona maatregelen de workshop ‘Chocoladeletter maken’ niet doorgaan. In plaats daarvan dagen wij je uit om mee te doen aan onze grote Chocolade Kwis op di 23 november en woe 24 november. \nBen jij een echte liefhebber van chocolade? Weet je waar chocolade vandaan komt en hoe het wordt gemaakt? Ken je alle smaken uit je hoofd en krijg je er nooit genoeg van? Dan is deze kwis echt iets voor jou. (Ook als je niet van chocolade houdt\, kun je natuurlijk gezellig mee kwissen!) \nWe starten allemaal tegelijk!\nTijdens de kwis kun je de vragen meelezen en meteen online de antwoorden invullen. We doen alle vragen één voor één. De antwoorden stuur je aan het einde op. \nWe spelen het spel in kleine groepjes. Via Skype kunnen we elkaar goed zien en horen en kunnen we gezellig samen aan de slag. \nVoor de winnaars is er een leuke prijs! Deze wordt bij je thuisgebracht. \nAanmelden via de mail info@meedoensenb.nl \n 
URL:https://meedoensenb.nl/evenement/de-grote-online-chocolade-kwis-2/
LOCATION:Noord Brabant
ATTACH;FMTTYPE=image/png:https://meedoensenb.nl/wp-content/uploads/2021/11/Kwis-fotot.png
END:VEVENT
END:VCALENDAR