BEGIN:VCALENDAR
VERSION:2.0
PRODID:-//Stichting MeeDoen S&amp;B - ECPv6.15.20//NONSGML v1.0//EN
CALSCALE:GREGORIAN
METHOD:PUBLISH
X-WR-CALNAME:Stichting MeeDoen S&amp;B
X-ORIGINAL-URL:https://meedoensenb.nl
X-WR-CALDESC:Evenementen voor Stichting MeeDoen S&amp;B
REFRESH-INTERVAL;VALUE=DURATION:PT1H
X-Robots-Tag:noindex
X-PUBLISHED-TTL:PT1H
BEGIN:VTIMEZONE
TZID:Europe/Amsterdam
BEGIN:DAYLIGHT
TZOFFSETFROM:+0100
TZOFFSETTO:+0200
TZNAME:CEST
DTSTART:20210328T010000
END:DAYLIGHT
BEGIN:STANDARD
TZOFFSETFROM:+0200
TZOFFSETTO:+0100
TZNAME:CET
DTSTART:20211031T010000
END:STANDARD
BEGIN:DAYLIGHT
TZOFFSETFROM:+0100
TZOFFSETTO:+0200
TZNAME:CEST
DTSTART:20220327T010000
END:DAYLIGHT
BEGIN:STANDARD
TZOFFSETFROM:+0200
TZOFFSETTO:+0100
TZNAME:CET
DTSTART:20221030T010000
END:STANDARD
BEGIN:DAYLIGHT
TZOFFSETFROM:+0100
TZOFFSETTO:+0200
TZNAME:CEST
DTSTART:20230326T010000
END:DAYLIGHT
BEGIN:STANDARD
TZOFFSETFROM:+0200
TZOFFSETTO:+0100
TZNAME:CET
DTSTART:20231029T010000
END:STANDARD
END:VTIMEZONE
BEGIN:VEVENT
DTSTART;TZID=Europe/Amsterdam:20220112T193000
DTEND;TZID=Europe/Amsterdam:20220112T211500
DTSTAMP:20260425T173604
CREATED:20220102T173923Z
LAST-MODIFIED:20220102T173923Z
UID:6450-1642015800-1642022100@meedoensenb.nl
SUMMARY:Thuis-bingo
DESCRIPTION:We spelen Bingo in 2 groepen via Skype;\n– Groep 1: 19.30-20.15u\n– Groep 2: 20.30-21.15u \nJe krijgt van ons de bingokaarten per email opgestuurd. Print deze uit\, zodat je deze thuis kunt gebruiken. We gebruiken de cijfers 1 t/m 50 voor de bingo. Chantal zal het spel leiden en de balletjes draaien. Ze zal de cijfers goed in beeld laten zien. Je streept de getallen weg\, als ze op de kaart staan. \nJe kunt deze avond leuke kleine prijsjes winnen. We zullen deze naderhand (op afstand) bij je thuis komen brengen of de prijs opsturen.
URL:https://meedoensenb.nl/evenement/thuis-bingo-10/
LOCATION:Noord Brabant
ATTACH;FMTTYPE=image/jpeg:https://meedoensenb.nl/wp-content/uploads/2020/06/Bingo-.jpg
END:VEVENT
BEGIN:VEVENT
DTSTART;TZID=Europe/Amsterdam:20220113T193000
DTEND;TZID=Europe/Amsterdam:20220113T211500
DTSTAMP:20260425T173604
CREATED:20220102T174049Z
LAST-MODIFIED:20220102T174049Z
UID:6452-1642102200-1642108500@meedoensenb.nl
SUMMARY:Thuis-bingo
DESCRIPTION:We spelen Bingo in 2 groepen via Skype;\n– Groep 1: 19.30-20.15u\n– Groep 2: 20.30-21.15u \nJe krijgt van ons de bingokaarten per email opgestuurd. Print deze uit\, zodat je deze thuis kunt gebruiken. We gebruiken de cijfers 1 t/m 50 voor de bingo. Chantal zal het spel leiden en de balletjes draaien. Ze zal de cijfers goed in beeld laten zien. Je streept de getallen weg\, als ze op de kaart staan. \nJe kunt deze avond leuke kleine prijsjes winnen. We zullen deze naderhand (op afstand) bij je thuis komen brengen of de prijs opsturen.
URL:https://meedoensenb.nl/evenement/thuis-bingo-11/
LOCATION:Noord Brabant
ATTACH;FMTTYPE=image/jpeg:https://meedoensenb.nl/wp-content/uploads/2020/06/Bingo-.jpg
END:VEVENT
END:VCALENDAR