BEGIN:VCALENDAR
VERSION:2.0
PRODID:-//Stichting MeeDoen S&amp;B - ECPv6.15.20//NONSGML v1.0//EN
CALSCALE:GREGORIAN
METHOD:PUBLISH
X-WR-CALNAME:Stichting MeeDoen S&amp;B
X-ORIGINAL-URL:https://meedoensenb.nl
X-WR-CALDESC:Evenementen voor Stichting MeeDoen S&amp;B
REFRESH-INTERVAL;VALUE=DURATION:PT1H
X-Robots-Tag:noindex
X-PUBLISHED-TTL:PT1H
BEGIN:VTIMEZONE
TZID:Europe/Amsterdam
BEGIN:DAYLIGHT
TZOFFSETFROM:+0100
TZOFFSETTO:+0200
TZNAME:CEST
DTSTART:20210328T010000
END:DAYLIGHT
BEGIN:STANDARD
TZOFFSETFROM:+0200
TZOFFSETTO:+0100
TZNAME:CET
DTSTART:20211031T010000
END:STANDARD
BEGIN:DAYLIGHT
TZOFFSETFROM:+0100
TZOFFSETTO:+0200
TZNAME:CEST
DTSTART:20220327T010000
END:DAYLIGHT
BEGIN:STANDARD
TZOFFSETFROM:+0200
TZOFFSETTO:+0100
TZNAME:CET
DTSTART:20221030T010000
END:STANDARD
BEGIN:DAYLIGHT
TZOFFSETFROM:+0100
TZOFFSETTO:+0200
TZNAME:CEST
DTSTART:20230326T010000
END:DAYLIGHT
BEGIN:STANDARD
TZOFFSETFROM:+0200
TZOFFSETTO:+0100
TZNAME:CET
DTSTART:20231029T010000
END:STANDARD
END:VTIMEZONE
BEGIN:VEVENT
DTSTART;TZID=Europe/Amsterdam:20220212T133000
DTEND;TZID=Europe/Amsterdam:20220212T164500
DTSTAMP:20260425T160023
CREATED:20220113T105426Z
LAST-MODIFIED:20220113T105609Z
UID:6468-1644672600-1644684300@meedoensenb.nl
SUMMARY:Kookworkshop Winterse Apfelstrudel
DESCRIPTION:Het is alweer een tijd geleden dat we een leuke kookactiviteit hebben georganiseerd. Daarom gaan we samen thuis wat lekkers bakken: een winterse Apfelstrudel. \nWat gaan we doen? \nOp 12 februari gaan we samen apfelstrudel bakken. Apfelstrudel is een lekker ‘gebakje’ gemaakt van deeg en appels. Jullie krijgen allemaal een tas met ingrediënten en een duidelijke uitleg met foto’s hoe je de apfelstrudel kunt maken. We werken in 2 groepen (13.30u en 15.15u.) Zorg ervoor dat je alle materialen en ingrediënten klaar hebt staan. Via Skype gaan we samen aan de slag om de apfelstrudels te maken en te bakken in de oven. \nIn de tijd dat we wachten\, spelen we een spelletje. Ben jij de beste bakker? Doe dan met ons mee! \n\nAanmelden vóór dinsdag 1 feb via de mail: info@meedoensenb.nl\nVerdere informatie over de workshop volgt nog via een mail die we jullie een week van te voren sturen.\nEr kunnen per groep  8 jongeren meedoen. We werken met een wachtlijst bij meer aanmeldingen.\n\n\n. \n 
URL:https://meedoensenb.nl/evenement/kookworkshop-winterse-apfelstrudel/
LOCATION:Noord Brabant
ATTACH;FMTTYPE=image/png:https://meedoensenb.nl/wp-content/uploads/2022/01/Foto.png
END:VEVENT
END:VCALENDAR