BEGIN:VCALENDAR
VERSION:2.0
PRODID:-//Stichting MeeDoen S&amp;B - ECPv6.15.20//NONSGML v1.0//EN
CALSCALE:GREGORIAN
METHOD:PUBLISH
X-WR-CALNAME:Stichting MeeDoen S&amp;B
X-ORIGINAL-URL:https://meedoensenb.nl
X-WR-CALDESC:Evenementen voor Stichting MeeDoen S&amp;B
REFRESH-INTERVAL;VALUE=DURATION:PT1H
X-Robots-Tag:noindex
X-PUBLISHED-TTL:PT1H
BEGIN:VTIMEZONE
TZID:Europe/Amsterdam
BEGIN:DAYLIGHT
TZOFFSETFROM:+0100
TZOFFSETTO:+0200
TZNAME:CEST
DTSTART:20210328T010000
END:DAYLIGHT
BEGIN:STANDARD
TZOFFSETFROM:+0200
TZOFFSETTO:+0100
TZNAME:CET
DTSTART:20211031T010000
END:STANDARD
BEGIN:DAYLIGHT
TZOFFSETFROM:+0100
TZOFFSETTO:+0200
TZNAME:CEST
DTSTART:20220327T010000
END:DAYLIGHT
BEGIN:STANDARD
TZOFFSETFROM:+0200
TZOFFSETTO:+0100
TZNAME:CET
DTSTART:20221030T010000
END:STANDARD
BEGIN:DAYLIGHT
TZOFFSETFROM:+0100
TZOFFSETTO:+0200
TZNAME:CEST
DTSTART:20230326T010000
END:DAYLIGHT
BEGIN:STANDARD
TZOFFSETFROM:+0200
TZOFFSETTO:+0100
TZNAME:CET
DTSTART:20231029T010000
END:STANDARD
END:VTIMEZONE
BEGIN:VEVENT
DTSTART;TZID=Europe/Amsterdam:20220322T193000
DTEND;TZID=Europe/Amsterdam:20220322T213000
DTSTAMP:20260425T143418
CREATED:20220208T110337Z
LAST-MODIFIED:20220214T092352Z
UID:6524-1647977400-1647984600@meedoensenb.nl
SUMMARY:Ik hou van Holland - Kwis
DESCRIPTION:We spelen ‘Ik hou van Holland’ via Skype in twee groepen;\n– Groep 1 19.30-20.15u\n– Groep 2 20.30-21.15u \nTijdens het spel kun je de vragen meelezen en meteen online de antwoorden invullen. We doen de vragen één voor éen en spelen soms samen en tegen elkaar in Skype. De antwoorden stuur je aan het einde van het spel in. \nDe vragen gaan natuurlijk over allerlei dingen uit Nederland. We spelen muziek en we hebben zelfs de echte verjaardagsbom van TV! Ben jij er klaar voor? \nVind je het leuk om mee te doen? Meld je dan aan vóór 17 maart via de mail info@meedoensenb.nl
URL:https://meedoensenb.nl/evenement/ik-hou-van-holland-kwis/
LOCATION:Noord Brabant
ATTACH;FMTTYPE=image/png:https://meedoensenb.nl/wp-content/uploads/2022/02/Foto.png
END:VEVENT
BEGIN:VEVENT
DTSTART;TZID=Europe/Amsterdam:20220323T193000
DTEND;TZID=Europe/Amsterdam:20220323T213000
DTSTAMP:20260425T143418
CREATED:20220208T110429Z
LAST-MODIFIED:20220214T092330Z
UID:6527-1648063800-1648071000@meedoensenb.nl
SUMMARY:Ik hou van Holland - Kwis
DESCRIPTION:We spelen ‘Ik hou van Holland’ via Skype in twee groepen;\n– Groep 1 19.30-20.15u\n– Groep 2 20.30-21.15u \nTijdens het spel kun je de vragen meelezen en meteen online de antwoorden invullen. We doen de vragen één voor éen en spelen soms samen en tegen elkaar in Skype. De antwoorden stuur je aan het einde van het spel in. \nDe vragen gaan natuurlijk over allerlei dingen uit Nederland. We spelen muziek en we hebben zelfs de echte verjaardagsbom van TV! Ben jij er klaar voor? \nVind je het leuk om mee te doen? Meld je dan aan vóór 17 maart via de mail info@meedoensenb.nl
URL:https://meedoensenb.nl/evenement/ik-hou-van-holland-kwis-2/
LOCATION:Noord Brabant
ATTACH;FMTTYPE=image/png:https://meedoensenb.nl/wp-content/uploads/2022/02/Foto.png
END:VEVENT
BEGIN:VEVENT
DTSTART;TZID=Europe/Amsterdam:20220330T200000
DTEND;TZID=Europe/Amsterdam:20220330T210000
DTSTAMP:20260425T143418
CREATED:20220207T125423Z
LAST-MODIFIED:20220217T135343Z
UID:6515-1648670400-1648674000@meedoensenb.nl
SUMMARY:Muziekworkshop
DESCRIPTION:Het is weer tijd voor een leuke muziekworkshop op woensdag 30 maart van 19.00- 20.00 uur in basisschool de Stokland\, Jupiterstraat 3 in Breugel. \nWat gaan we doen? \nLizet en Annette gaan met jullie in spelvorm leuke liedjes spelen en samen zingen. Deze keer weer met de gitaar en de accordeon. Jullie mogen ook weer meezingen en mee spelen met de instrumenten. \nDe muziekjuffen hebben er weer zin in. Jullie ook? Meld je dan snel aan via de mail. \n\ndeze muziekworkshop is voor alle leeftijden; wel gericht op basisschool niveau\naanmelden via de mail info@meedoensenb.nl \nwe zorgen voor een ruimte waar we voldoende afstand van elkaar kunnen houden\ndeelname is gratis\n\n 
URL:https://meedoensenb.nl/evenement/muziekworkshop-4/
LOCATION:Noord Brabant
ATTACH;FMTTYPE=image/jpeg:https://meedoensenb.nl/wp-content/uploads/2021/03/Muziek.jpeg
END:VEVENT
END:VCALENDAR