BEGIN:VCALENDAR
VERSION:2.0
PRODID:-//Stichting MeeDoen S&amp;B - ECPv6.15.20//NONSGML v1.0//EN
CALSCALE:GREGORIAN
METHOD:PUBLISH
X-ORIGINAL-URL:https://meedoensenb.nl
X-WR-CALDESC:Evenementen voor Stichting MeeDoen S&amp;B
REFRESH-INTERVAL;VALUE=DURATION:PT1H
X-Robots-Tag:noindex
X-PUBLISHED-TTL:PT1H
BEGIN:VTIMEZONE
TZID:Europe/Amsterdam
BEGIN:DAYLIGHT
TZOFFSETFROM:+0100
TZOFFSETTO:+0200
TZNAME:CEST
DTSTART:20210328T010000
END:DAYLIGHT
BEGIN:STANDARD
TZOFFSETFROM:+0200
TZOFFSETTO:+0100
TZNAME:CET
DTSTART:20211031T010000
END:STANDARD
BEGIN:DAYLIGHT
TZOFFSETFROM:+0100
TZOFFSETTO:+0200
TZNAME:CEST
DTSTART:20220327T010000
END:DAYLIGHT
BEGIN:STANDARD
TZOFFSETFROM:+0200
TZOFFSETTO:+0100
TZNAME:CET
DTSTART:20221030T010000
END:STANDARD
BEGIN:DAYLIGHT
TZOFFSETFROM:+0100
TZOFFSETTO:+0200
TZNAME:CEST
DTSTART:20230326T010000
END:DAYLIGHT
BEGIN:STANDARD
TZOFFSETFROM:+0200
TZOFFSETTO:+0100
TZNAME:CET
DTSTART:20231029T010000
END:STANDARD
END:VTIMEZONE
BEGIN:VEVENT
DTSTART;TZID=Europe/Amsterdam:20220403T151300
DTEND;TZID=Europe/Amsterdam:20220403T183000
DTSTAMP:20260425T130348
CREATED:20220301T152722Z
LAST-MODIFIED:20220301T152722Z
UID:6574-1648998780-1649010600@meedoensenb.nl
SUMMARY:Chocolade workshop Paasei maken
DESCRIPTION:Bij Creatief & lekker werkt Trudie. Zij weet alles van chocolade maken en banketbakken. Zij gaat vertellen en uitleggen hoe wij het beste kunnen werken met chocolade. Tijdens de workshop maken we allemaal een eigen chocolade paasei. Als het paasei klaar is\, mag je het versieren met fondant. Als je klaar bent\, verpakken we het ei en kun je het prachtige chocolade ei mee naar huis nemen. \nIedereen kan meedoen aan deze activiteit. Er zijn voldoende begeleiders om mee te helpen tijdens de workshop. Er wordt voor wat drinken tijdens de workshop gezorgd. \nExtra informatie: \n\nAlle leeftijden\nAanmelden via info@meedoensenb.nl\nGeef bij je aanmelding door of je melkchocolade mag eten!\nAantal deelnemers: maximaal 12. We werken met een wachtlijst.\nIedereen die kan meedoen\, ontvangt een bevestigingsmail.\nWe rijden gezamenlijk naar Nistelrode.
URL:https://meedoensenb.nl/evenement/chocolade-workshop-paasei-maken-2/
LOCATION:Creatief en Lekker\, Den Hof 17\, Nistelrode\, Noord Brabant\, 5388 GN\, Nederland
ATTACH;FMTTYPE=image/png:https://meedoensenb.nl/wp-content/uploads/2022/02/foto-paasei.png
END:VEVENT
BEGIN:VEVENT
DTSTART;TZID=Europe/Amsterdam:20220409T153000
DTEND;TZID=Europe/Amsterdam:20220409T161500
DTSTAMP:20260425T130348
CREATED:20220328T101554Z
LAST-MODIFIED:20220328T104609Z
UID:6614-1649518200-1649520900@meedoensenb.nl
SUMMARY:Start: Buitengewoon Aquavaria en prikkelarm zwemmen
DESCRIPTION:Stg. MeeDoen ondersteunt een breed sportaanbod op maat in Son en Breugel voor jongeren met een beperking die niet zo makkelijk kunnen aansluiten bij de reguliere teams. En dit mooie aanbod wordt binnenkort weer uitgebreid! Samen met Zwembad Son introduceren we een nieuwe les vol plezier: Buitengewoon Aquavaria en Prikkelarm zwemmen.  \nWat is Aquavaria? \nAquavaria is een leuke activiteit in het zwembad. Iedere les doen we een andere wateractiviteit. Bijvoorbeeld met matten\, een balspel\, onderwater zwemmen\, duikspelletjes\, etc. Elke les weer iets anders. Aan het eind van de les is er ook nog tijd om even vrij te zwemmen. \nPrikkelarm zwemmen: \nTegelijkertijd met Aquavaria mag je ook het zwembad in om prikkelarm te zwemmen\, eventueel met een van je ouders of een begeleider. Het prikkelarm zwemmen vindt plaats in een ander gedeelte van het zwembad. \nKortom: weer een hele leuke activiteit om aan mee te doen! \n In het kort: \nAanbod:            Buitengewoon Aquavaria / Prikkelarm zwemmen \nLocatie:             Zwembad Son\, Thermaelaan 2 in Son en Breugel \nVoor wie:          voor jongeren met een beperking of die niet zo makkelijk kunnen aansluiten binnen het reguliere zwemaanbod \nLeeftijd:            vanaf 10 jaar \nDag + tijd:         zaterdag 9 april 13.30-14.15u (start) \nKosten:             € 55\,- (blok van 6 lessen) \nAanmelden:    www.zwembadson.nl/jeugd –  info@meedoensenb.nl \n  \nBelangrijk: \n\nGeef bij je aanmelding door of je meedoet met Aquavaria of het Prikkelarm zwemmen.\nDe lessen worden gegeven door een zweminstructeur en er is een vrijwilliger aanwezig voor toezicht.\nGeef bij je aanmelding door of je een zwemdiploma hebt.\nHeb je geen diploma en kun je alleen in ondiep water zwemmen\, geef dat dan ook door bij je aanmelding.\nOp zaterdag 9 april van 13.30-14.15u is de proefles.\nHet aanbod is wekelijks en wordt gegeven in blokken van 6 lessen.\nEr is géén lift aanwezig.\n\nLijkt het jou leuk om in teamverband in het water plezier te maken? Doe dan gezellig mee en meld je dan zo snel mogelijk aan voor de proefles op zaterdag 9 april! \n 
URL:https://meedoensenb.nl/evenement/start-buitengewoon-aquavaria-en-prikkelarm-zwemmen/
LOCATION:Zwembad Son\, Thermaelaan 2\, Son en Breugel\, Noord Brabant\, 5691 PM
ATTACH;FMTTYPE=image/png:https://meedoensenb.nl/wp-content/uploads/2022/03/Afbeelding-flyer.png
END:VEVENT
BEGIN:VEVENT
DTSTART;TZID=Europe/Amsterdam:20220410T141500
DTEND;TZID=Europe/Amsterdam:20220410T173000
DTSTAMP:20260425T130348
CREATED:20220217T131313Z
LAST-MODIFIED:20220217T132116Z
UID:6545-1649600100-1649611800@meedoensenb.nl
SUMMARY:Chocolade workshop Paasei maken
DESCRIPTION:Bij Creatief & lekker werkt Trudie. Zij weet alles van chocolade maken en banketbakken. Zij gaat vertellen en uitleggen hoe wij het beste kunnen werken met chocolade. Tijdens de workshop maken we allemaal een eigen chocolade paasei. Als het paasei klaar is\, mag je het versieren met fondant. Als je klaar bent\, verpakken we het ei en kun je het prachtige chocolade ei mee naar huis nemen. \nIedereen kan meedoen aan deze activiteit. Er zijn voldoende begeleiders om mee te helpen tijdens de workshop. Er wordt voor wat drinken tijdens de workshop gezorgd. \nExtra informatie: \n\nAlle leeftijden\nAanmelden via info@meedoensenb.nl\nGeef bij je aanmelding door of je melkchocolade mag eten!\nAantal deelnemers: maximaal 12. We werken met een wachtlijst.\nIedereen die kan meedoen\, ontvangt een bevestigingsmail.\nWe rijden gezamenlijk naar Nistelrode.\n\n  \n  \n  \n  \n  \nMet vriendelijke groeten\,
URL:https://meedoensenb.nl/evenement/chocolade-workshop-paasei-maken/
LOCATION:Creatief en Lekker\, Den Hof 17\, Nistelrode\, Noord Brabant\, 5388 GN\, Nederland
ATTACH;FMTTYPE=image/png:https://meedoensenb.nl/wp-content/uploads/2022/02/foto-paasei.png
END:VEVENT
END:VCALENDAR