BEGIN:VCALENDAR
VERSION:2.0
PRODID:-//Stichting MeeDoen S&amp;B - ECPv6.15.20//NONSGML v1.0//EN
CALSCALE:GREGORIAN
METHOD:PUBLISH
X-ORIGINAL-URL:https://meedoensenb.nl
X-WR-CALDESC:Evenementen voor Stichting MeeDoen S&amp;B
REFRESH-INTERVAL;VALUE=DURATION:PT1H
X-Robots-Tag:noindex
X-PUBLISHED-TTL:PT1H
BEGIN:VTIMEZONE
TZID:Europe/Amsterdam
BEGIN:DAYLIGHT
TZOFFSETFROM:+0100
TZOFFSETTO:+0200
TZNAME:CEST
DTSTART:20210328T010000
END:DAYLIGHT
BEGIN:STANDARD
TZOFFSETFROM:+0200
TZOFFSETTO:+0100
TZNAME:CET
DTSTART:20211031T010000
END:STANDARD
BEGIN:DAYLIGHT
TZOFFSETFROM:+0100
TZOFFSETTO:+0200
TZNAME:CEST
DTSTART:20220327T010000
END:DAYLIGHT
BEGIN:STANDARD
TZOFFSETFROM:+0200
TZOFFSETTO:+0100
TZNAME:CET
DTSTART:20221030T010000
END:STANDARD
BEGIN:DAYLIGHT
TZOFFSETFROM:+0100
TZOFFSETTO:+0200
TZNAME:CEST
DTSTART:20230326T010000
END:DAYLIGHT
BEGIN:STANDARD
TZOFFSETFROM:+0200
TZOFFSETTO:+0100
TZNAME:CET
DTSTART:20231029T010000
END:STANDARD
END:VTIMEZONE
BEGIN:VEVENT
DTSTART;TZID=Europe/Amsterdam:20221003T203000
DTEND;TZID=Europe/Amsterdam:20221003T220000
DTSTAMP:20260425T034133
CREATED:20220922T184544Z
LAST-MODIFIED:20220922T184544Z
UID:8047-1664829000-1664834400@meedoensenb.nl
SUMMARY:Bakactiviteit 'Heel Archipel Bakt'
DESCRIPTION:Bij Berkenstaete wordt dit jaar een leuke bakwedstrijd georganiseerd. Bewoners\, cliënten\, medewerkers\, buurtbewoners etc. zijn uitgenodigd om mee te doen met deze leuke bakwedstrijd; ‘Heel Archipel Bakt’. Ook stichting MeeDoen! Hoe leuk is dat! \nOp maandagavond 3 oktober bakken we met een groepje MeeDoen jongeren taarten en cupcakes en gaan deze mooi versieren. \nDe taarten moeten op woensdag 4 oktober vóór 10.00u worden afgegeven bij verzorgingshuis Berkenstaete in Son. Daar is een jury aanwezig die alle bakcreaties kan zien\, proeven en beoordelen. De beste bakcreatie ontvangt een prijs en mag meedoen aan de finale op woensdag 5 oktober. \nVind je het leuk om met ons mee te doen? Meld je dan aan via de mail info@meedoensenb.nl \nBAKKERS KLAAR? BAKKEN MAAR!!!
URL:https://meedoensenb.nl/evenement/bakactiviteit-heel-archipel-bakt/
LOCATION:Noord Brabant
ATTACH;FMTTYPE=image/png:https://meedoensenb.nl/wp-content/uploads/2022/09/collage.png
END:VEVENT
BEGIN:VEVENT
DTSTART;TZID=Europe/Amsterdam:20221022T143000
DTEND;TZID=Europe/Amsterdam:20221022T170000
DTSTAMP:20260425T034133
CREATED:20220927T080729Z
LAST-MODIFIED:20220929T094623Z
UID:8102-1666449000-1666458000@meedoensenb.nl
SUMMARY:Happen en Stappen Wandeltocht
DESCRIPTION:Op zaterdag 22 oktober kunnen de wandelschoenen weer aan! Na onze succesvolle Herfst Expeditie van vorig jaar\, organiseren we dit jaar weer een leuke tocht: Happen en Stappen. \nWat gaan we doen? \nJe loopt in kleine groepjes en onderweg gaan jullie vragen en opdrachten als team uitvoeren. Met alle opdrachten kun je punten verdienen. Het is dus belangrijk om goed samen te werken! De antwoorden van de vragen en opdrachten tijdens de wandeltocht lever je in via de mobiele telefoon van je begeleider. Onderweg zijn er lekkere hapjes en we sluiten af met een heerlijke puntzak friet en wat te drinken. \nWij zorgen voor voldoende begeleiders. We starten en eindigen bij het Dommelhuis in Son. \n 
URL:https://meedoensenb.nl/evenement/culinaire-wandeltocht/
LOCATION:Noord Brabant
ATTACH;FMTTYPE=image/png:https://meedoensenb.nl/wp-content/uploads/2022/09/Foto-1.png
END:VEVENT
BEGIN:VEVENT
DTSTART;TZID=Europe/Amsterdam:20221026T200000
DTEND;TZID=Europe/Amsterdam:20221026T210000
DTSTAMP:20260425T034133
CREATED:20220207T125627Z
LAST-MODIFIED:20221020T072607Z
UID:6517-1666814400-1666818000@meedoensenb.nl
SUMMARY:Muziekworkshop
DESCRIPTION:Het is weer tijd voor een leuke muziekworkshop op woensdag 26 oktober van 19.00- 20.00 uur in basisschool de Stokland\, Jupiterstraat 3 in Breugel. \nWat gaan we doen? \nDeze keer spelen we het spel kwartet. Een kwartet bestaat uit 4 kaarten die bij elkaar horen. De speler die aan de beurt is vraagt aan een andere speler een kaart naar keuze. Heb je de 4 kaarten verzameld die bij elkaar horen? Dan mag jij een muzieknummer kiezen! Het is een leuk spel en niet moeilijk om te doen. \nDeelname is gratis. Aanmelden via de mail info@meedoensenb.nl \n 
URL:https://meedoensenb.nl/evenement/muziekworkshop-6/
LOCATION:Noord Brabant
ATTACH;FMTTYPE=image/jpeg:https://meedoensenb.nl/wp-content/uploads/2015/03/IMG_8483.jpeg
END:VEVENT
END:VCALENDAR