BEGIN:VCALENDAR
VERSION:2.0
PRODID:-//Stichting MeeDoen S&amp;B - ECPv6.15.20//NONSGML v1.0//EN
CALSCALE:GREGORIAN
METHOD:PUBLISH
X-ORIGINAL-URL:https://meedoensenb.nl
X-WR-CALDESC:Evenementen voor Stichting MeeDoen S&amp;B
REFRESH-INTERVAL;VALUE=DURATION:PT1H
X-Robots-Tag:noindex
X-PUBLISHED-TTL:PT1H
BEGIN:VTIMEZONE
TZID:Europe/Amsterdam
BEGIN:DAYLIGHT
TZOFFSETFROM:+0100
TZOFFSETTO:+0200
TZNAME:CEST
DTSTART:20210328T010000
END:DAYLIGHT
BEGIN:STANDARD
TZOFFSETFROM:+0200
TZOFFSETTO:+0100
TZNAME:CET
DTSTART:20211031T010000
END:STANDARD
BEGIN:DAYLIGHT
TZOFFSETFROM:+0100
TZOFFSETTO:+0200
TZNAME:CEST
DTSTART:20220327T010000
END:DAYLIGHT
BEGIN:STANDARD
TZOFFSETFROM:+0200
TZOFFSETTO:+0100
TZNAME:CET
DTSTART:20221030T010000
END:STANDARD
BEGIN:DAYLIGHT
TZOFFSETFROM:+0100
TZOFFSETTO:+0200
TZNAME:CEST
DTSTART:20230326T010000
END:DAYLIGHT
BEGIN:STANDARD
TZOFFSETFROM:+0200
TZOFFSETTO:+0100
TZNAME:CET
DTSTART:20231029T010000
END:STANDARD
END:VTIMEZONE
BEGIN:VEVENT
DTSTART;TZID=Europe/Amsterdam:20221115T193000
DTEND;TZID=Europe/Amsterdam:20221115T213000
DTSTAMP:20260425T020813
CREATED:20220927T081056Z
LAST-MODIFIED:20221020T130555Z
UID:8105-1668540600-1668547800@meedoensenb.nl
SUMMARY:Thuis-bingo (online)
DESCRIPTION:Op dinsdag 15 november is het weer tijd voor een leuke thuis-bingo. We spelen bingo in 2 groepen via Skype;\n– Groep 1: 19.30-20.15u\n– Groep 2: 20.30-21.15u \nJe krijgt van ons de bingokaarten per email opgestuurd. Print deze uit\, zodat je deze thuis kunt gebruiken. We gebruiken de cijfers 1 t/m 50 voor de bingo. Chantal zal het spel leiden en de balletjes draaien. Ze zal de cijfers goed in beeld laten zien. Je streept de getallen weg\, als ze op de kaart staan. \nJe kunt deze avond leuke kleine prijsjes winnen. We zullen deze naderhand bij je thuis komen brengen of de prijs opsturen. \nAanmelden via de mail: info@meedoensenb.nl
URL:https://meedoensenb.nl/evenement/thuis-bingo-online/
LOCATION:Noord Brabant
ATTACH;FMTTYPE=image/jpeg:https://meedoensenb.nl/wp-content/uploads/2020/06/Bingo-.jpg
END:VEVENT
BEGIN:VEVENT
DTSTART;TZID=Europe/Amsterdam:20221119T131500
DTEND;TZID=Europe/Amsterdam:20221119T163000
DTSTAMP:20260425T020813
CREATED:20221003T112448Z
LAST-MODIFIED:20221101T160924Z
UID:8144-1668863700-1668875400@meedoensenb.nl
SUMMARY:Workshop Chocoladeletter maken
DESCRIPTION:Bij Creatief & lekker werkt Trudie. Zij weet alles van chocolade maken en banketbakken. Zij gaat vertellen en uitleggen hoe wij het beste kunnen werken met chocolade. \nTijdens de workshop maken we allemaal een eigen chocoladeletter. Iedere chocoladeletter mogen jullie zelf versieren met de heerlijkste nootjes\, koffiebonen\, marshmallows\, sprinkels\, snoepjes\, andere chocolaatjes en zelfgemaakt fondant frutsels. \nAls je klaar bent\, verpakken we de chocoladeletter en kun je de prachtige letter mee naar huis nemen. \nBijzonderheden: \n\nAlle leeftijden.\nGeef bij je aanmelding door of je melkchocolade mag eten!\nAantal deelnemers: maximaal 10.\nIedereen die kan meedoen\, ontvangt een bevestigingsmail.\nWe rijden gezamenlijk naar Nistelrode.\n\nJe kunt je aanmelden via de mail info@meedoensenb.nl Geef bij je aanmelding door of je zaterdag en/of zondag kunt en of je melkchocolade mag \n 
URL:https://meedoensenb.nl/evenement/workshop-chocoladeletter-maken/
LOCATION:Creatief en Lekker\, Den Hof 17\, Nistelrode\, Noord Brabant\, 5388 GN\, Nederland
ATTACH;FMTTYPE=image/png:https://meedoensenb.nl/wp-content/uploads/2021/09/foto-1.png
END:VEVENT
BEGIN:VEVENT
DTSTART;TZID=Europe/Amsterdam:20221120T131500
DTEND;TZID=Europe/Amsterdam:20221120T163000
DTSTAMP:20260425T020813
CREATED:20221003T112826Z
LAST-MODIFIED:20221101T160801Z
UID:8148-1668950100-1668961800@meedoensenb.nl
SUMMARY:Workshop Chocoladeletter maken
DESCRIPTION:Bij Creatief & lekker werkt Trudie. Zij weet alles van chocolade maken en banketbakken. Zij gaat vertellen en uitleggen hoe wij het beste kunnen werken met chocolade. \nTijdens de workshop maken we allemaal een eigen chocoladeletter. Iedere chocoladeletter mogen jullie zelf versieren met de heerlijkste nootjes\, koffiebonen\, marshmallows\, sprinkels\, snoepjes\, andere chocolaatjes en zelfgemaakt fondant frutsels. \nAls je klaar bent\, verpakken we de chocoladeletter en kun je de prachtige letter mee naar huis nemen. \nBijzonderheden: \n\nAlle leeftijden\nGeef bij je aanmelding door of je melkchocolade mag eten!\nAantal deelnemers: maximaal 10.\nIedereen die kan meedoen\, ontvangt een bevestigingsmail.\nWe rijden gezamenlijk naar Nistelrode\n\nJe kunt je aanmelden via de mail info@meedoensenb.nl Geef bij je aanmelding door of je zaterdag en/of zondag kunt en of je melkchocolade mag \n 
URL:https://meedoensenb.nl/evenement/workshop-chocoladeletter-maken-2/
LOCATION:Creatief en Lekker\, Den Hof 17\, Nistelrode\, Noord Brabant\, 5388 GN\, Nederland
ATTACH;FMTTYPE=image/png:https://meedoensenb.nl/wp-content/uploads/2021/09/foto-1.png
END:VEVENT
END:VCALENDAR