BEGIN:VCALENDAR
VERSION:2.0
PRODID:-//Stichting MeeDoen S&amp;B - ECPv6.15.20//NONSGML v1.0//EN
CALSCALE:GREGORIAN
METHOD:PUBLISH
X-ORIGINAL-URL:https://meedoensenb.nl
X-WR-CALDESC:Evenementen voor Stichting MeeDoen S&amp;B
REFRESH-INTERVAL;VALUE=DURATION:PT1H
X-Robots-Tag:noindex
X-PUBLISHED-TTL:PT1H
BEGIN:VTIMEZONE
TZID:Europe/Amsterdam
BEGIN:DAYLIGHT
TZOFFSETFROM:+0100
TZOFFSETTO:+0200
TZNAME:CEST
DTSTART:20220327T010000
END:DAYLIGHT
BEGIN:STANDARD
TZOFFSETFROM:+0200
TZOFFSETTO:+0100
TZNAME:CET
DTSTART:20221030T010000
END:STANDARD
BEGIN:DAYLIGHT
TZOFFSETFROM:+0100
TZOFFSETTO:+0200
TZNAME:CEST
DTSTART:20230326T010000
END:DAYLIGHT
BEGIN:STANDARD
TZOFFSETFROM:+0200
TZOFFSETTO:+0100
TZNAME:CET
DTSTART:20231029T010000
END:STANDARD
BEGIN:DAYLIGHT
TZOFFSETFROM:+0100
TZOFFSETTO:+0200
TZNAME:CEST
DTSTART:20240331T010000
END:DAYLIGHT
BEGIN:STANDARD
TZOFFSETFROM:+0200
TZOFFSETTO:+0100
TZNAME:CET
DTSTART:20241027T010000
END:STANDARD
END:VTIMEZONE
BEGIN:VEVENT
DTSTART;TZID=Europe/Amsterdam:20230104T160000
DTEND;TZID=Europe/Amsterdam:20230104T180000
DTSTAMP:20260424T231914
CREATED:20221121T120320Z
LAST-MODIFIED:20221128T101230Z
UID:8409-1672848000-1672855200@meedoensenb.nl
SUMMARY:Kookworkshop 5-gangen Sparkling Dinner
DESCRIPTION:Om het nieuwe jaar goed in te luiden\, nodigen wij jullie graag uit voor een leuke kookworkshop op:    \nDatum:               woensdag 4 januari 2023 \nLocatie:              restaurant de Komeet (locatie Zonhove) \nTijd:                    16.00-18.00u \nThema:               Kookworkshop 5-gangen Sparkling dinner \nEigen bijdrage: € 3\,50 (via automatische incasso) \nWat gaan we doen? \nJullie worden op woensdag 4 januari om 16.00u verwacht bij restaurant de Komeet. Daar gaan we beginnen met de bereiding van de gerechten van een 5-gangen diner. Wat we gaan maken\, houden we nog even geheim maar we kunnen jullie al zeggen dat het heerlijke gerechten zijn. Jullie zijn ook de gasten van het diner en alle gerechten worden door onze vrijwilligers uitgeserveerd aan jullie op een mooie\, feestelijk gedekte tafel. \nIedereen die kan meedoen ontvangt een bevestiging via de mail. Een paar dagen voorafgaand aan deze activiteit ontvang je nog een informatiebrief\, waarin staat in welk groepje je ingedeeld bent en wat jouw groepje gaat maken. Alle recepten worden duidelijk uitgewerkt\, zodat jullie samen met de begeleiders stap voor stap de gerechten zelf kunnen bereiden. \nAanmelding: \n\nAanmelding vindt plaats via de mail: info@meedoensenb.nl\nAls je te laat bent met aanmelden\, word je op de wachtlijst geplaatst.\nHeb je aangemeld maar kun je toch niet meedoen? Geef dat dan z.s.m. door via de mail.\nHeb je een allergie? Geef dat dan aan ons door via de mail info@meedoensenb.nl
URL:https://meedoensenb.nl/evenement/sparkling-new-years-dinner/
LOCATION:Lunchroom de Komeet\, Nieuwstraat 70\, Son en Breugel\, Noord Brabant\, 5691 BD
ATTACH;FMTTYPE=image/png:https://meedoensenb.nl/wp-content/uploads/2022/11/foto-1.png
END:VEVENT
BEGIN:VEVENT
DTSTART;TZID=Europe/Amsterdam:20230129T123000
DTEND;TZID=Europe/Amsterdam:20230129T154500
DTSTAMP:20260424T231914
CREATED:20221121T123328Z
LAST-MODIFIED:20230116T122055Z
UID:8417-1674995400-1675007100@meedoensenb.nl
SUMMARY:Speciaal uitstapje: Kruimeltje de Musical
DESCRIPTION:Op zondag 29 januari gaan we een leuk uitstapje maken naar Kruimeltje de Musical in theater de Blauwe Kei in Veghel. \nWaar gaat de musical over? \nDoor de besneeuwde straten ergens in Nederland zwerft Kruimeltje\, een vrolijke en ondeugende straatjongen van 10 jaar. Helemaal alleen\, op zoek naar zijn vader en moeder. Het enige dat hij van zijn ouders heeft\, is een medaillon met hun portretten erin. Onderweg ontmoet hij Keesie\, een stoer meisje dat maar al te graag mee op avontuur gaat. Bij kruidenier Wilkes vindt Kruimeltje eindelijk een thuis. Tot zijn verbazing blijken zijn vader en Wilkes oude jeugdvrienden te zijn! Zou Wilkes hem kunnen helpen in de zoektocht naar zijn vader?  \n Musical Kruimeltje is een hartverwarmend verhaal over vriendschap\, avontuur en het volgen van je dromen.  \n Ga jij met ons mee naar het theater?  \n\nDeze activiteit is voor alle leeftijden\nWe verwachten veel aanmeldingen en werken met een wachtlijst. Iedereen die kan meedoen\, ontvangt een bevestigingsmail\nDe eigen bijdrage voor deze activiteit is éénmalig hoger: € 5\,-\nWij zorgen voor vervoer en voldoende begeleiders\nIn het theater krijgen jullie van ons wat lekkers te eten en te drinken\n\nDEZE ACTIVITEIT IS VOLGEBOEKT! \n 
URL:https://meedoensenb.nl/evenement/speciaal-uitstapje-kruimeltje-de-musical/
LOCATION:Theater de Blauwe Kei\, Verlengde Noordkade 10-12\, Veghel\, Noord Brabant\, 5462 EH
ATTACH;FMTTYPE=image/png:https://meedoensenb.nl/wp-content/uploads/2022/11/afbeelding-facebook-foto.png
END:VEVENT
END:VCALENDAR