BEGIN:VCALENDAR
VERSION:2.0
PRODID:-//Stichting MeeDoen S&amp;B - ECPv6.15.20//NONSGML v1.0//EN
CALSCALE:GREGORIAN
METHOD:PUBLISH
X-ORIGINAL-URL:https://meedoensenb.nl
X-WR-CALDESC:Evenementen voor Stichting MeeDoen S&amp;B
REFRESH-INTERVAL;VALUE=DURATION:PT1H
X-Robots-Tag:noindex
X-PUBLISHED-TTL:PT1H
BEGIN:VTIMEZONE
TZID:Europe/Amsterdam
BEGIN:DAYLIGHT
TZOFFSETFROM:+0100
TZOFFSETTO:+0200
TZNAME:CEST
DTSTART:20220327T010000
END:DAYLIGHT
BEGIN:STANDARD
TZOFFSETFROM:+0200
TZOFFSETTO:+0100
TZNAME:CET
DTSTART:20221030T010000
END:STANDARD
BEGIN:DAYLIGHT
TZOFFSETFROM:+0100
TZOFFSETTO:+0200
TZNAME:CEST
DTSTART:20230326T010000
END:DAYLIGHT
BEGIN:STANDARD
TZOFFSETFROM:+0200
TZOFFSETTO:+0100
TZNAME:CET
DTSTART:20231029T010000
END:STANDARD
BEGIN:DAYLIGHT
TZOFFSETFROM:+0100
TZOFFSETTO:+0200
TZNAME:CEST
DTSTART:20240331T010000
END:DAYLIGHT
BEGIN:STANDARD
TZOFFSETFROM:+0200
TZOFFSETTO:+0100
TZNAME:CET
DTSTART:20241027T010000
END:STANDARD
END:VTIMEZONE
BEGIN:VEVENT
DTSTART;TZID=Europe/Amsterdam:20230517T171500
DTEND;TZID=Europe/Amsterdam:20230517T223000
DTSTAMP:20260424T172644
CREATED:20200611T080207Z
LAST-MODIFIED:20230502T095539Z
UID:4561-1684343700-1684362600@meedoensenb.nl
SUMMARY:Concerti Fetti 2023
DESCRIPTION:ConcertiFetti is een spetterende feestavond voor mensen met een beperking. Door Corona hebben we dit mooie feest een paar jaar moeten missen. Maar nu gaan we er weer een gezellige avond van maken. \nOok deze keer zijn er weer optredens van bekende Nederlandse artiesten: Danny Smoorenburg (voorprogramma)\, Django Wagner\, Ferry de Lits\, Jan Smit\, René Schuurmans\, Jan Biggel (Ons Moeder Zeej nog) en de Lawineboys. Er wordt gedanst\, gezongen\, gelachen en genoten. De presentatie wordt gedaan door Harold Verwoert.\nWe gaan er heen met voldoende begeleiding. Denk er voor het aanmelden even goed over na dat het om een grote zaal met veel mensen gaat. Er zijn zitplaatsen voor ons dus we staan/zitten niet direct tussen vreemde mensen en de begeleiders hebben een goed overzicht. \nStart: 17.15 (vertrek in Son) \nEind: 22.30u (terug in Son) \nWaar: Indoor Sportcentrum Zuid Eindhoven. Vertrek vanaf het Dommelhuis (Kerkplein 5) in Son \nVervoer: Wij verzorgen het vervoer en vertrekken gezamenlijk naar het Indoor Sportcentrum\, Theo Koomenlaan 1 in Eindhoven (kom je liever rechtstreeks dan kan dat ook; geef het dan bij je aanmelding aan ons door). \nLeeftijd: voor jongeren vanaf 14 jaar \nKosten: € 5\,00 via automatische incasso. \n Aanmelden: via de mail info@meedoensenb.nl \nDEZE ACTIVITEIT IS VOLGEBOEKT! BIJ AANMELDING WORD JE OP DE WACHTLIJST GEPLAATST \n 
URL:https://meedoensenb.nl/evenement/concerti-fetti-2020/
LOCATION:Indoor Sportcentrum Zuid Eindhoven
ATTACH;FMTTYPE=image/png:https://meedoensenb.nl/wp-content/uploads/2020/06/foto-1.png
END:VEVENT
END:VCALENDAR