BEGIN:VCALENDAR
VERSION:2.0
PRODID:-//Stichting MeeDoen S&amp;B - ECPv6.15.20//NONSGML v1.0//EN
CALSCALE:GREGORIAN
METHOD:PUBLISH
X-WR-CALNAME:Stichting MeeDoen S&amp;B
X-ORIGINAL-URL:https://meedoensenb.nl
X-WR-CALDESC:Evenementen voor Stichting MeeDoen S&amp;B
REFRESH-INTERVAL;VALUE=DURATION:PT1H
X-Robots-Tag:noindex
X-PUBLISHED-TTL:PT1H
BEGIN:VTIMEZONE
TZID:Europe/Amsterdam
BEGIN:DAYLIGHT
TZOFFSETFROM:+0100
TZOFFSETTO:+0200
TZNAME:CEST
DTSTART:20220327T010000
END:DAYLIGHT
BEGIN:STANDARD
TZOFFSETFROM:+0200
TZOFFSETTO:+0100
TZNAME:CET
DTSTART:20221030T010000
END:STANDARD
BEGIN:DAYLIGHT
TZOFFSETFROM:+0100
TZOFFSETTO:+0200
TZNAME:CEST
DTSTART:20230326T010000
END:DAYLIGHT
BEGIN:STANDARD
TZOFFSETFROM:+0200
TZOFFSETTO:+0100
TZNAME:CET
DTSTART:20231029T010000
END:STANDARD
BEGIN:DAYLIGHT
TZOFFSETFROM:+0100
TZOFFSETTO:+0200
TZNAME:CEST
DTSTART:20240331T010000
END:DAYLIGHT
BEGIN:STANDARD
TZOFFSETFROM:+0200
TZOFFSETTO:+0100
TZNAME:CET
DTSTART:20241027T010000
END:STANDARD
END:VTIMEZONE
BEGIN:VEVENT
DTSTART;TZID=Europe/Amsterdam:20230621T190000
DTEND;TZID=Europe/Amsterdam:20230621T203000
DTSTAMP:20260424T160104
CREATED:20230501T132725Z
LAST-MODIFIED:20230511T114019Z
UID:9015-1687374000-1687379400@meedoensenb.nl
SUMMARY:Zomer Bamboe spiegel pimpen
DESCRIPTION:Op woensdag 21 juni organiseren we weer een leuke crea-activiteit. Deze keer gaan we een Zomer Bamboe Spiegel pimpen. \nWat gaan we doen? \nJullie krijgen allemaal een bamboe spiegel. Deze mag je (met een lijmpistool) versieren met allerlei leuke materialen zoals houten bloemen\, lieveheersbeestjes\, bijtjes\, bloemen\, linten\, touw etc. Leuk om daarna buiten op te hangen of misschien een mooi plekje op je kamer te geven! \nEr zijn voorbeelden aanwezig\, maar je mag natuurlijk ook naar eigen smaak je bamboe spiegel maken. Wij zorgen voor voldoende materialen voor iedereen. \n\nEr kunnen 16 jongeren meedoen. We werken met een wachtlijst\, mochten er meer aanmeldingen binnenkomen.\nIedereen die mee kan doen\, ontvangt een bevestiging.\nEr is tussendoor een korte pauze.\nEr zijn voldoende vrijwilligers aanwezig om te helpen\nJe kunt aanmelden via de mail info@meedoensenb.nl\n\n  \n  \n  \n. \n 
URL:https://meedoensenb.nl/evenement/zomer-bamboo-spiegel-pimpen/
LOCATION:Noord Brabant
ATTACH;FMTTYPE=image/png:https://meedoensenb.nl/wp-content/uploads/2023/05/foto1-1.png
END:VEVENT
END:VCALENDAR