BEGIN:VCALENDAR
VERSION:2.0
PRODID:-//Stichting MeeDoen S&amp;B - ECPv6.15.20//NONSGML v1.0//EN
CALSCALE:GREGORIAN
METHOD:PUBLISH
X-WR-CALNAME:Stichting MeeDoen S&amp;B
X-ORIGINAL-URL:https://meedoensenb.nl
X-WR-CALDESC:Evenementen voor Stichting MeeDoen S&amp;B
REFRESH-INTERVAL;VALUE=DURATION:PT1H
X-Robots-Tag:noindex
X-PUBLISHED-TTL:PT1H
BEGIN:VTIMEZONE
TZID:Europe/Amsterdam
BEGIN:DAYLIGHT
TZOFFSETFROM:+0100
TZOFFSETTO:+0200
TZNAME:CEST
DTSTART:20230326T010000
END:DAYLIGHT
BEGIN:STANDARD
TZOFFSETFROM:+0200
TZOFFSETTO:+0100
TZNAME:CET
DTSTART:20231029T010000
END:STANDARD
BEGIN:DAYLIGHT
TZOFFSETFROM:+0100
TZOFFSETTO:+0200
TZNAME:CEST
DTSTART:20240331T010000
END:DAYLIGHT
BEGIN:STANDARD
TZOFFSETFROM:+0200
TZOFFSETTO:+0100
TZNAME:CET
DTSTART:20241027T010000
END:STANDARD
BEGIN:DAYLIGHT
TZOFFSETFROM:+0100
TZOFFSETTO:+0200
TZNAME:CEST
DTSTART:20250330T010000
END:DAYLIGHT
BEGIN:STANDARD
TZOFFSETFROM:+0200
TZOFFSETTO:+0100
TZNAME:CET
DTSTART:20251026T010000
END:STANDARD
END:VTIMEZONE
BEGIN:VEVENT
DTSTART;TZID=Europe/Amsterdam:20240203T140000
DTEND;TZID=Europe/Amsterdam:20240203T153000
DTSTAMP:20260424T024856
CREATED:20240116T104644Z
LAST-MODIFIED:20240123T090750Z
UID:9554-1706968800-1706974200@meedoensenb.nl
SUMMARY:LEGO-LAB
DESCRIPTION:Bouw jij graag met LEGO? En vind je dat ook leuk om in groepsverband te doen? Dan ben je op zaterdag 3 februari van 14.00-15.30u van harte welkom bij de het LEGO-LAB (van de LEVgroep) in het Dommelhuis in Son. \nWat gaan we doen? \nOm 14.00u wordt er gestart met een korte uitleg wat we gaan bouwen. Er is een ‘Brick-shop’ met bakken lego; iedereen krijgt een klein bakje waarin je legoblokjes kunt verzamelen. Daarna ga je naar je eigen plek om te bouwen. Je mag bouwen wat je zelf wilt en bij het thema past; onze vrijwilligers helpen als dat nodig is. \nWij zitten met onze MeeDoen groep in een aparte ruimte waar het rustig is. Lego bouwen is leuk: je leert creatief denken\, problemen oplossen en samenwerken. \nWe gaan er weer een leuke activiteit van maken! \nBelangrijke info: \n\nDit is een activiteit van de LEVgroep. Elke maand wordt er gebouwd in een ander thema. Deze keer is het thema Carnaval. Prins Carnaval en adjudant komen ook nog even langs. Hartstikke leuk!\nBij voldoende aanmeldingen sluiten wij aan met een groepje MeeDoen jongeren met 2 vaste vrijwilligers en een vrijwilliger van de LEGO-club.\nAanmelden via de mail info@meedoensenb.nl\nWij verzamelen beneden in de foyer en gaan daarna aan de slag in een rustige ruimte.\nOm 15.30u is de activiteit afgelopen en kunnen je ouders je weer ophalen.\n\n 
URL:https://meedoensenb.nl/evenement/lego-lab/
LOCATION:Dommelhuis\, Kerkplein 5\, Son en Breugel\, Noord Brabant\, Nederland
ATTACH;FMTTYPE=image/png:https://meedoensenb.nl/wp-content/uploads/2024/01/FOTO1.png
END:VEVENT
BEGIN:VEVENT
DTSTART;TZID=Europe/Amsterdam:20240210T140000
DTEND;TZID=Europe/Amsterdam:20240210T160000
DTSTAMP:20260424T024856
CREATED:20240122T132742Z
LAST-MODIFIED:20240206T094016Z
UID:9579-1707573600-1707580800@meedoensenb.nl
SUMMARY:Carnaval Bijzonder
DESCRIPTION:Wil jij graag carnaval vieren\, maar is dat voor jou niet zo makkelijk? Bijvoorbeeld omdat het vaak te druk is\, of omdat de muziek te hard staat\, of omdat je in een rolstoel zit\,? Kom dan naar Carnaval Bijzonder! \nWat gaan we doen? \nOp deze leuke carnavalsmiddag op zaterdagmiddag 10 februari van 14.00-16.00u in het scoutinggebouw aan de Europalaan in Son draait een DJ gezellige muziek. Je kunt lekker hossen en dansen op de  muziek\, maar ook even in een aparte hoek chillen. Er zijn prijsjes voor de leukst verklede jongens en meiden. Ook ouders\, broers en zussen zijn van harte welkom tijdens deze middag. De blokhut is alleen open voor mensen die zijn aangemeld! De activiteit start om 14.00u en is om 16.00u afgelopen. \nMeld je aan en doe gezellig met ons mee! \nExtra info: \n\nDeze activiteit is voor alle leeftijden.\nGratis toegang\nOuders\, broers en zussen zijn ook van harte welkom\nConsumpties: € 1\,50 per stuk (contant of via pin-betaling)\nWij zorgen voor voldoende vrijwilligers\nDeze activiteit is ook geschikt voor jongeren in een rolstoel\nAanmelden: via de mail info@meedoensenb.nl\n\n 
URL:https://meedoensenb.nl/evenement/carnaval-bijzonder/
LOCATION:Scouting gebouw\, Europalaan 5\, Son en Breugel\, Noord Brabant\, 5691 EL
ATTACH;FMTTYPE=image/png:https://meedoensenb.nl/wp-content/uploads/2024/01/Logo2.png
END:VEVENT
END:VCALENDAR