BEGIN:VCALENDAR
VERSION:2.0
PRODID:-//Stichting MeeDoen S&amp;B - ECPv6.15.20//NONSGML v1.0//EN
CALSCALE:GREGORIAN
METHOD:PUBLISH
X-ORIGINAL-URL:https://meedoensenb.nl
X-WR-CALDESC:Evenementen voor Stichting MeeDoen S&amp;B
REFRESH-INTERVAL;VALUE=DURATION:PT1H
X-Robots-Tag:noindex
X-PUBLISHED-TTL:PT1H
BEGIN:VTIMEZONE
TZID:Europe/Amsterdam
BEGIN:DAYLIGHT
TZOFFSETFROM:+0100
TZOFFSETTO:+0200
TZNAME:CEST
DTSTART:20230326T010000
END:DAYLIGHT
BEGIN:STANDARD
TZOFFSETFROM:+0200
TZOFFSETTO:+0100
TZNAME:CET
DTSTART:20231029T010000
END:STANDARD
BEGIN:DAYLIGHT
TZOFFSETFROM:+0100
TZOFFSETTO:+0200
TZNAME:CEST
DTSTART:20240331T010000
END:DAYLIGHT
BEGIN:STANDARD
TZOFFSETFROM:+0200
TZOFFSETTO:+0100
TZNAME:CET
DTSTART:20241027T010000
END:STANDARD
BEGIN:DAYLIGHT
TZOFFSETFROM:+0100
TZOFFSETTO:+0200
TZNAME:CEST
DTSTART:20250330T010000
END:DAYLIGHT
BEGIN:STANDARD
TZOFFSETFROM:+0200
TZOFFSETTO:+0100
TZNAME:CET
DTSTART:20251026T010000
END:STANDARD
END:VTIMEZONE
BEGIN:VEVENT
DTSTART;TZID=Europe/Amsterdam:20240405T200000
DTEND;TZID=Europe/Amsterdam:20240405T223000
DTSTAMP:20260423T233310
CREATED:20240227T142937Z
LAST-MODIFIED:20240307T081207Z
UID:9782-1712347200-1712356200@meedoensenb.nl
SUMMARY:Amigo café
DESCRIPTION:Hou jij van een gezellig avondje uit\, maar is dat voor jou lastig in het reguliere uitgaansleven? Misschien omdat er teveel prikkels zijn\, jij je daar niet altijd veilig voelt\, het moeilijk bereikbaar is\, je het uitgaan heel erg spannend vindt etc. \nKom dan naar ons Amigo café! \nVanaf 1 maart organiseren we 1x per maand op vrijdagavond een gezellig avondje uit voor jongeren vanaf 16 jaar\, als alternatief voor uitgaan in een regulier café of club. We gaan dit doen in JC Oase in Son van 20.00-22.30u. Het is een besloten activiteit\, dus alleen voor jongeren die zijn aangemeld. \nEr zijn gezellige zitjes waar je kunt chillen samen met je vrienden/vriendinnen. Er wordt muziek gedraaid\, soms komt er een dj of organiseren we een thema-avond. Er is een grote tv waarop je kunt gamen \, er is een tafelvoetbal en je kunt darten. Ook kun je een spelletje spelen aan tafel. Het allerbelangrijkste: je kiest zelf waar je zin in hebt! \nTot snel!\nBelangrijke info: \n\nAanmelden via de mail  info@meedoensenb.nl\nDeze activiteit is voor jongeren vanaf 16 jaar.\nIedereen krijgt 3 consumptiebonnen.\n18+ Jongeren mogen (met toestemming van ouders) alcohol drinken. Er is keuze uit bier\, wijn\, Radler en Apple Bandit.\nWe zorgen voor een hapje tussendoor en zetten zoutjes op tafel.\nEigen bijdrage € 3\,50 pp (via automatische incasso)\n\n  \n 
URL:https://meedoensenb.nl/evenement/nieuw-amigo-cafe-2/
LOCATION:Oase Son\, Dommelstraat 10a\, Son en Breugel\, Nederland
ATTACH;FMTTYPE=image/png:https://meedoensenb.nl/wp-content/uploads/2024/02/Poster-Amigo-Cafe.png
END:VEVENT
BEGIN:VEVENT
DTSTART;TZID=Europe/Amsterdam:20240406T140000
DTEND;TZID=Europe/Amsterdam:20240406T153000
DTSTAMP:20260423T233310
CREATED:20240116T105725Z
LAST-MODIFIED:20240827T134820Z
UID:9564-1712412000-1712417400@meedoensenb.nl
SUMMARY:LEGO-LAB - 6 april
DESCRIPTION:Bouw jij graag met LEGO? En vind je dat ook leuk om in groepsverband te doen? Dan ben je op zaterdag 6 april van 14.00-15.30u van harte welkom bij de het LEGO-LAB (van de LEVgroep) in het Dommelhuis in Son. \nWat gaan we doen? \nOm 14.00u wordt er gestart met een korte uitleg wat we gaan bouwen. Er is een ‘Brick-shop’ met bakken lego; iedereen krijgt een klein bakje waarin je legoblokjes kunt verzamelen. Daarna ga je naar je eigen plek om te bouwen. Deze keer ga je een auto bouwen van Lego. Er zijn 2 hellingbanen waar de auto’s vanaf kunnen. Je kunt een autootje bouwen die door een ‘sling-shot’ vooruit gaat. Ook zijn er 2 ‘Zip-lijnen’ waar poppetjes en vliegtuigen vanaf kunnen. \nWij zitten met onze MeeDoen groep in een aparte ruimte waar het rustig is. Lego bouwen is leuk: je leert creatief denken\, problemen oplossen en samenwerken. En het is ook nog eens hartstikke gezellig! \nBelangrijke info: \n\nDit is een activiteit van de LEVgroep. Elke maand wordt er gebouwd in een ander thema. Deze keer is het thema auto’s.\nBij voldoende aanmeldingen sluiten wij aan met een groepje MeeDoen jongeren met 2 vaste vrijwilligers en een vrijwilliger van de LEGO-club.\nWij verzamelen beneden in de foyer en gaan daarna aan de slag in een rustige ruimte.\nOm 15.30u is de activiteit afgelopen en kunnen je ouders je weer ophalen.\nAanmelden via de mail info@meedoensenb.nl\n\n 
URL:https://meedoensenb.nl/evenement/lego-lab-3/
LOCATION:Dommelhuis\, Kerkplein 5\, Son en Breugel\, Noord Brabant\, Nederland
ATTACH;FMTTYPE=image/jpeg:https://meedoensenb.nl/wp-content/uploads/2024/01/Logo-lego.jpg
END:VEVENT
BEGIN:VEVENT
DTSTART;TZID=Europe/Amsterdam:20240410T190000
DTEND;TZID=Europe/Amsterdam:20240410T200000
DTSTAMP:20260423T233310
CREATED:20240122T143654Z
LAST-MODIFIED:20240318T124922Z
UID:9592-1712775600-1712779200@meedoensenb.nl
SUMMARY:Muziekworkshop
DESCRIPTION:Het is weer tijd voor een leuke muziekworkshop op woensdag 10 april van 19.00- 20.00 uur in basisschool de Stokland\, Jupiterstraat 3 in Breugel. \nWat gaan we doen? \nDeze keer spelen we samen met de muziekjuffen Lizet en Annette het spel kwartet. Een kwartet bestaat uit 4 kaarten die bij elkaar horen. De speler die aan de beurt is vraagt aan een andere speler een kaart naar keuze. Heb je de 4 kaarten verzameld die bij elkaar horen? Dan mag jij een muzieknummer kiezen! Het is een leuk spel en niet moeilijk om te doen. \nDe muziekjuffen hebben er weer zin in. Jullie ook?  \nExtra info: \n\nAanmelden via de mail info@meedoensenb.nl\nDeze activiteit is gratis\n\n 
URL:https://meedoensenb.nl/evenement/muziekworkshop-8/
LOCATION:Basisschool de Stokland\, Son en Breugel\, Nederland
ATTACH;FMTTYPE=image/jpeg:https://meedoensenb.nl/wp-content/uploads/2024/01/Foto-2.jpg
END:VEVENT
BEGIN:VEVENT
DTSTART;TZID=Europe/Amsterdam:20240419T190000
DTEND;TZID=Europe/Amsterdam:20240419T211500
DTSTAMP:20260423T233310
CREATED:20240111T111337Z
LAST-MODIFIED:20240411T132807Z
UID:9528-1713553200-1713561300@meedoensenb.nl
SUMMARY:Meiden Beauty Avond met fotoshoot
DESCRIPTION:Op vrijdagavond 19 april organiseren we een leuke Meiden Beauty Avond. \nWat gaan we doen? \nWe gaan er een echte meidenavond van maken. De bedoeling is dat jij een super hip kapsel krijgt\, een prachtige make-up en mooi gelakte nagels. Dit alles wordt verzorgd door echte vakmensen. Als iedereen er helemaal klaar voor is\, komt fotografe Lianne voor het maken van echte “sterrenfoto’s”. Trek je mooiste kleding aan\, zodat dit het plaatje compleet maakt. \nMeld je aan en wij laten je stralen! \nExtra info: \n\nEigen bijdrage: € 3\,50 (via automatische incasso).\nAanmelden vóór 8 april via de mail: info@meedoensenb.nl\nTussendoor eten en drinken we wat lekkers.\nLet op: er is plaats voor 14 jongeren.\n\nDeze activiteit is volgeboekt. Je kunt helaas niet meer aanmelden.
URL:https://meedoensenb.nl/evenement/meiden-beauty-avond/
LOCATION:Oase Son\, Dommelstraat 10a\, Son en Breugel\, Nederland
ATTACH;FMTTYPE=image/png:https://meedoensenb.nl/wp-content/uploads/2024/01/foto-1.png
END:VEVENT
BEGIN:VEVENT
DTSTART;TZID=Europe/Amsterdam:20240424T193000
DTEND;TZID=Europe/Amsterdam:20240424T210000
DTSTAMP:20260423T233310
CREATED:20240122T141612Z
LAST-MODIFIED:20240409T111152Z
UID:9585-1713987000-1713992400@meedoensenb.nl
SUMMARY:Heel MeeDoen Bakt
DESCRIPTION:Op woensdag 24 april organiseren we Heel MeeDoen Bakt! \nDeze activiteit wordt kleinschalig uitgevoerd en zal later in het jaar nog eens herhaald worden. \nWat gaan we doen? \nJe gaat een fondant-taartje maken. Uiteraard mag je die na de activiteit meenemen naar huis. We vullen de binnenkant met heerlijke aardbeienvulling en room en bekleden de buitenkant met fondant. Daarna mag je het taartje aan de buitenkant versieren naar wens. Wij zorgen voor alle materialen. Kies een thema en geef dit bij de aanmelding aan ons door. \nDe thema’s waaruit je kunt kiezen zijn: onderwaterwereld zeedieren\, onderwaterwereld zeemeermin\, de ruimte\, vlinders\, unicorn of lama’s. \nBakkers klaar? Bakken maar!\nLet op: \n\nMax. 6 deelnemers; we werken met een wachtlijst.\nEigen bijdrage:  € 3\,50 (via automatische incasso).\nAanmelden vóór 22 maart via de mail info@meedoensenb.nl\nIedereen die kan meedoen ontvangt een bevestigingsmail.\nDe locatie is niet-rolstoeltoegankelijk.\n\nDeze activiteit is volgeboekt. In het najaar organiseren we deze activiteit nog een keer. 
URL:https://meedoensenb.nl/evenement/heel-meedoen-bakt/
LOCATION:Noord Brabant
ATTACH;FMTTYPE=image/png:https://meedoensenb.nl/wp-content/uploads/2024/01/Afbeelding-1.png
END:VEVENT
END:VCALENDAR