BEGIN:VCALENDAR
VERSION:2.0
PRODID:-//Stichting MeeDoen S&amp;B - ECPv6.15.20//NONSGML v1.0//EN
CALSCALE:GREGORIAN
METHOD:PUBLISH
X-ORIGINAL-URL:https://meedoensenb.nl
X-WR-CALDESC:Evenementen voor Stichting MeeDoen S&amp;B
REFRESH-INTERVAL;VALUE=DURATION:PT1H
X-Robots-Tag:noindex
X-PUBLISHED-TTL:PT1H
BEGIN:VTIMEZONE
TZID:Europe/Amsterdam
BEGIN:DAYLIGHT
TZOFFSETFROM:+0100
TZOFFSETTO:+0200
TZNAME:CEST
DTSTART:20230326T010000
END:DAYLIGHT
BEGIN:STANDARD
TZOFFSETFROM:+0200
TZOFFSETTO:+0100
TZNAME:CET
DTSTART:20231029T010000
END:STANDARD
BEGIN:DAYLIGHT
TZOFFSETFROM:+0100
TZOFFSETTO:+0200
TZNAME:CEST
DTSTART:20240331T010000
END:DAYLIGHT
BEGIN:STANDARD
TZOFFSETFROM:+0200
TZOFFSETTO:+0100
TZNAME:CET
DTSTART:20241027T010000
END:STANDARD
BEGIN:DAYLIGHT
TZOFFSETFROM:+0100
TZOFFSETTO:+0200
TZNAME:CEST
DTSTART:20250330T010000
END:DAYLIGHT
BEGIN:STANDARD
TZOFFSETFROM:+0200
TZOFFSETTO:+0100
TZNAME:CET
DTSTART:20251026T010000
END:STANDARD
END:VTIMEZONE
BEGIN:VEVENT
DTSTART;TZID=Europe/Amsterdam:20240906T190000
DTEND;TZID=Europe/Amsterdam:20240906T200000
DTSTAMP:20260423T143226
CREATED:20240624T131645Z
LAST-MODIFIED:20240815T100356Z
UID:10157-1725649200-1725652800@meedoensenb.nl
SUMMARY:TikTok dansworkshop
DESCRIPTION:Ben jij ook groot fan van TikTok en zou je de dansjes die je daar voorbij ziet komen dolgraag willen leren? Doe dan mee met onze  leuke TikTok dance workshop die we samen met dansdocente Tatjana van Tati’s dance agency organiseren als openingsactiviteit op vrijdag 6 september. \nWat is TikTok dance? \nTikTok is een populaire app onder jongeren. In een dansles TikTok dance\, dans je op de bekende hits van nu. Na een warming-up en een paar oefeningen gaan we aan de slag met verschillende dansen. Op TikTok kun je jezelf filmen terwijl je danst\, zingt of playbackt. Het is hartstikke leuk om te doen en niet moeilijk om te leren. \n\nDeze activiteit is voor alle leeftijden.\nHet is niet nodig om een eigen TikTok account aan te maken voor deze les.\nJe kunt de les gewoon volgen zonder dat je zelf TikTok hebt.\nNa afloop drinken en eten we nog wat lekkers.\nDraag dans- of sportkleding met stevige schoenen; gym- of sportschoenen.\nNeem een flesje water mee.\nDe kosten zijn € 3\,50 pp (via automatische incasso).\nVind je het leuk om mee te doen? Meld je dan aan via de mail info@meedoensenb.nl.\n\n 
URL:https://meedoensenb.nl/evenement/tiktok-dansworkshop-2/
LOCATION:Dommelhuis\, Kerkplein 5\, Son en Breugel\, Noord Brabant\, Nederland
ATTACH;FMTTYPE=image/png:https://meedoensenb.nl/wp-content/uploads/2023/06/foto.png
END:VEVENT
BEGIN:VEVENT
DTSTART;TZID=Europe/Amsterdam:20240907T140000
DTEND;TZID=Europe/Amsterdam:20240907T153000
DTSTAMP:20260423T143226
CREATED:20240123T090201Z
LAST-MODIFIED:20240829T131448Z
UID:9604-1725717600-1725723000@meedoensenb.nl
SUMMARY:LEGO-LAB 'beroepen'
DESCRIPTION:Bouw jij graag met LEGO? En vind je dat ook leuk om in groepsverband te doen? Dan ben je op zaterdag 7 september van 14.00-15.30u van harte welkom bij de het LEGO-LAB (van de LEVgroep) in het Dommelhuis in Son. \nWat gaan we doen? \nOm 14.00u wordt er gestart met een korte uitleg wat we gaan bouwen. Er is een ‘Brick-shop’ met bakken lego; iedereen krijgt een klein bakje waarin je legoblokjes kunt verzamelen. Daarna ga je naar je eigen plek om te bouwen. Deze keer is het thema ‘wat wil jij later worden; we gaan aan de slag met beroepen’. Je mag bouwen wat je zelf wilt en wat bij dit thema past. Onze vrijwilligers helpen je als dat nodig is. \nWij zitten met onze MeeDoen groep in een aparte ruimte waar het rustig is. Lego bouwen is leuk: je leert creatief denken\, problemen oplossen en samenwerken. \nWe gaan er weer een leuke activiteit van maken! \nBelangrijke info: \n\nDit is een activiteit van de LEVgroep. Elke maand wordt er gebouwd in een ander thema.\nBij voldoende aanmeldingen sluiten wij aan met een groepje MeeDoen jongeren met vaste vrijwilligers en een vrijwilliger van de LEGO-club.\nWij verzamelen beneden in de foyer en gaan daarna aan de slag in een rustige ruimte.\nOm 15.30u is de activiteit afgelopen en kunnen je ouders je weer ophalen.\nDEZE ACTIVITEIT IS VOLGEBOEKT. ALS JE NU NOG AANMELDT WORD JE OP DE WACHTLIJST GEZET.\n\n 
URL:https://meedoensenb.nl/evenement/lego-lab-7/
LOCATION:Noord Brabant
ATTACH;FMTTYPE=image/jpeg:https://meedoensenb.nl/wp-content/uploads/2024/01/Logo-lego.jpg
END:VEVENT
BEGIN:VEVENT
DTSTART;TZID=Europe/Amsterdam:20240913T180000
DTEND;TZID=Europe/Amsterdam:20240913T200000
DTSTAMP:20260423T143226
CREATED:20240820T084517Z
LAST-MODIFIED:20240912T123018Z
UID:10423-1726250400-1726257600@meedoensenb.nl
SUMMARY:Remember September Weekend 2024
DESCRIPTION:Van 13 t/m 15 september is het herdenkingsweekend ‘Remember September 2024’. We vieren dan de 80-jarige bevrijding van Son en Breugel. In het weekend worden allerlei festiviteiten georganiseerd in en rondom het dorp. \nOp vrijdagavond 13 september is de opening van het herdenkingsweekend. Dit vindt plaats in het centrum van Son dat is omgetoverd tot een bruisend feestterrein. 80 kinderen/jongeren uit Son en Breugel lopen in groepen vanuit 4/5 ‘hoeken’ richting het podium en zij zingen samen het refrein ‘Leef’ van André Hazes jr. \nOok wij mogen aansluiten met een groep MeeDoen jongeren bij deze activiteit. Dat is hartstikke leuk!   \nBelangrijke informatie: \n\nDe activiteit duurt 15 minuten en vindt plaats op vrijdag 13 september tussen 18.00-20.00u. De exacte tijd volgt nog.\nOp donderdag 12 september vroeg in de avond (exacte tijd volgt nog) is de generale repetitie.\nOm mee te kunnen doen\, moet je op beide dagen aanwezig zijn.\nEr zijn ook 2 vaste MeeDoen vrijwilligers aanwezig.\nDeze activiteit is voor alle leeftijden.\n\nWe sluiten met 2 groepjes jongeren aan. Iedereen die is aangemeld heeft inmiddels een uitgebreide informatiemail ontvangen.
URL:https://meedoensenb.nl/evenement/remember-september-weekend-2024/
LOCATION:Centrum Son en Breugel\, 5 Kerkplein\, son en\, Noord Brabant\, 5691 BB\, Nederland
ATTACH;FMTTYPE=image/png:https://meedoensenb.nl/wp-content/uploads/2024/08/Fotogrid.png
END:VEVENT
BEGIN:VEVENT
DTSTART;TZID=Europe/Amsterdam:20240925T190000
DTEND;TZID=Europe/Amsterdam:20240925T200000
DTSTAMP:20260423T143226
CREATED:20240718T083731Z
LAST-MODIFIED:20240902T112202Z
UID:10224-1727290800-1727294400@meedoensenb.nl
SUMMARY:Muziekworkshop Ganzenbord
DESCRIPTION:Op woensdag 25 september van 19.00-20.00 uur is er weer een leuke muziekworkshop in basisschool de Stokland\, Jupiterstraat 3 in Breugel. \nWat gaan we doen? \nDeze keer spelen we samen met de muziekjuffen Lizet en Annette het leuke spel ‘Muziek Ganzenbord’. Om de beurt gooi je met een dobbelsteen en loop je plaatsen vooruit. Onderweg mag je leuke muziekopdrachten doen (op een instrument spelen\, een liedje raden\, samen een liedje zingen enz.). Degene die het eerst aan het einde is\, heeft gewonnen. \nDeze activiteit is voor alle leeftijden en de kosten zijn € 3\,50 pp (via automatische incasso). \nVind je het leuk om mee te doen? Meld je dan aan via de mail info@meedoensenb.nl \n 
URL:https://meedoensenb.nl/evenement/muziekworkshop-9/
LOCATION:Basisschool de Stokland\, Son en Breugel\, Nederland
ATTACH;FMTTYPE=image/png:https://meedoensenb.nl/wp-content/uploads/2023/03/Muziek-foto.png
END:VEVENT
BEGIN:VEVENT
DTSTART;TZID=Europe/Amsterdam:20240927T200000
DTEND;TZID=Europe/Amsterdam:20240927T223000
DTSTAMP:20260423T143226
CREATED:20240827T085822Z
LAST-MODIFIED:20240926T095824Z
UID:10451-1727467200-1727476200@meedoensenb.nl
SUMMARY:Amigo café
DESCRIPTION:Hou jij van een gezellig avondje uit\, maar is dat voor jou lastig in het reguliere uitgaansleven? Misschien omdat er teveel prikkels zijn\, jij je daar niet altijd veilig voelt\, het moeilijk bereikbaar is\, je het uitgaan heel erg spannend vindt etc. \nKom dan naar ons Amigo café! \nWe organiseren ± 1x per maand op vrijdagavond een gezellig avondje uit voor jongeren vanaf 16 jaar\, als alternatief voor uitgaan in een regulier café of club. We gaan dit doen in JC Oase in Son van 20.00-22.30u. Het is een besloten activiteit\, dus alleen voor jongeren die zijn aangemeld. \nEr zijn gezellige zitjes waar je kunt chillen samen met je vrienden/vriendinnen. Er wordt muziek gedraaid\, soms komt er een dj of organiseren we een thema-avond. Er is een grote tv waarop je kunt gamen \, er is een tafelvoetbal en je kunt darten. Ook kun je een spelletje spelen aan tafel. Het allerbelangrijkste: je kiest zelf waar je zin in hebt! \n\nAanmelden via de mail  info@meedoensenb.nl\nDeze activiteit is voor jongeren vanaf 16 jaar.\nIedereen krijgt 3 consumptiebonnen.\n18+ Jongeren mogen (met toestemming van ouders) alcohol drinken. Er is keuze uit bier\, wijn\, Radler en Apple Bandit.\nWe zorgen voor een hapje tussendoor en zetten zoutjes op tafel.\nEigen bijdrage € 3\,50 pp (via automatische incasso)
URL:https://meedoensenb.nl/evenement/amigo-cafe-2/
LOCATION:Oase Son\, Dommelstraat 10a\, Son en Breugel\, Nederland
ATTACH;FMTTYPE=image/png:https://meedoensenb.nl/wp-content/uploads/2024/09/Poster-Amigo-Cafe.png
END:VEVENT
END:VCALENDAR