BEGIN:VCALENDAR
VERSION:2.0
PRODID:-//Stichting MeeDoen S&amp;B - ECPv6.15.20//NONSGML v1.0//EN
CALSCALE:GREGORIAN
METHOD:PUBLISH
X-ORIGINAL-URL:https://meedoensenb.nl
X-WR-CALDESC:Evenementen voor Stichting MeeDoen S&amp;B
REFRESH-INTERVAL;VALUE=DURATION:PT1H
X-Robots-Tag:noindex
X-PUBLISHED-TTL:PT1H
BEGIN:VTIMEZONE
TZID:Europe/Amsterdam
BEGIN:DAYLIGHT
TZOFFSETFROM:+0100
TZOFFSETTO:+0200
TZNAME:CEST
DTSTART:20230326T010000
END:DAYLIGHT
BEGIN:STANDARD
TZOFFSETFROM:+0200
TZOFFSETTO:+0100
TZNAME:CET
DTSTART:20231029T010000
END:STANDARD
BEGIN:DAYLIGHT
TZOFFSETFROM:+0100
TZOFFSETTO:+0200
TZNAME:CEST
DTSTART:20240331T010000
END:DAYLIGHT
BEGIN:STANDARD
TZOFFSETFROM:+0200
TZOFFSETTO:+0100
TZNAME:CET
DTSTART:20241027T010000
END:STANDARD
BEGIN:DAYLIGHT
TZOFFSETFROM:+0100
TZOFFSETTO:+0200
TZNAME:CEST
DTSTART:20250330T010000
END:DAYLIGHT
BEGIN:STANDARD
TZOFFSETFROM:+0200
TZOFFSETTO:+0100
TZNAME:CET
DTSTART:20251026T010000
END:STANDARD
END:VTIMEZONE
BEGIN:VEVENT
DTSTART;TZID=Europe/Amsterdam:20241203T193000
DTEND;TZID=Europe/Amsterdam:20241203T210000
DTSTAMP:20260423T094809
CREATED:20241205T132830Z
LAST-MODIFIED:20241205T132851Z
UID:10751-1733254200-1733259600@meedoensenb.nl
SUMMARY:Dungeons & Dragons spel
DESCRIPTION:Graag nodigen wij jullie uit voor een nieuwe activiteit: het avontuurlijke spel Dungeons & Dragons.  \nWat is Dungeons & Dragons? \nDungeon & Dragons speel je in een ‘fantasiewereld’ waarin de spelers samen avonturen gaan beleven. Onze Dungeon Master Seth weet wat\, waar en wanneer er iets kan gebeuren en hij leidt het spel. Tijdens het spel neem je een karakter aan en ga je uitdagingen aan\, die de Dungeon Master aan je geeft. \nWe spelen het spel om de week en gaan dit voor de kerstvakantie 3x uitproberen. \n\nHeb je een rijke fantasie?\nBen je geïnteresseerd in ridders\, elfen\, dwergen\, draken\, tovenaars\, magische wezens en de middeleeuwse wereld?\nKun je zelfstandig rekenen met dobbelstenen (optellen/aftrekken)?\nHeb je enige kennis van de Engelse taal?\nBen je om de week beschikbaar op dinsdag?\n\nDan is het spelen van Dungeon & Dragons wat voor jou! \n  \nExtra informatie: \n\nEr kunnen max. 6 spelers meedoen.\nWe starten met 3 bijeenkomsten op dinsdag 19 november\, 3 december en 17 december van 19.30-21.00u in het Dommelhuis in Son. Wij zorgen voor alle materialen en voor wat te drinken. De 3 proefsessies zijn gratis.\nIedereen die kan meedoen heeft een mail ontvangen.\n\nJE KUNT NIET MEER AANMELDEN VOOR DEZE ACTIVITEIT. DE GROEP IS HELAAS VOL.
URL:https://meedoensenb.nl/evenement/dungeons-dragons-spel-2/
LOCATION:Noord Brabant
ATTACH;FMTTYPE=image/jpeg:https://meedoensenb.nl/wp-content/uploads/2024/12/Foto-website.jpg
END:VEVENT
BEGIN:VEVENT
DTSTART;TZID=Europe/Amsterdam:20241214T140000
DTEND;TZID=Europe/Amsterdam:20241214T153000
DTSTAMP:20260423T094809
CREATED:20240123T090510Z
LAST-MODIFIED:20241202T134248Z
UID:9610-1734184800-1734190200@meedoensenb.nl
SUMMARY:LEGO-LAB 'kerst winterdorp'
DESCRIPTION:Bouw jij graag met LEGO? En vind je dat ook leuk om in groepsverband te doen? Dan ben je op zaterdag 14 december van 14.00-15.30u van harte welkom bij de het LEGO-LAB (van de LEVgroep) in het Dommelhuis in Son. \nWat gaan we doen? \nOm 14.00u wordt er gestart met een korte uitleg wat we gaan bouwen. Er is een ‘Brick-shop’ met bakken lego; iedereen krijgt een klein bakje waarin je legoblokjes kunt verzamelen. Daarna ga je naar je eigen plek om te bouwen. Deze keer is het thema “kerst winterdorp”: na het succes van afgelopen jaar gaan we weer een gezamenlijk kerst- winterdorp maken. Je mag bouwen wat je zelf wilt en bij dit thema past; onze vrijwilligers helpen als dat nodig is. \nWij zitten met onze MeeDoen groep in een aparte ruimte waar het rustig is. Lego bouwen is leuk: je leert creatief denken\, problemen oplossen en samenwerken. \nWe gaan er weer een leuke activiteit van maken! \nBelangrijke info: \n\nDit is een activiteit van de LEVgroep. Elke maand wordt er gebouwd in een ander thema.\nBij voldoende aanmeldingen sluiten wij aan met een groepje MeeDoen jongeren met vaste vrijwilligers en een vrijwilliger van de LEGO-club.\nWij verzamelen beneden in de foyer en gaan daarna aan de slag in een rustige ruimte.\nOm 15.30u is de activiteit afgelopen en kunnen je ouders je weer ophalen.\nAanmelden via de mail info@meedoensenb.nl\n\n 
URL:https://meedoensenb.nl/evenement/lego-lab-10/
LOCATION:Noord Brabant
ATTACH;FMTTYPE=image/jpeg:https://meedoensenb.nl/wp-content/uploads/2024/01/Foto-LEGOlab-Kerst.jpg
END:VEVENT
BEGIN:VEVENT
DTSTART;TZID=Europe/Amsterdam:20241217T190000
DTEND;TZID=Europe/Amsterdam:20241217T210000
DTSTAMP:20260423T094809
CREATED:20241205T133027Z
LAST-MODIFIED:20241205T133319Z
UID:10754-1734462000-1734469200@meedoensenb.nl
SUMMARY:Dungeons & Dragons spel
DESCRIPTION:Graag nodigen wij jullie uit voor een nieuwe activiteit: het avontuurlijke spel Dungeons & Dragons.  \nWat is Dungeons & Dragons? \nDungeon & Dragons speel je in een ‘fantasiewereld’ waarin de spelers samen avonturen gaan beleven. Onze Dungeon Master Seth weet wat\, waar en wanneer er iets kan gebeuren en hij leidt het spel. Tijdens het spel neem je een karakter aan en ga je uitdagingen aan\, die de Dungeon Master aan je geeft. \nWe spelen het spel om de week en gaan dit voor de kerstvakantie 3x uitproberen. \n\nHeb je een rijke fantasie?\nBen je geïnteresseerd in ridders\, elfen\, dwergen\, draken\, tovenaars\, magische wezens en de middeleeuwse wereld?\nKun je zelfstandig rekenen met dobbelstenen (optellen/aftrekken)?\nHeb je enige kennis van de Engelse taal?\nBen je om de week beschikbaar op dinsdag?\n\nDan is het spelen van Dungeon & Dragons wat voor jou! \n  \nExtra informatie: \n\nEr kunnen max. 6 spelers meedoen.\nWe starten met 3 bijeenkomsten op dinsdag 19 november\, 3 december en 17 december van 19.00-21.00u in het Dommelhuis in Son. Wij zorgen voor alle materialen en voor wat te drinken. De 3 proefsessies zijn gratis.\nIedereen die kan meedoen heeft een mail ontvangen.\nLet op: op 17 december starten we om 19.00u (ipv 19.30u)\n\nJE KUNT NIET MEER AANMELDEN VOOR DEZE ACTIVITEIT. DE GROEP IS HELAAS VOL.
URL:https://meedoensenb.nl/evenement/dungeons-dragons-spel-3/
LOCATION:Dommelhuis\, Kerkplein 5\, Son en Breugel\, Noord Brabant\, Nederland
ATTACH;FMTTYPE=image/jpeg:https://meedoensenb.nl/wp-content/uploads/2024/12/Foto-website.jpg
END:VEVENT
BEGIN:VEVENT
DTSTART;TZID=Europe/Amsterdam:20241218T191500
DTEND;TZID=Europe/Amsterdam:20241218T204500
DTSTAMP:20260423T094809
CREATED:20240718T092823Z
LAST-MODIFIED:20241211T184127Z
UID:10230-1734549300-1734554700@meedoensenb.nl
SUMMARY:Crea-activiteit Houten Kerstdorpje
DESCRIPTION:Het is weer tijd voor een leuke crea-activiteit. Omdat het binnenkort Kerst is\, gaan we deze keer een Houten Kerstdorpje maken. \nOp het houten dienblad maken we het kersttafereel. Iedereen krijgt een kerststalletje\, we maken een wandelpad\, een kampvuur en gebruiken allerlei natuurlijke kerstmaterialen om het dorp aan te kleden We leggen alles stap voor stap uit tijdens de avond zelf. Er is een voorbeeld aanwezig\, zodat je kunt zien hoe het kerstdorpje eruit kan komen te zien. \nHet wordt weer een super leuke activiteit! Meld je aan en doe gezellig mee! \n\nAanmelden vóór 8 december via mail: info@meedoensenb.nl\nEr zijn voldoende vrijwilligers om jullie te helpen.\nTussendoor eten en drinken we wat lekkers.\nLet op: we starten deze keer om 19.15u en om 20.45u is de activiteit afgelopen.\n\nDeze activiteit is volgeboekt. Als je nog wilt aanmelden word je op de wachtlijst geplaatst. \n  \n  \n  \n  \n  \n  \n 
URL:https://meedoensenb.nl/evenement/crea-activiteit-kerst/
LOCATION:Oase Son\, Dommelstraat 10a\, Son en Breugel\, Nederland
ATTACH;FMTTYPE=image/jpeg:https://meedoensenb.nl/wp-content/uploads/2024/07/Foto-8.jpg
END:VEVENT
BEGIN:VEVENT
DTSTART;TZID=Europe/Amsterdam:20241230T091000
DTEND;TZID=Europe/Amsterdam:20241230T101500
DTSTAMP:20260423T094809
CREATED:20241029T105329Z
LAST-MODIFIED:20241224T131344Z
UID:10619-1735549800-1735553700@meedoensenb.nl
SUMMARY:Winter Event - schaatsuurtje
DESCRIPTION:Dit jaar is er weer een schaatsbaan in het centrum van Son. \nWij zijn erg blij jullie te kunnen melden dat we samen met de organisatie van het Winter Event Son en Breugel een uurtje schaatsen hebben kunnen regelen voor jullie! \nJullie mogen maandag 30 december van 9.10-10.15 uur schaatsen op de ijsbaan in Son. \nDe ijsbaan is dan alleen open voor jongeren van MeeDoen. Het is dus lekker rustig en er wordt geen harde muziek gedraaid. Het maakt niet uit of je nog nooit geschaatst hebt of al goed kunt schaatsen. Er is genoeg ruimte voor iedereen. \nKom gezellig meedoen op 30 december!\n\nZorg ervoor dat je om 9.10u aanwezig bent bij de schaatsbaan voor de uitgifte van de schaatsen (heb je eigen schaatsen dan mag je die ook meenemen) .\nNaast onze vaste vrijwilligers zijn ook de dames van de Ladies Circle uit Son zijn er weer bij om te helpen. Super leuk!\nNa afloop drinken we samen nog wat in ijscafé Wunderbar (naast de ijsbaan). Om 10.15u kunnen je ouders je daar weer ophalen.\nVergeet niet je handschoenen mee te nemen (= verplicht)!\nDeze activiteit is gratis.\n Vind je het leuk om je broer\, zus\, vriend of vriendin mee te nemen? Dat mag! Ouders zijn ook van harte welkom om mee te schaatsen. Geef dat even door bij de aanmelding.\nJe kunt je aanmelden via de mail info@meedoensenb.nl\n\n 
URL:https://meedoensenb.nl/evenement/winter-event-schaatsuurtje-2/
LOCATION:Noord Brabant
ATTACH;FMTTYPE=image/jpeg:https://meedoensenb.nl/wp-content/uploads/2024/01/foto1-1.jpg
END:VEVENT
END:VCALENDAR